Uber Exif Photo
By-line : Brandon Skinner
Keywords : "gaslamp district", "new years eve", "san diego", "street photography", gaslamp
Copyright Notice : Brandon Skinner Photography
Copyright Flag : True
URL : www.skinnerphotographs.com
Photometric Interpretation : RGB
Make : Leica Camera AG
Camera Model Name : M8 Digital Camera
Orientation : Horizontal (normal)
Software : Adobe Photoshop CS5 Windows
Modify Date : 2012:01:03 20:34:12
Artist : Brandon Skinner
Copyright : Brandon Skinner Photography
Exposure Time : 1/11
F Number : 8.0
Exposure Program : Manual
ISO : 320
Date/Time Original : 2011:12:31 23:08:45
Create Date : 2011:12:31 23:08:45
Shutter Speed Value : 1/11
Aperture Value : 8.0
Exposure Compensation : 0
Max Aperture Value : 1.0
Metering Mode : Center-weighted average
Light Source : Unknown
Flash : On, Did not fire
Color Space : sRGB
Exif Image Width : 2422
Exif Image Height : 1872
Scene Type : Directly photographed
White Balance : Manual
Digital Zoom Ratio : 0
Scene Capture Type : Standard
Serial Number : 3106126
Profile Description : sRGB IEC61966-2.1
Creator Tool : Adobe Photoshop CS5 Windows
Date Created : 2011:12:31 23:08:45
Color Mode : RGB
ICC Profile Name : sRGB IEC61966-2.1
Marked : True
Web Statement : www.skinnerphotographs.com
Version : 6.5
Process Version : 5.7
Color Temperature : 50000
Tint : +150
Exposure : 0.00
Shadows : 5
Brightness : +104
Contrast : +25
Sharpness : 25
Luminance Smoothing : 0
Color Noise Reduction : 25
Chromatic Aberration R : 0
Chromatic Aberration B : 0
Vignette Amount : 0
Shadow Tint : 0
Red Hue : 0
Red Saturation : 0
Green Hue : 0
Green Saturation : 0
Blue Hue : 0
Blue Saturation : 0
Fill Light : 20
Highlight Recovery : 0
Clarity : +69
Defringe : 0
Gray Mixer Red : -7
Gray Mixer Orange : -15
Gray Mixer Yellow : -18
Gray Mixer Green : -24
Gray Mixer Aqua : -18
Gray Mixer Blue : +8
Gray Mixer Purple : +14
Gray Mixer Magenta : +4
Split Toning Shadow Hue : 0
Split Toning Shadow Saturation : 0
Split Toning Highlight Hue : 0
Split Toning Highlight Saturation : 0
Split Toning Balance : 0
Parametric Shadows : 0
Parametric Darks : 0
Parametric Lights : 0
Parametric Highlights : 0
Parametric Shadow Split : 25
Parametric Midtone Split : 50
Parametric Highlight Split : 75
Sharpen Radius : +1.0
Sharpen Detail : 25
Sharpen Edge Masking : 0
Post Crop Vignette Amount : 0
Grain Amount : 0
Color Noise Reduction Detail : 50
Lens Profile Enable : 0
Lens Manual Distortion Amount : 0
Perspective Vertical : 0
Perspective Horizontal : 0
Perspective Rotate : 0.0
Perspective Scale : 100
Convert To Grayscale : True
Tone Curve Name : Medium Contrast
Camera Profile : Adobe Standard
Lens Profile Setup : LensDefaults
Has Settings : True
Crop Top : 0.236173
Crop Left : 0.379017
Crop Bottom : 0.942097
Crop Right : 1
Crop Angle : -0.291609
Crop Constrain To Warp : 0
Crop Width : 2422
Crop Height : 1872
Crop Unit : pixels
Has Crop : True
Already Applied : True
Format : image/jpeg
Tone Curve : 0, 0, 32, 22, 64, 56, 128, 128, 192, 196, 255, 255
Paint Correction What : Correction
Paint Correction Amount : 1.000000
Paint Correction Active : true
Paint Correction Exposure : 0.093000
Paint Correction Saturation : 0.000000
Paint Correction Contrast : 0.209300
Paint Correction Clarity : 0.000000
Paint Correction Sharpness : 0.000000
Paint Correction Brightness : 0.000000
Paint Correction Toning Hue : 240.000000
Paint Correction Toning Saturation : 0.000000
Paint Correction Mask What : Mask/Paint
Paint Correction Mask Value : 0.690000
Paint Correction Mask Radius : 0.028926
Paint Correction Mask Flow : 0.111000
Paint Correction Mask Center Weight : 0.587312
Gradient Based Corr What : Correction
Gradient Based Corr Amount : 1.000000
Gradient Based Corr Active : true
Gradient Based Corr Exposure : 0.000000
Gradient Based Corr Saturation : 0.000000
Gradient Based Corr Contrast : 0.000000
Gradient Based Corr Clarity : -0.093020
Gradient Based Corr Sharpness : 0.000000
Gradient Based Corr Brightness : -0.093025
Gradient Based Corr Toning Hue : 240.000000
Gradient Based Corr Toning Saturation : 0.000000
Gradient Based Corr Mask What : Mask/Gradient
Gradient Based Corr Mask Value : 1.000000
Gradient Based Corr Mask Zero X : 0.628700
Gradient Based Corr Mask Zero Y : 0.406296
Gradient Based Corr Mask Full X : 0.445754
Gradient Based Corr Mask Full Y : 1.046550
Creator : Brandon Skinner
Rights : Brandon Skinner Photography
Subject : "gaslamp district", "new years eve", "san diego", "street photography", gaslamp
Creator Postal Code : 92024
Creator City : Encinitas, CA
Creator Country : USA
Creator Work Email : skinnerphotographs@gmail.com
Creator Work URL : www.skinnerphotographs.com
Image Width : 300
Image Height : 232
Bits Per Sample : 8
Color Components : 3
Aperture : 8.0
Image Size : 300x232
Megapixels : 0.070
Scale Factor To 35 mm Equivalent : 2.1
Shutter Speed : 1/11
Circle Of Confusion : 0.014 mm
Light Value : 7.8