Uber Exif Photo
Make : Panasonic
Camera Model Name : DMC-GF1
Orientation : Horizontal (normal)
Software : Adobe Photoshop CS4 Windows
Modify Date : 2012:01:26 23:39:09
Exposure Time : 1/60
F Number : 1.4
Exposure Program : Aperture-priority AE
ISO : 400
Date/Time Original : 2012:01:09 14:48:52
Create Date : 2012:01:09 14:48:52
Shutter Speed Value : 1/60
Aperture Value : 1.4
Exposure Compensation : 0
Max Aperture Value : 1.4
Metering Mode : Multi-segment
Light Source : Unknown
Focal Length : 25.0 mm
Color Space : sRGB
Exif Image Width : 1200
Exif Image Height : 1599
Sensing Method : One-chip color area
Scene Type : Directly photographed
Custom Rendered : Normal
Exposure Mode : Auto
White Balance : Auto
Digital Zoom Ratio : 0
Focal Length In 35mm Format : 50 mm
Scene Capture Type : Standard
Gain Control : High gain up
Contrast : Normal
Saturation : Normal
Sharpness : Hard
Lens Model : LEICA DG SUMMILUX 25/F1.4
Lens Serial Number : 11101100058
Lens : LEICA DG SUMMILUX 25/F1.4
Creator Tool : Adobe Photoshop Lightroom 3.6 (Windows)
Date Created : 2012:01:09
Color Mode : RGB
ICC Profile Name : sRGB IEC61966-2.1
Format : image/jpeg
Version : 6.6
Process Version : 5.7
Color Temperature : 4250
Tint : -1
Exposure : 0.00
Shadows : 41
Brightness : +50
Luminance Smoothing : 0
Color Noise Reduction : 25
Chromatic Aberration R : 0
Chromatic Aberration B : 0
Vignette Amount : 0
Shadow Tint : 0
Red Hue : 0
Red Saturation : 0
Green Hue : 0
Green Saturation : 0
Blue Hue : 0
Blue Saturation : 0
Fill Light : 0
Vibrance : 0
Highlight Recovery : 0
Clarity : 0
Defringe : 0
Hue Adjustment Red : 0
Hue Adjustment Orange : 0
Hue Adjustment Yellow : 0
Hue Adjustment Green : 0
Hue Adjustment Aqua : 0
Hue Adjustment Blue : 0
Hue Adjustment Purple : 0
Hue Adjustment Magenta : 0
Saturation Adjustment Red : 0
Saturation Adjustment Orange : 0
Saturation Adjustment Yellow : 0
Saturation Adjustment Green : 0
Saturation Adjustment Aqua : 0
Saturation Adjustment Blue : 0
Saturation Adjustment Purple : 0
Saturation Adjustment Magenta : 0
Luminance Adjustment Red : 0
Luminance Adjustment Orange : 0
Luminance Adjustment Yellow : 0
Luminance Adjustment Green : 0
Luminance Adjustment Aqua : 0
Luminance Adjustment Blue : 0
Luminance Adjustment Purple : 0
Luminance Adjustment Magenta : 0
Split Toning Shadow Hue : 0
Split Toning Shadow Saturation : 0
Split Toning Highlight Hue : 0
Split Toning Highlight Saturation : 0
Split Toning Balance : 0
Parametric Shadows : 0
Parametric Darks : -1
Parametric Lights : +9
Parametric Highlights : 0
Parametric Shadow Split : 25
Parametric Midtone Split : 50
Parametric Highlight Split : 75
Sharpen Radius : +1.1
Sharpen Detail : 38
Sharpen Edge Masking : 0
Post Crop Vignette Amount : 0
Grain Amount : 0
Color Noise Reduction Detail : 50
Lens Profile Enable : 0
Lens Manual Distortion Amount : 0
Perspective Vertical : 0
Perspective Horizontal : 0
Perspective Rotate : 0.0
Perspective Scale : 100
Convert To Grayscale : False
Tone Curve Name : Medium Contrast
Camera Profile : Adobe Standard
Lens Profile Setup : LensDefaults
Has Settings : True
Crop Top : 0.020364
Crop Left : 0.006102
Crop Bottom : 0.979636
Crop Right : 0.993898
Crop Angle : -0.802457
Crop Constrain To Warp : 0
Crop Width : 3910
Crop Height : 2933
Crop Unit : pixels
Has Crop : True
Already Applied : True
Date/Time Digitized : 2012:01:09 14:48:52-05:00
Tone Curve : 0, 0, 32, 22, 64, 56, 128, 128, 192, 196, 255, 255
Flash Fired : False
Flash Return : No return detection
Flash Mode : Off
Flash Function : False
Flash Red Eye Mode : False
Image Width : 225
Image Height : 300
Bits Per Sample : 8
Color Components : 1
Aperture : 1.4
Image Size : 225x300
Megapixels : 0.068
Scale Factor To 35 mm Equivalent : 2.0
Shutter Speed : 1/60
Flash : Off, Did not fire
Circle Of Confusion : 0.015 mm
Field Of View : 39.6 deg
Focal Length : 25.0 mm (35 mm equivalent: 50.0 mm)
Hyperfocal Distance : 29.72 m
Light Value : 4.9
Lens ID : LEICA DG SUMMILUX 25mm F1.4