Uber Exif Photo
Object Name : NEX-7 with Leica APO-Summicron 75mm
Keywords : 75mm, nex-7
Copyright Notice : dierk topp
Caption-Abstract : studio flash in light tent at f/8
Copyright Flag : True
Image Description : studio flash in light tent at f/8
Make : SONY
Camera Model Name : NEX-7
Software : Adobe Photoshop Lightroom 3.6 (Windows)
Modify Date : 2012:01:04 21:59:38
Copyright : dierk topp
Exposure Time : 1/125
Exposure Program : Shutter speed priority AE
ISO : 100
Date/Time Original : 2012:01:04 15:23:27
Create Date : 2012:01:04 15:23:27
Shutter Speed Value : 1/125
Brightness Value : -9.2484375
Exposure Compensation : 0
Max Aperture Value : 1.0
Metering Mode : Multi-segment
Light Source : Unknown
Flash : Off, Did not fire
Color Space : Uncalibrated
Scene Type : Directly photographed
Custom Rendered : Normal
Exposure Mode : Auto
White Balance : Auto
Scene Capture Type : Standard
Contrast : Normal
Saturation : Normal
Sharpness : Normal
Profile Description : sRGB IEC61966-2.1
Lens : ----
Description : studio flash in light tent at f/8
Format : image/jpeg
Rights : dierk topp
Subject : 75mm, nex-7
Title : NEX-7 with Leica APO-Summicron 75mm
Date Created : 2012:01:04 15:23:27
Property Release Status : Unknown (nil)
PLUS Version : 1.2.0
Creator Tool : Adobe Photoshop Lightroom 3.6 (Windows)
Label : Blau
Rating : 5
Marked : True
Already Applied : True
Blue Hue : 0
Blue Saturation : 0
Brightness : +50
Camera Profile : Adobe Standard
Chromatic Aberration B : 0
Chromatic Aberration R : 0
Clarity : 0
Color Noise Reduction : 25
Convert To Grayscale : False
Crop Angle : 0
Crop Bottom : 1
Crop Height : 1000
Crop Left : 0.140468
Crop Right : 0.924192
Crop Top : 0
Crop Unit : pixels
Crop Width : 1176
Defringe : 0
Exposure : 0.00
Fill Light : 5
Green Hue : 0
Green Saturation : 0
Has Crop : True
Has Settings : True
Highlight Recovery : 15
Hue Adjustment Aqua : 0
Hue Adjustment Blue : 0
Hue Adjustment Green : 0
Hue Adjustment Magenta : 0
Hue Adjustment Orange : 0
Hue Adjustment Purple : 0
Hue Adjustment Red : 0
Hue Adjustment Yellow : 0
Luminance Adjustment Aqua : 0
Luminance Adjustment Blue : 0
Luminance Adjustment Green : 0
Luminance Adjustment Magenta : 0
Luminance Adjustment Orange : 0
Luminance Adjustment Purple : 0
Luminance Adjustment Red : 0
Luminance Adjustment Yellow : 0
Luminance Smoothing : 0
Parametric Darks : -15
Parametric Highlight Split : 75
Parametric Highlights : 0
Parametric Lights : +10
Parametric Midtone Split : 50
Parametric Shadow Split : 25
Parametric Shadows : -1
Post Crop Vignette Amount : -24
Post Crop Vignette Feather : 50
Post Crop Vignette Midpoint : 50
Post Crop Vignette Roundness : 0
Red Hue : 0
Red Saturation : 0
Saturation Adjustment Aqua : 0
Saturation Adjustment Blue : 0
Saturation Adjustment Green : 0
Saturation Adjustment Magenta : 0
Saturation Adjustment Orange : 0
Saturation Adjustment Purple : 0
Saturation Adjustment Red : 0
Saturation Adjustment Yellow : 0
Shadow Tint : 0
Shadows : 7
Sharpen Detail : 34
Sharpen Edge Masking : 0
Sharpen Radius : +1.0
Split Toning Balance : 0
Split Toning Highlight Hue : 0
Split Toning Highlight Saturation : 0
Split Toning Shadow Hue : 0
Split Toning Shadow Saturation : 0
Color Temperature : 5050
Tint : -12
Tone Curve : 0, 0, 32, 22, 64, 56, 128, 128, 192, 196, 255, 255
Tone Curve Name : Medium Contrast
Version : 6.6
Vibrance : 0
Vignette Amount : 0
Image Width : 300
Image Height : 258
Bits Per Sample : 8
Color Components : 3
Image Size : 300x258
Megapixels : 0.077
Shutter Speed : 1/125