Uber Exif Photo
By-line : Joe Gilbert
Keywords : kidd
Copyright Notice : Joe Gilbert
Copyright Flag : True
URL : www.artoflightgallery.com
Photometric Interpretation : RGB
Make : LEICA CAMERA AG
Camera Model Name : LEICA X1
Orientation : Horizontal (normal)
Planar Configuration : Chunky
Software : Adobe Photoshop CS4 Macintosh
Modify Date : 2011:12:04 18:54:02
Artist : Joe Gilbert
Copyright : Joe Gilbert
Exposure Time : 1/60
F Number : 2.8
Exposure Program : Manual
ISO : 3200
Date/Time Original : 2011:12:02 21:25:37
Create Date : 2011:12:02 21:25:37
Shutter Speed Value : 1/60
Aperture Value : 2.8
Exposure Compensation : 0
Max Aperture Value : 2.8
Subject Distance : 0.83 m
Metering Mode : Multi-segment
Light Source : Unknown
Focal Length : 24.0 mm
Color Space : sRGB
Exif Image Width : 1103
Exif Image Height : 883
Sensing Method : One-chip color area
Custom Rendered : Custom
White Balance : Auto
Digital Zoom Ratio : 1
Focal Length In 35mm Format : 36 mm
Scene Capture Type : Landscape
Contrast : Normal
Saturation : Normal
Sharpness : Normal
Samples Per Pixel : 3
Date/Time Digitized : 2011:12:02 21:25:37-06:00
Creator Tool : Adobe Photoshop Lightroom
Marked : True
Web Statement : www.artoflightgallery.com
Format : image/jpeg
Version : 5.7
Incremental Temperature : 0
Incremental Tint : 0
Exposure : 0.00
Shadows : 13
Brightness : +54
Luminance Smoothing : 10
Color Noise Reduction : 0
Chromatic Aberration R : 0
Chromatic Aberration B : 0
Vignette Amount : 0
Shadow Tint : 0
Red Hue : 0
Red Saturation : 0
Green Hue : 0
Green Saturation : 0
Blue Hue : 0
Blue Saturation : 0
Fill Light : 27
Highlight Recovery : 21
Clarity : +25
Defringe : 0
Gray Mixer Red : +31
Gray Mixer Orange : 0
Gray Mixer Yellow : 0
Gray Mixer Green : +36
Gray Mixer Aqua : 0
Gray Mixer Blue : +33
Gray Mixer Purple : 0
Gray Mixer Magenta : 0
Split Toning Shadow Hue : 0
Split Toning Shadow Saturation : 0
Split Toning Highlight Hue : 0
Split Toning Highlight Saturation : 0
Split Toning Balance : 0
Parametric Shadows : 0
Parametric Darks : 0
Parametric Lights : 0
Parametric Highlights : 0
Parametric Shadow Split : 25
Parametric Midtone Split : 50
Parametric Highlight Split : 75
Sharpen Radius : +0.6
Sharpen Detail : 98
Sharpen Edge Masking : 0
Post Crop Vignette Amount : -30
Post Crop Vignette Midpoint : 50
Post Crop Vignette Feather : 61
Post Crop Vignette Roundness : 0
Convert To Grayscale : True
Tone Curve Name : Medium Contrast
Camera Profile : Embedded
Has Settings : True
Crop Top : 0
Crop Left : 0.056497
Crop Bottom : 1
Crop Right : 0.892171
Crop Angle : 0
Crop Width : 3120
Crop Height : 2496
Crop Unit : pixels
Has Crop : True
Already Applied : True
Color Mode : RGB
ICC Profile Name : sRGB IEC61966-2.1
Flash Fired : False
Flash Return : No return detection
Flash Mode : Off
Flash Function : False
Flash Red Eye Mode : False
Creator Postal Code : 70808
Creator Region : LA
Creator City : Baton Rouge
Creator Address : 8867 Highland Road, Box 272
Creator Work URL : www.artoflightgallery.com
Creator : Joe Gilbert
Rights : Joe Gilbert
Subject : kidd
Tone Curve : 0, 0, 32, 22, 64, 56, 128, 128, 192, 196, 255, 255
Image Width : 300
Image Height : 240
Bits Per Sample : 8
Color Components : 1
Aperture : 2.8
Image Size : 300x240
Megapixels : 0.072
Scale Factor To 35 mm Equivalent : 1.5
Shutter Speed : 1/60
Flash : Off, Did not fire
Circle Of Confusion : 0.020 mm
Depth Of Field : 0.13 m (0.77 - 0.90 m)
Field Of View : 53.1 deg
Focal Length : 24.0 mm (35 mm equivalent: 36.0 mm)
Hyperfocal Distance : 10.27 m
Light Value : 3.9