Uber Exif Photo
Photometric Interpretation : RGB
Make : Leica Camera AG
Camera Model Name : M8 Digital Camera
Orientation : Horizontal (normal)
Software : Adobe Photoshop CS5 Macintosh
Modify Date : 2011:11:20 18:47:57
Exposure Time : 1/350
F Number : 13.0
Exposure Program : Aperture-priority AE
ISO : 160
Date/Time Original : 2011:11:17 13:29:27
Create Date : 2011:11:17 13:29:27
Shutter Speed Value : 1/350
Aperture Value : 13.0
Exposure Compensation : 0
Max Aperture Value : 1.0
Metering Mode : Center-weighted average
Light Source : Unknown
Flash : Auto, Did not fire
Color Space : Uncalibrated
Exif Image Width : 1024
Exif Image Height : 689
Scene Type : Directly photographed
White Balance : Manual
Digital Zoom Ratio : 0
Scene Capture Type : Standard
Serial Number : 3104624
Profile Description : Adobe RGB (1998)
Creator Tool : Adobe Photoshop Lightroom 3.5 (Macintosh)
Date Created : 2011:11:17 13:29:27
Color Mode : RGB
ICC Profile Name : Adobe RGB (1998)
Version : 6.5
Process Version : 5.7
Color Temperature : 6214
Tint : +24
Exposure : -0.05
Shadows : 40
Brightness : +45
Contrast : +54
Saturation : -48
Sharpness : 51
Luminance Smoothing : 0
Color Noise Reduction : 26
Chromatic Aberration R : 0
Chromatic Aberration B : 0
Vignette Amount : -48
Vignette Midpoint : 20
Shadow Tint : 0
Red Hue : 0
Red Saturation : 0
Green Hue : 0
Green Saturation : 0
Blue Hue : 0
Blue Saturation : 0
Fill Light : 40
Vibrance : +40
Highlight Recovery : 0
Clarity : +43
Defringe : 0
Hue Adjustment Red : 0
Hue Adjustment Orange : 0
Hue Adjustment Yellow : 0
Hue Adjustment Green : 0
Hue Adjustment Aqua : 0
Hue Adjustment Blue : 0
Hue Adjustment Purple : 0
Hue Adjustment Magenta : 0
Saturation Adjustment Red : 0
Saturation Adjustment Orange : 0
Saturation Adjustment Yellow : 0
Saturation Adjustment Green : 0
Saturation Adjustment Aqua : 0
Saturation Adjustment Blue : 0
Saturation Adjustment Purple : 0
Saturation Adjustment Magenta : 0
Luminance Adjustment Red : 0
Luminance Adjustment Orange : 0
Luminance Adjustment Yellow : 0
Luminance Adjustment Green : 0
Luminance Adjustment Aqua : 0
Luminance Adjustment Blue : 0
Luminance Adjustment Purple : 0
Luminance Adjustment Magenta : 0
Split Toning Shadow Hue : 55
Split Toning Shadow Saturation : 0
Split Toning Highlight Hue : 55
Split Toning Highlight Saturation : 31
Split Toning Balance : +53
Parametric Shadows : +22
Parametric Darks : +78
Parametric Lights : 0
Parametric Highlights : +36
Parametric Shadow Split : 14
Parametric Midtone Split : 50
Parametric Highlight Split : 75
Sharpen Radius : +1.0
Sharpen Detail : 27
Sharpen Edge Masking : 50
Post Crop Vignette Amount : 0
Grain Amount : 0
Color Noise Reduction Detail : 50
Lens Profile Enable : 0
Lens Manual Distortion Amount : 0
Perspective Vertical : 0
Perspective Horizontal : 0
Perspective Rotate : 0.0
Perspective Scale : 100
Convert To Grayscale : False
Tone Curve Name : Medium Contrast
Camera Profile : ACR 4.4
Lens Profile Setup : LensDefaults
Has Settings : True
Crop Top : 0
Crop Left : 0.030505
Crop Bottom : 1
Crop Right : 0.969495
Crop Angle : 1.68932
Crop Constrain To Warp : 0
Crop Width : 1024
Crop Height : 689
Crop Unit : pixels
Has Crop : True
Already Applied : True
Format : image/jpeg
Tone Curve : 0, 0, 32, 22, 64, 56, 128, 128, 192, 196, 255, 255
Paint Correction What : Correction
Paint Correction Amount : 1.000000
Paint Correction Active : true
Paint Correction Exposure : 0.090724
Paint Correction Saturation : 0.000000
Paint Correction Contrast : 0.000000
Paint Correction Clarity : 0.000000
Paint Correction Sharpness : 0.000000
Paint Correction Brightness : 0.000000
Paint Correction Toning Hue : 240.000000
Paint Correction Toning Saturation : 0.000000
Paint Correction Mask What : Mask/Paint
Paint Correction Mask Value : 0.000000
Paint Correction Mask Radius : 0.003352
Paint Correction Mask Flow : 0.807257
Paint Correction Mask Center Weight : 0.092766
Image Width : 300
Image Height : 202
Bits Per Sample : 8
Color Components : 3
Aperture : 13.0
Image Size : 300x202
Megapixels : 0.061
Scale Factor To 35 mm Equivalent : 5.2
Shutter Speed : 1/350
Circle Of Confusion : 0.006 mm
Light Value : 15.2