Uber Exif Photo
Keywords : Kodak Tri-X 400, Leica, M6TTL, Minneapolis, Summicron 50 rigid, analog, film, self-developed
Software : Adobe Photoshop Lightroom 3.4.1
Modify Date : 2011:08:14 21:32:35
Creator Tool : Adobe Photoshop Lightroom 3.4.1
Version : 6.4.1
Process Version : 5.7
White Balance : As Shot
Incremental Temperature : 0
Incremental Tint : 0
Exposure : +0.30
Shadows : 1
Brightness : 0
Contrast : 0
Sharpness : 60
Luminance Smoothing : 0
Color Noise Reduction : 0
Chromatic Aberration R : 0
Chromatic Aberration B : 0
Vignette Amount : 0
Shadow Tint : 0
Red Hue : 0
Red Saturation : 0
Green Hue : 0
Green Saturation : 0
Blue Hue : 0
Blue Saturation : 0
Fill Light : 0
Highlight Recovery : 0
Clarity : 0
Defringe : 0
Gray Mixer Red : 0
Gray Mixer Orange : 0
Gray Mixer Yellow : 0
Gray Mixer Green : 0
Gray Mixer Aqua : 0
Gray Mixer Blue : 0
Gray Mixer Purple : 0
Gray Mixer Magenta : 0
Split Toning Shadow Hue : 0
Split Toning Shadow Saturation : 0
Split Toning Highlight Hue : 0
Split Toning Highlight Saturation : 0
Split Toning Balance : 0
Parametric Shadows : 0
Parametric Darks : -10
Parametric Lights : +67
Parametric Highlights : 0
Parametric Shadow Split : 25
Parametric Midtone Split : 50
Parametric Highlight Split : 75
Sharpen Radius : +1.5
Sharpen Detail : 30
Sharpen Edge Masking : 0
Post Crop Vignette Amount : 0
Grain Amount : 0
Lens Profile Enable : 0
Lens Manual Distortion Amount : 0
Perspective Vertical : 0
Perspective Horizontal : 0
Perspective Rotate : 0.0
Perspective Scale : 100
Convert To Grayscale : True
Tone Curve Name : Linear
Camera Profile : Embedded
Lens Profile Setup : LensDefaults
Has Settings : True
Has Crop : False
Already Applied : True
Subject : Kodak Tri-X 400, Leica, M6TTL, Minneapolis, Summicron 50 rigid, analog, film, self-developed
Tone Curve : 0, 0, 255, 255
Image Width : 300
Image Height : 189
Bits Per Sample : 8
Color Components : 1
Image Size : 300x189
Megapixels : 0.057