Uber Exif Photo
Keywords : 28mm, feste, kartoffelfest, wakendorf
Copyright Notice : dierk topp
Caption-Abstract : SONY DSC
Copyright Flag : True
Image Description : SONY DSC
Make : SONY
Camera Model Name : NEX-5
Software : Adobe Photoshop Lightroom 3.5 (Windows)
Modify Date : 2011:10:11 21:27:48
Copyright : dierk topp
Exposure Time : 1/400
F Number : 1.0
Exposure Program : Aperture-priority AE
ISO : 200
Date/Time Original : 2011:10:09 12:47:59
Create Date : 2011:10:09 12:47:59
Shutter Speed Value : 1/400
Aperture Value : 1.0
Brightness Value : 2.62
Exposure Compensation : 0
Max Aperture Value : 1.0
Metering Mode : Multi-segment
Light Source : Unknown
Flash : Off, Did not fire
Color Space : Uncalibrated
Scene Type : Directly photographed
Custom Rendered : Normal
Exposure Mode : Auto
White Balance : Auto
Scene Capture Type : Standard
Contrast : Normal
Saturation : Normal
Sharpness : Normal
Profile Description : sRGB IEC61966-2.1
Lens : ----
Description : SONY DSC
Rights : dierk topp
Subject : 28mm, feste, kartoffelfest, wakendorf
Date Created : 2011:10:09 12:47:59
Property Release Status : Unknown (nil)
PLUS Version : 1.2.0
Creator Tool : Adobe Photoshop Lightroom 3.5 (Windows)
Rating : 5
Marked : True
Already Applied : True
Blue Hue : 0
Blue Saturation : 0
Brightness : +49
Camera Profile : Adobe Standard
Chromatic Aberration B : 0
Chromatic Aberration R : 0
Clarity : 0
Color Noise Reduction : 25
Convert To Grayscale : False
Crop Angle : 0
Crop Bottom : 1
Crop Height : 1000
Crop Left : 0.122631
Crop Right : 1
Crop Top : 0.046901
Crop Unit : pixels
Crop Width : 1383
Defringe : 0
Exposure : 0.00
Fill Light : 8
Green Hue : 0
Green Saturation : 0
Has Crop : True
Has Settings : True
Highlight Recovery : 8
Hue Adjustment Aqua : 0
Hue Adjustment Blue : 0
Hue Adjustment Green : 0
Hue Adjustment Magenta : 0
Hue Adjustment Orange : 0
Hue Adjustment Purple : 0
Hue Adjustment Red : 0
Hue Adjustment Yellow : 0
Luminance Adjustment Aqua : 0
Luminance Adjustment Blue : 0
Luminance Adjustment Green : 0
Luminance Adjustment Magenta : 0
Luminance Adjustment Orange : 0
Luminance Adjustment Purple : 0
Luminance Adjustment Red : 0
Luminance Adjustment Yellow : 0
Luminance Smoothing : 0
Parametric Darks : 0
Parametric Highlight Split : 75
Parametric Highlights : 0
Parametric Lights : 0
Parametric Midtone Split : 50
Parametric Shadow Split : 25
Parametric Shadows : 0
Post Crop Vignette Amount : -32
Post Crop Vignette Feather : 50
Post Crop Vignette Midpoint : 50
Post Crop Vignette Roundness : 0
Red Hue : 0
Red Saturation : 0
Saturation Adjustment Aqua : 0
Saturation Adjustment Blue : 0
Saturation Adjustment Green : 0
Saturation Adjustment Magenta : 0
Saturation Adjustment Orange : 0
Saturation Adjustment Purple : 0
Saturation Adjustment Red : 0
Saturation Adjustment Yellow : 0
Shadow Tint : 0
Shadows : 16
Sharpen Detail : 34
Sharpen Edge Masking : 0
Sharpen Radius : +1.0
Split Toning Balance : 0
Split Toning Highlight Hue : 0
Split Toning Highlight Saturation : 0
Split Toning Shadow Hue : 0
Split Toning Shadow Saturation : 0
Color Temperature : 5250
Tint : -23
Tone Curve : 0, 0, 32, 22, 64, 56, 128, 128, 192, 196, 255, 255
Tone Curve Name : Medium Contrast
Version : 6.5
Vibrance : 0
Vignette Amount : 0
Image Width : 300
Image Height : 222
Bits Per Sample : 8
Color Components : 3
Aperture : 1.0
Image Size : 300x222
Megapixels : 0.067
Shutter Speed : 1/400
Light Value : 7.6