Uber Exif Photo
Make : Leica Camera AG
Camera Model Name : M9 Digital Camera
Software : Adobe Photoshop Lightroom 3.5 (Macintosh)
Modify Date : 2011:10:09 16:51:43
Exposure Time : 1/1500
F Number : 2.8
Exposure Program : Aperture-priority AE
ISO : 160
Date/Time Original : 2011:10:08 13:13:42
Create Date : 2011:10:08 13:13:42
Shutter Speed Value : 1/1500
Aperture Value : 2.8
Exposure Compensation : +0.664
Max Aperture Value : 2.0
Metering Mode : Center-weighted average
Light Source : Unknown
Flash : No Flash
Focal Length : 35.0 mm
Contrast : Normal
Sharpening : Normal
Saturation : Normal
White Balance : Auto
JPEG Quality : Fine
WB RGB Levels : 0.4345773322 1 0.8427983539
User Profile : Profile 1
JPEG Size : 5216x3472
Firmware Version : 1.162
Base ISO : 160
Sensor Width : 5270
Sensor Height : 3516
Sensor Bit Depth : 14
Camera Temperature : 17 C
Lens Type : Summicron-M 35mm f/2 ASPH.
Approximate F Number : 3.0
Measured LV : 7.02
External Sensor Brightness Value : 5.85
Scene Type : Directly photographed
Exposure Mode : Manual
Digital Zoom Ratio : 0
Focal Length In 35mm Format : 35 mm
Scene Capture Type : Standard
Serial Number : 3971291
Lens Model : Leica Summicron-M 35mm f/2 ASPH.
Maker Note Safety : Safe
Profile Description : sRGB IEC61966-2.1
Creator Tool : Adobe Photoshop Lightroom 3.5 (Macintosh)
Lens : Leica Summicron-M 35mm f/2 ASPH.
Date Created : 2011:10:08 13:13:42
Version : 6.5
Process Version : 5.7
Color Temperature : 5600
Tint : -1
Exposure : +1.00
Shadows : 8
Brightness : -8
Sharpness : 42
Luminance Smoothing : 66
Color Noise Reduction : 60
Chromatic Aberration R : -8
Chromatic Aberration B : 0
Vignette Amount : -100
Vignette Midpoint : 0
Shadow Tint : 0
Red Hue : 0
Red Saturation : 0
Green Hue : 0
Green Saturation : 0
Blue Hue : 0
Blue Saturation : 0
Fill Light : 18
Vibrance : +13
Highlight Recovery : 74
Clarity : 0
Defringe : 0
Hue Adjustment Red : 0
Hue Adjustment Orange : 0
Hue Adjustment Yellow : 0
Hue Adjustment Green : 0
Hue Adjustment Aqua : +11
Hue Adjustment Blue : -22
Hue Adjustment Purple : 0
Hue Adjustment Magenta : 0
Saturation Adjustment Red : 0
Saturation Adjustment Orange : 0
Saturation Adjustment Yellow : 0
Saturation Adjustment Green : +53
Saturation Adjustment Aqua : 0
Saturation Adjustment Blue : +41
Saturation Adjustment Purple : 0
Saturation Adjustment Magenta : +41
Luminance Adjustment Red : 0
Luminance Adjustment Orange : 0
Luminance Adjustment Yellow : 0
Luminance Adjustment Green : 0
Luminance Adjustment Aqua : 0
Luminance Adjustment Blue : +79
Luminance Adjustment Purple : 0
Luminance Adjustment Magenta : 0
Split Toning Shadow Hue : 21
Split Toning Shadow Saturation : 0
Split Toning Highlight Hue : 55
Split Toning Highlight Saturation : 33
Split Toning Balance : 0
Parametric Shadows : -91
Parametric Darks : +25
Parametric Lights : +8
Parametric Highlights : +74
Parametric Shadow Split : 25
Parametric Midtone Split : 50
Parametric Highlight Split : 75
Sharpen Radius : +0.9
Sharpen Detail : 25
Sharpen Edge Masking : 0
Post Crop Vignette Amount : -27
Post Crop Vignette Midpoint : 50
Post Crop Vignette Feather : 100
Post Crop Vignette Roundness : 0
Post Crop Vignette Style : Highlight Priority
Post Crop Vignette Highlight Contrast : 0
Grain Amount : 16
Grain Size : 25
Grain Frequency : 50
Luminance Noise Reduction Detail : 50
Color Noise Reduction Detail : 50
Luminance Noise Reduction Contrast : 0
Lens Profile Enable : 0
Lens Manual Distortion Amount : 0
Perspective Vertical : 0
Perspective Horizontal : 0
Perspective Rotate : 0.0
Perspective Scale : 100
Convert To Grayscale : False
Tone Curve Name : Medium Contrast
Camera Profile : ACR 2.4
Lens Profile Setup : LensDefaults
Has Settings : True
Has Crop : False
Already Applied : True
Tone Curve : 0, 0, 32, 22, 64, 56, 128, 128, 192, 196, 255, 255
Image Width : 300
Image Height : 200
Bits Per Sample : 8
Color Components : 3
Aperture : 2.8
Blue Balance : 0.842798
Image Size : 300x200
Lens ID : Leica Summicron-M 35mm f/2 ASPH.
Megapixels : 0.060
Red Balance : 0.434577
Scale Factor To 35 mm Equivalent : 1.0
Shutter Speed : 1/1500
Circle Of Confusion : 0.030 mm
Field Of View : 54.4 deg
Focal Length : 35.0 mm (35 mm equivalent: 35.0 mm)
Hyperfocal Distance : 14.56 m
Light Value : 12.8