Uber Exif Photo
Copyright Notice : dierk topp
Copyright Flag : True
Make : Leica Camera AG
Camera Model Name : M9 Digital Camera
Software : Adobe Photoshop Lightroom 3.5 (Windows)
Modify Date : 2011:10:05 21:47:28
Copyright : dierk topp
Exposure Time : 1/350
F Number : 1.2
Exposure Program : Manual
ISO : 160
Date/Time Original : 2011:09:17 14:51:31
Create Date : 2011:09:17 14:51:31
Shutter Speed Value : 1/350
Aperture Value : 1.2
Exposure Compensation : -0.664
Max Aperture Value : 1.0
Metering Mode : Center-weighted average
Light Source : Unknown
Flash : No Flash
Focal Length : 50.0 mm
Contrast : Normal
Sharpening : Normal
Saturation : Normal
White Balance : Auto
JPEG Quality : Fine
WB RGB Levels : 0.4570408391 1 0.6516326612
User Profile : Studio
JPEG Size : 5216x3472
Serial Number : 3834236
Firmware Version : 1.162
Base ISO : 160
Sensor Width : 5270
Sensor Height : 3516
Sensor Bit Depth : 14
Camera Temperature : 20 C
Lens Type : Noctilux-M 50mm f/0.95 ASPH.
Approximate F Number : 0.5
Measured LV : 4.48
External Sensor Brightness Value : 1.40
Color Space : Uncalibrated
Scene Type : Directly photographed
Exposure Mode : Manual
Digital Zoom Ratio : 0
Focal Length In 35mm Format : 50 mm
Scene Capture Type : Standard
Maker Note Safety : Safe
Lens : Noctilux-M 50mm f/0.95 ASPH.
Rights : dierk topp
Sharpness : Hard
Date Created : 2011:09:17 14:51:31
Property Release Status : Unknown (nil)
PLUS Version : 1.2.0
Creator Tool : Adobe Photoshop Lightroom 3.5 (Windows)
Rating : 5
Marked : True
Already Applied : True
Blue Hue : 0
Blue Saturation : 0
Brightness : +14
Camera Profile : wald nocti
Chromatic Aberration B : 0
Chromatic Aberration R : 0
Clarity : +41
Color Noise Reduction : 25
Convert To Grayscale : True
Defringe : 0
Exposure : +1.80
Fill Light : 4
Gray Mixer Aqua : -18
Gray Mixer Blue : +7
Gray Mixer Green : +12
Gray Mixer Magenta : +3
Gray Mixer Orange : -16
Gray Mixer Purple : +13
Gray Mixer Red : -8
Gray Mixer Yellow : -38
Green Hue : 0
Green Saturation : 0
Has Crop : False
Has Settings : True
Highlight Recovery : 0
Luminance Smoothing : 0
Parametric Darks : -6
Parametric Highlight Split : 75
Parametric Highlights : 0
Parametric Lights : -26
Parametric Midtone Split : 50
Parametric Shadow Split : 25
Parametric Shadows : -22
Post Crop Vignette Amount : -21
Post Crop Vignette Feather : 50
Post Crop Vignette Midpoint : 50
Post Crop Vignette Roundness : 0
Red Hue : 0
Red Saturation : 0
Shadow Tint : 0
Shadows : 23
Sharpen Detail : 34
Sharpen Edge Masking : 0
Sharpen Radius : +1.0
Split Toning Balance : 0
Split Toning Highlight Hue : 0
Split Toning Highlight Saturation : 0
Split Toning Shadow Hue : 0
Split Toning Shadow Saturation : 0
Color Temperature : 5050
Tint : +47
Tone Curve : 0, 0, 32, 22, 64, 56, 128, 128, 192, 196, 255, 255
Tone Curve Name : Medium Contrast
Version : 6.5
Vignette Amount : 0
Image Width : 300
Image Height : 206
Bits Per Sample : 8
Color Components : 1
Aperture : 1.2
Blue Balance : 0.651633
Image Size : 300x206
Lens ID : Noctilux-M 50mm f/0.95 ASPH.
Megapixels : 0.062
Red Balance : 0.457041
Scale Factor To 35 mm Equivalent : 1.0
Shutter Speed : 1/350
Circle Of Confusion : 0.030 mm
Field Of View : 39.6 deg
Focal Length : 50.0 mm (35 mm equivalent: 50.0 mm)
Hyperfocal Distance : 69.34 m
Light Value : 8.3