Uber Exif Photo
Keywords : 2011, Japan, September
By-line : R.W. Sinclair
Copyright Notice : (c) R.W. Sinclair
Copyright Flag : True
Make : LEICA
Camera Model Name : D-LUX 5
Software : Adobe Photoshop Lightroom 3.4.1
Modify Date : 2011:09:26 13:07:21
Artist : R.W. Sinclair
Copyright : (c) R.W. Sinclair
Exposure Time : 1/500
F Number : 4.0
Exposure Program : Program AE
ISO : 80
Date/Time Original : 2011:09:08 13:03:31
Create Date : 2011:09:08 13:03:31
Shutter Speed Value : 1/500
Aperture Value : 4.0
Exposure Compensation : 0
Max Aperture Value : 2.0
Metering Mode : Multi-segment
Light Source : Unknown
Flash : Off, Did not fire
Focal Length : 14.9 mm
Sensing Method : One-chip color area
Scene Type : Directly photographed
Custom Rendered : Normal
Exposure Mode : Auto
White Balance : Auto
Digital Zoom Ratio : 0
Focal Length In 35mm Format : 70 mm
Scene Capture Type : Standard
Gain Control : None
Contrast : Normal
Saturation : Normal
Sharpness : Normal
Profile Description : sRGB IEC61966-2.1
Label : Red
Creator Tool : Adobe Photoshop Lightroom 3.4.1
Date Created : 2011:09:08 13:03:31
Marked : True
Version : 6.4.1
Process Version : 5.7
Color Temperature : 5250
Tint : +3
Exposure : +0.33
Shadows : 5
Brightness : +50
Luminance Smoothing : 0
Color Noise Reduction : 25
Chromatic Aberration R : 0
Chromatic Aberration B : 0
Vignette Amount : 0
Shadow Tint : 0
Red Hue : 0
Red Saturation : 0
Green Hue : 0
Green Saturation : 0
Blue Hue : 0
Blue Saturation : 0
Fill Light : 0
Vibrance : +10
Highlight Recovery : 50
Clarity : +50
Defringe : 0
Hue Adjustment Red : 0
Hue Adjustment Orange : 0
Hue Adjustment Yellow : 0
Hue Adjustment Green : 0
Hue Adjustment Aqua : 0
Hue Adjustment Blue : 0
Hue Adjustment Purple : 0
Hue Adjustment Magenta : 0
Saturation Adjustment Red : 0
Saturation Adjustment Orange : 0
Saturation Adjustment Yellow : 0
Saturation Adjustment Green : 0
Saturation Adjustment Aqua : 0
Saturation Adjustment Blue : 0
Saturation Adjustment Purple : 0
Saturation Adjustment Magenta : 0
Luminance Adjustment Red : 0
Luminance Adjustment Orange : 0
Luminance Adjustment Yellow : 0
Luminance Adjustment Green : 0
Luminance Adjustment Aqua : 0
Luminance Adjustment Blue : 0
Luminance Adjustment Purple : 0
Luminance Adjustment Magenta : 0
Split Toning Shadow Hue : 0
Split Toning Shadow Saturation : 0
Split Toning Highlight Hue : 0
Split Toning Highlight Saturation : 0
Split Toning Balance : 0
Parametric Shadows : 0
Parametric Darks : -7
Parametric Lights : +14
Parametric Highlights : 0
Parametric Shadow Split : 25
Parametric Midtone Split : 50
Parametric Highlight Split : 75
Sharpen Radius : +1.0
Sharpen Detail : 25
Sharpen Edge Masking : 0
Post Crop Vignette Amount : 0
Grain Amount : 0
Color Noise Reduction Detail : 50
Lens Profile Enable : 0
Lens Manual Distortion Amount : 0
Perspective Vertical : 0
Perspective Horizontal : 0
Perspective Rotate : 0.0
Perspective Scale : 100
Convert To Grayscale : False
Tone Curve Name : Medium Contrast
Camera Profile : Adobe Standard
Lens Profile Setup : LensDefaults
Has Settings : True
Crop Top : 0
Crop Left : 0
Crop Bottom : 0.929776
Crop Right : 0.929776
Crop Angle : 0
Crop Constrain To Warp : 0
Crop Width : 2024
Crop Height : 1351
Crop Unit : pixels
Has Crop : True
Already Applied : True
Creator Country : United States
Creator Region : Delaware
Creator : R.W. Sinclair
Rights : (c) R.W. Sinclair
Subject : 2011, Japan, September
Tone Curve : 0, 0, 32, 22, 64, 56, 128, 128, 192, 196, 255, 255
Image Width : 300
Image Height : 200
Bits Per Sample : 8
Color Components : 3
Aperture : 4.0
Image Size : 300x200
Megapixels : 0.060
Scale Factor To 35 mm Equivalent : 4.7
Shutter Speed : 1/500
Circle Of Confusion : 0.006 mm
Field Of View : 28.8 deg
Focal Length : 14.9 mm (35 mm equivalent: 70.0 mm)
Hyperfocal Distance : 8.68 m
Light Value : 13.3