Uber Exif Photo
Keywords : Edwardsville, Jerseyville, high school, wrestling
By-line : Michael Weaver
Sub-location : Wrestling Center @ Edwardsville
Province-State : IL
Country-Primary Location Name : USA
Copyright Notice : (C) 2010 Michael Weaver. All rights Reserved
Copyright Flag : True
Make : Leica Camera AG
Camera Model Name : M8 Digital Camera
Software : Adobe Photoshop Lightroom 3.4.1
Modify Date : 2011:08:16 21:55:02
Artist : Michael Weaver
Copyright : (C) 2010 Michael Weaver. All rights Reserved
Exposure Time : 1/90
F Number : 9.5
Exposure Program : Aperture-priority AE
ISO : 160
Date/Time Original : 2010:11:11 09:55:05
Create Date : 2010:11:11 09:55:05
Shutter Speed Value : 1/90
Aperture Value : 9.5
Exposure Compensation : 0
Max Aperture Value : 4.0
Metering Mode : Center-weighted average
Light Source : Unknown
Flash : Auto, Did not fire
Focal Length : 18.0 mm
Scene Type : Directly photographed
White Balance : Auto
Digital Zoom Ratio : 0
Focal Length In 35mm Format : 24 mm
Scene Capture Type : Standard
Serial Number : 3196228
Lens Model : Leica Tri-Elmar-M 16-18-21mm f/4 ASPH.
Profile Description : sRGB IEC61966-2.1
Creator Tool : Adobe Photoshop Lightroom 3.4.1
Lens : Leica Tri-Elmar-M 16-18-21mm f/4 ASPH.
Location : Wrestling Center @ Edwardsville HS
Marked : True
Country : USA
City : Edwardsville
Credit : (C) Copyright 2010 Michael Weaver, All rights reserved
State : IL
Date Created : 2010:11:11 09:55:05-08:00
Version : 6.4.1
Process Version : 5.7
Color Temperature : 6000
Tint : +21
Exposure : +0.05
Shadows : 6
Brightness : +29
Contrast : +78
Saturation : +10
Sharpness : 25
Luminance Smoothing : 0
Color Noise Reduction : 25
Chromatic Aberration R : 0
Chromatic Aberration B : 0
Vignette Amount : 0
Shadow Tint : 0
Red Hue : 0
Red Saturation : 0
Green Hue : 0
Green Saturation : 0
Blue Hue : 0
Blue Saturation : 0
Fill Light : 28
Vibrance : +10
Highlight Recovery : 82
Clarity : +10
Defringe : 0
Hue Adjustment Red : 0
Hue Adjustment Orange : 0
Hue Adjustment Yellow : 0
Hue Adjustment Green : 0
Hue Adjustment Aqua : 0
Hue Adjustment Blue : 0
Hue Adjustment Purple : 0
Hue Adjustment Magenta : 0
Saturation Adjustment Red : 0
Saturation Adjustment Orange : 0
Saturation Adjustment Yellow : 0
Saturation Adjustment Green : 0
Saturation Adjustment Aqua : 0
Saturation Adjustment Blue : 0
Saturation Adjustment Purple : 0
Saturation Adjustment Magenta : 0
Luminance Adjustment Red : 0
Luminance Adjustment Orange : 0
Luminance Adjustment Yellow : 0
Luminance Adjustment Green : 0
Luminance Adjustment Aqua : 0
Luminance Adjustment Blue : 0
Luminance Adjustment Purple : 0
Luminance Adjustment Magenta : 0
Split Toning Shadow Hue : 0
Split Toning Shadow Saturation : 0
Split Toning Highlight Hue : 0
Split Toning Highlight Saturation : 0
Split Toning Balance : 0
Parametric Shadows : +40
Parametric Darks : +30
Parametric Lights : -20
Parametric Highlights : -30
Parametric Shadow Split : 25
Parametric Midtone Split : 50
Parametric Highlight Split : 75
Sharpen Radius : +1.0
Sharpen Detail : 25
Sharpen Edge Masking : 0
Post Crop Vignette Amount : 0
Grain Amount : 0
Color Noise Reduction Detail : 50
Lens Profile Enable : 0
Lens Manual Distortion Amount : 0
Perspective Vertical : 0
Perspective Horizontal : 0
Perspective Rotate : 0.0
Perspective Scale : 100
Convert To Grayscale : False
Tone Curve Name : Medium Contrast
Camera Profile : Adobe Standard
Lens Profile Setup : LensDefaults
Has Settings : True
Crop Top : 0.039157
Crop Left : 0.120567
Crop Bottom : 0.996988
Crop Right : 0.913881
Crop Angle : 0
Crop Constrain To Warp : 0
Crop Width : 3107
Crop Height : 2523
Crop Unit : pixels
Has Crop : True
Already Applied : True
Creator Postal Code : 62031
Creator Country : USA
Creator Work Email : michaelrweaver@gmail.com
Creator Work Telephone : 618-376-3381
Creator Region : IL
Creator City : Fieldon
Creator Address : 25670 Dark Hollow Road
Creator Work URL : michaelweaver.zenfolio.com
Usage Terms : No use without written permission
Creator : Michael Weaver
Rights : (C) 2010 Michael Weaver. All rights Reserved
Subject : Edwardsville, Jerseyville, high school, wrestling
Tone Curve : 0, 0, 32, 22, 64, 56, 128, 128, 192, 196, 255, 255
Paint Correction What : Correction
Paint Correction Amount : 1.000000
Paint Correction Active : true
Paint Correction Exposure : -0.024000
Paint Correction Saturation : 0.122000
Paint Correction Contrast : 0.024000
Paint Correction Clarity : 0.293000
Paint Correction Sharpness : 0.220000
Paint Correction Brightness : -0.073000
Paint Correction Toning Hue : 61.000000
Paint Correction Toning Saturation : 0.010000
Paint Correction Mask What : Mask/Paint
Paint Correction Mask Value : 1.000000
Paint Correction Mask Radius : 0.036660
Paint Correction Mask Flow : 0.705000
Paint Correction Mask Center Weight : 0.000000
Image Width : 300
Image Height : 244
Bits Per Sample : 8
Color Components : 3
Aperture : 9.5
Image Size : 300x244
Megapixels : 0.073
Scale Factor To 35 mm Equivalent : 1.3
Shutter Speed : 1/90
Circle Of Confusion : 0.023 mm
Field Of View : 73.7 deg
Focal Length : 18.0 mm (35 mm equivalent: 24.0 mm)
Hyperfocal Distance : 1.51 m
Light Value : 12.3
Lens ID : Tri-Elmar-M 16-18-21mm f/4 ASPH.