Uber Exif Photo
Copyright Flag : False
Make : LEICA
Camera Model Name : V-LUX 1
Orientation : Horizontal (normal)
Software : Adobe Photoshop CS5 Macintosh
Modify Date : 2011:08:11 10:53:18
Exposure Time : 1/400
F Number : 2.8
Exposure Program : Aperture-priority AE
ISO : 100
Date/Time Original : 2011:08:08 15:56:17
Create Date : 2011:08:08 15:56:17
Shutter Speed Value : 1/400
Aperture Value : 2.8
Exposure Compensation : -0.33
Max Aperture Value : 2.8
Metering Mode : Center-weighted average
Flash : Off, Did not fire
Focal Length : 7.4 mm
Color Space : Uncalibrated
Exif Image Width : 1805
Exif Image Height : 1830
Profile Description : Adobe RGB (1998)
Creator Tool : Adobe Photoshop CS5 Macintosh
Rating : 1
Date Created : 2011:08:08 15:56:17
Color Mode : RGB
ICC Profile Name : Adobe RGB (1998)
Format : image/jpeg
Raw File Name : L1060551.RAW
Version : 6.4.1
Process Version : 5.7
White Balance : Custom
Color Temperature : 6400
Tint : +18
Exposure : +0.35
Shadows : 5
Brightness : +60
Contrast : +34
Saturation : 0
Sharpness : 25
Luminance Smoothing : 0
Color Noise Reduction : 25
Chromatic Aberration R : 0
Chromatic Aberration B : 0
Vignette Amount : 0
Shadow Tint : 0
Red Hue : 0
Red Saturation : 0
Green Hue : 0
Green Saturation : 0
Blue Hue : 0
Blue Saturation : 0
Fill Light : 1
Vibrance : +3
Highlight Recovery : 0
Clarity : +53
Defringe : 0
Hue Adjustment Red : 0
Hue Adjustment Orange : 0
Hue Adjustment Yellow : 0
Hue Adjustment Green : 0
Hue Adjustment Aqua : 0
Hue Adjustment Blue : 0
Hue Adjustment Purple : 0
Hue Adjustment Magenta : 0
Saturation Adjustment Red : 0
Saturation Adjustment Orange : 0
Saturation Adjustment Yellow : 0
Saturation Adjustment Green : 0
Saturation Adjustment Aqua : 0
Saturation Adjustment Blue : 0
Saturation Adjustment Purple : 0
Saturation Adjustment Magenta : 0
Luminance Adjustment Red : -3
Luminance Adjustment Orange : +22
Luminance Adjustment Yellow : +28
Luminance Adjustment Green : 0
Luminance Adjustment Aqua : 0
Luminance Adjustment Blue : 0
Luminance Adjustment Purple : 0
Luminance Adjustment Magenta : +3
Split Toning Shadow Hue : 0
Split Toning Shadow Saturation : 0
Split Toning Highlight Hue : 0
Split Toning Highlight Saturation : 0
Split Toning Balance : 0
Parametric Shadows : 0
Parametric Darks : 0
Parametric Lights : 0
Parametric Highlights : 0
Parametric Shadow Split : 25
Parametric Midtone Split : 50
Parametric Highlight Split : 75
Sharpen Radius : +1.0
Sharpen Detail : 25
Sharpen Edge Masking : 0
Post Crop Vignette Amount : 0
Grain Amount : 0
Color Noise Reduction Detail : 50
Lens Profile Enable : 0
Lens Manual Distortion Amount : 0
Perspective Vertical : 0
Perspective Horizontal : 0
Perspective Rotate : 0.0
Perspective Scale : 100
Convert To Grayscale : False
Tone Curve Name : Medium Contrast
Camera Profile : Adobe Standard
Lens Profile Setup : LensDefaults
Has Settings : True
Crop Top : 0.079208
Crop Left : 0.253289
Crop Bottom : 0.957921
Crop Right : 0.845395
Crop Angle : 0
Crop Constrain To Warp : 1
Has Crop : True
Already Applied : True
Marked : False
Tone Curve : 0, 0, 32, 22, 64, 56, 128, 128, 192, 196, 255, 255
Image Width : 296
Image Height : 300
Bits Per Sample : 8
Color Components : 3
Aperture : 2.8
Image Size : 296x300
Megapixels : 0.089
Shutter Speed : 1/400
Light Value : 11.6