Uber Exif Photo
Make : Leica Camera AG
Camera Model Name : M9 Digital Camera
Software : Adobe Photoshop Lightroom 3.4.1
Modify Date : 2011:08:06 21:09:11
Exposure Time : 1/125
F Number : 5.7
Exposure Program : Aperture-priority AE
ISO : 160
Date/Time Original : 2011:08:04 17:03:16
Create Date : 2011:08:04 17:03:16
Shutter Speed Value : 1/125
Aperture Value : 5.7
Exposure Compensation : 0
Max Aperture Value : 2.0
Metering Mode : Center-weighted average
Light Source : Unknown
Flash : No Flash
Focal Length : 35.0 mm
Contrast : Normal
Sharpening : Normal
Saturation : Normal
White Balance : Auto
JPEG Quality : Fine
WB RGB Levels : 0.4189531286 1 0.8320552537
User Profile : Profile 1
JPEG Size : 5216x3472
Firmware Version : 1.162
Base ISO : 160
Sensor Width : 5270
Sensor Height : 3516
Sensor Bit Depth : 14
Camera Temperature : 28 C
Lens Type : Summicron-M 35mm f/2 ASPH.
Approximate F Number : 5.0
Measured LV : 4.27
External Sensor Brightness Value : 4.23
Scene Type : Directly photographed
Exposure Mode : Manual
Digital Zoom Ratio : 0
Focal Length In 35mm Format : 35 mm
Scene Capture Type : Standard
Serial Number : 3971291
Lens Model : Leica Summicron-M 35mm f/2 ASPH.
Maker Note Safety : Safe
Profile Description : sRGB IEC61966-2.1
Creator Tool : Adobe Photoshop Lightroom 3.4.1
Lens : Leica Summicron-M 35mm f/2 ASPH.
Date Created : 2011:08:04 17:03:16
Version : 6.4.1
Process Version : 5.7
Color Temperature : 5663
Tint : +10
Exposure : +1.50
Shadows : 20
Brightness : 0
Sharpness : 129
Luminance Smoothing : 61
Color Noise Reduction : 96
Chromatic Aberration R : 0
Chromatic Aberration B : 0
Vignette Amount : 0
Shadow Tint : 0
Red Hue : 0
Red Saturation : 0
Green Hue : 0
Green Saturation : 0
Blue Hue : 0
Blue Saturation : 0
Fill Light : 0
Vibrance : 0
Highlight Recovery : 0
Clarity : -29
Defringe : 0
Hue Adjustment Red : 0
Hue Adjustment Orange : 0
Hue Adjustment Yellow : 0
Hue Adjustment Green : 0
Hue Adjustment Aqua : 0
Hue Adjustment Blue : 0
Hue Adjustment Purple : 0
Hue Adjustment Magenta : 0
Saturation Adjustment Red : +52
Saturation Adjustment Orange : +100
Saturation Adjustment Yellow : +55
Saturation Adjustment Green : +100
Saturation Adjustment Aqua : +100
Saturation Adjustment Blue : +43
Saturation Adjustment Purple : 0
Saturation Adjustment Magenta : 0
Luminance Adjustment Red : 0
Luminance Adjustment Orange : 0
Luminance Adjustment Yellow : 0
Luminance Adjustment Green : 0
Luminance Adjustment Aqua : -5
Luminance Adjustment Blue : 0
Luminance Adjustment Purple : 0
Luminance Adjustment Magenta : 0
Split Toning Shadow Hue : 52
Split Toning Shadow Saturation : 26
Split Toning Highlight Hue : 54
Split Toning Highlight Saturation : 25
Split Toning Balance : 0
Parametric Shadows : 0
Parametric Darks : -40
Parametric Lights : +46
Parametric Highlights : 0
Parametric Shadow Split : 25
Parametric Midtone Split : 50
Parametric Highlight Split : 75
Sharpen Radius : +1.0
Sharpen Detail : 25
Sharpen Edge Masking : 0
Post Crop Vignette Amount : -16
Post Crop Vignette Midpoint : 50
Post Crop Vignette Feather : 50
Post Crop Vignette Roundness : 0
Post Crop Vignette Style : Highlight Priority
Post Crop Vignette Highlight Contrast : 0
Grain Amount : 0
Luminance Noise Reduction Detail : 50
Color Noise Reduction Detail : 50
Luminance Noise Reduction Contrast : 0
Lens Profile Enable : 0
Lens Manual Distortion Amount : 0
Perspective Vertical : 0
Perspective Horizontal : 0
Perspective Rotate : 0.0
Perspective Scale : 100
Convert To Grayscale : False
Tone Curve Name : Linear
Camera Profile : Embedded
Lens Profile Setup : LensDefaults
Has Settings : True
Crop Top : 0
Crop Left : 0.069186
Crop Bottom : 0.930814
Crop Right : 1
Crop Angle : 0
Crop Constrain To Warp : 0
Crop Width : 4851
Crop Height : 3228
Crop Unit : pixels
Has Crop : True
Already Applied : True
Tone Curve : 0, 0, 255, 255
Gradient Based Corr What : Correction
Gradient Based Corr Amount : 1.000000
Gradient Based Corr Active : true
Gradient Based Corr Exposure : 0.000000
Gradient Based Corr Saturation : 0.300000
Gradient Based Corr Contrast : 0.000000
Gradient Based Corr Clarity : -1.000000
Gradient Based Corr Sharpness : 0.000000
Gradient Based Corr Brightness : 0.000000
Gradient Based Corr Toning Hue : 205.000000
Gradient Based Corr Toning Saturation : 0.280000
Gradient Based Corr Mask What : Mask/Gradient
Gradient Based Corr Mask Value : 1.000000
Gradient Based Corr Mask Zero X : 0.525862
Gradient Based Corr Mask Zero Y : 0.606322
Gradient Based Corr Mask Full X : 0.525862
Gradient Based Corr Mask Full Y : 0.442529
Image Width : 200
Image Height : 300
Bits Per Sample : 8
Color Components : 3
Aperture : 5.7
Blue Balance : 0.832055
Image Size : 200x300
Lens ID : Leica Summicron-M 35mm f/2 ASPH.
Megapixels : 0.060
Red Balance : 0.418953
Scale Factor To 35 mm Equivalent : 1.0
Shutter Speed : 1/125
Circle Of Confusion : 0.030 mm
Field Of View : 54.4 deg
Focal Length : 35.0 mm (35 mm equivalent: 35.0 mm)
Hyperfocal Distance : 7.15 m
Light Value : 11.3