Uber Exif Photo
Keywords : 2011, 50mm, 50mm f/2.0 Summicron, Asia, B&W, Black White, ISO 500, Leica M9, People, Ricardson, Ricardsonwilliams, Street Photography
By-line : Ricardson Williams
Sub-location : Dongguan
Province-State : Guangdong
Country-Primary Location Code : CHL
Country-Primary Location Name : China
Copyright Notice : (c) Ricardson Williams
Caption-Abstract : Leica M9 | 50mm f/2.0 Summicron | ƒ/2.8 | 1/60 | ISO500.------------------------------------------------------------------------.Street Photography
Copyright Flag : True
URL : http://ricardsonwilliams.com
Image Description : Leica M9 | 50mm f/2.0 Summicron | ƒ/2.8 | 1/60 | ISO500.------------------------------------------------------------------------.Street Photography
Make : Leica Camera AG
Camera Model Name : M9 Digital Camera
Software : Adobe Photoshop Lightroom 3.4.1
Modify Date : 2011:08:05 03:11:56
Artist : Ricardson Williams
Copyright : (c) Ricardson Williams
Exposure Time : 1/60
F Number : 2.8
Exposure Program : Aperture-priority AE
ISO : 500
Date/Time Original : 2011:07:14 22:39:01
Create Date : 2011:07:14 22:39:01
Shutter Speed Value : 1/60
Aperture Value : 2.8
Exposure Compensation : 0
Max Aperture Value : 2.0
Metering Mode : Center-weighted average
Light Source : Unknown
Flash : No Flash
Focal Length : 50.0 mm
Contrast : Normal
Sharpening : Normal
Saturation : Normal
White Balance : Auto
JPEG Quality : Fine
WB RGB Levels : 0.6548099596 1 0.5131867443
User Profile : Nrofile 1
JPEG Size : 5216x3472
Firmware Version : 1.162
Base ISO : 160
Sensor Width : 5270
Sensor Height : 3516
Sensor Bit Depth : 14
Camera Temperature : 30 C
Lens Type : Summicron-M 50mm f/2 (IV, V)
Approximate F Number : 3.0
Measured LV : 2.55
External Sensor Brightness Value : 1.23
Scene Type : Directly photographed
Exposure Mode : Manual
Digital Zoom Ratio : 0
Focal Length In 35mm Format : 50 mm
Scene Capture Type : Standard
Serial Number : 3978182
Lens Model : Leica Summicron-M 50mm f/2 (IV, V)
Maker Note Safety : Safe
Creator Tool : Adobe Photoshop Lightroom 3.4.1
Rating : 5
Label : Red
Country Code : CHL
Location : Dongguan
Lens : Leica Summicron-M 50mm f/2 (IV, V)
City : Dongguan
State : Guangdong
Country : China
Credit : Ricardson Williams
Source : http://ricardsonwilliams.com
Urgency : 1 (most urgent)
Date Created : 2010:09:10 22:39:01+08:00
Marked : True
Web Statement : http://ricardsonwilliams.com
Prefs : Tagged:0, ColorClass:1, Rating:5, FrameNum:003449
Version : 6.4.1
Process Version : 5.7
Color Temperature : 4213
Tint : -74
Exposure : +1.15
Shadows : 28
Brightness : +54
Sharpness : 102
Luminance Smoothing : 32
Color Noise Reduction : 25
Chromatic Aberration R : 0
Chromatic Aberration B : 0
Vignette Amount : 0
Shadow Tint : 0
Red Hue : 0
Red Saturation : 0
Green Hue : 0
Green Saturation : 0
Blue Hue : 0
Blue Saturation : 0
Fill Light : 0
Vibrance : 0
Highlight Recovery : 0
Clarity : 0
Defringe : 0
Hue Adjustment Red : 0
Hue Adjustment Orange : 0
Hue Adjustment Yellow : 0
Hue Adjustment Green : 0
Hue Adjustment Aqua : 0
Hue Adjustment Blue : 0
Hue Adjustment Purple : 0
Hue Adjustment Magenta : 0
Saturation Adjustment Red : 0
Saturation Adjustment Orange : 0
Saturation Adjustment Yellow : 0
Saturation Adjustment Green : 0
Saturation Adjustment Aqua : 0
Saturation Adjustment Blue : 0
Saturation Adjustment Purple : 0
Saturation Adjustment Magenta : 0
Luminance Adjustment Red : 0
Luminance Adjustment Orange : 0
Luminance Adjustment Yellow : 0
Luminance Adjustment Green : 0
Luminance Adjustment Aqua : 0
Luminance Adjustment Blue : 0
Luminance Adjustment Purple : 0
Luminance Adjustment Magenta : 0
Split Toning Shadow Hue : 0
Split Toning Shadow Saturation : 0
Split Toning Highlight Hue : 0
Split Toning Highlight Saturation : 0
Split Toning Balance : 0
Parametric Shadows : -14
Parametric Darks : -3
Parametric Lights : 0
Parametric Highlights : 0
Parametric Shadow Split : 25
Parametric Midtone Split : 50
Parametric Highlight Split : 75
Sharpen Radius : +1.2
Sharpen Detail : 81
Sharpen Edge Masking : 0
Post Crop Vignette Amount : 0
Grain Amount : 50
Grain Size : 35
Grain Frequency : 85
Luminance Noise Reduction Detail : 50
Color Noise Reduction Detail : 50
Luminance Noise Reduction Contrast : 0
Lens Profile Enable : 0
Lens Manual Distortion Amount : 0
Perspective Vertical : 0
Perspective Horizontal : 0
Perspective Rotate : 0.0
Perspective Scale : 100
Convert To Grayscale : False
Tone Curve Name : Linear
Camera Profile : Adobe Standard
Lens Profile Setup : LensDefaults
Has Settings : True
Crop Top : 0.241138
Crop Left : 0.14784
Crop Bottom : 1
Crop Right : 0.856106
Crop Angle : 0
Crop Constrain To Warp : 0
Crop Width : 800
Crop Height : 570
Crop Unit : pixels
Has Crop : True
Already Applied : True
Creator City : Dongguan
Creator Country : Dongguan
Creator Work Email : ricardsonwilliams@gmail.com
Description : Leica M9 | 50mm f/2.0 Summicron | ƒ/2.8 | 1/60 | ISO500.------------------------------------------------------------------------.Street Photography
Creator : Ricardson Williams
Rights : (c) Ricardson Williams
Subject : 2011, 50mm, 50mm f/2.0 Summicron, Asia, B&W, Black White, ISO 500, Leica M9, People, Ricardson, Ricardsonwilliams, Street Photography
Tone Curve : 0, 0, 255, 255
Image Width : 300
Image Height : 214
Bits Per Sample : 8
Color Components : 1
Aperture : 2.8
Blue Balance : 0.513187
Image Size : 300x214
Lens ID : Leica Summicron-M 50mm f/2 (IV, V)
Megapixels : 0.064
Red Balance : 0.65481
Scale Factor To 35 mm Equivalent : 1.0
Shutter Speed : 1/60
Circle Of Confusion : 0.030 mm
Field Of View : 39.6 deg
Focal Length : 50.0 mm (35 mm equivalent: 50.0 mm)
Hyperfocal Distance : 29.72 m
Light Value : 6.6