Uber Exif Photo
Keywords : 2011, 50mm, Asia, B&W, Black White, ISO 160, M9 Digital Camera, People, Ricardson, Ricardsonwilliams, Street Photography
By-line : Ricardson Williams
Sub-location : Dongguan
Province-State : Guangdong
Country-Primary Location Code : CHL
Country-Primary Location Name : China
Copyright Notice : (c) Ricardson Williams
Caption-Abstract : M9 Digital Camera | | ƒ/8 | 1/750 | ISO160.------------------------------------------------------------------------.Street Photography
Copyright Flag : True
URL : http://ricardsonwilliams.com
Image Description : M9 Digital Camera | | ƒ/8 | 1/750 | ISO160.------------------------------------------------------------------------.Street Photography
Make : Leica Camera AG
Camera Model Name : M9 Digital Camera
Software : Adobe Photoshop Lightroom 3.4.1
Modify Date : 2011:07:31 22:32:55
Artist : Ricardson Williams
Copyright : (c) Ricardson Williams
Exposure Time : 1/750
F Number : 8.0
Exposure Program : Aperture-priority AE
ISO : 160
Date/Time Original : 2011:07:23 17:41:17
Create Date : 2011:07:23 17:41:17
Shutter Speed Value : 1/750
Aperture Value : 8.0
Exposure Compensation : 0
Max Aperture Value : 2.0
Metering Mode : Center-weighted average
Light Source : Unknown
Flash : No Flash
Focal Length : 50.0 mm
Contrast : Normal
Sharpening : Normal
Saturation : Normal
White Balance : Auto
JPEG Quality : Fine
WB RGB Levels : 0.4892644907 1 0.6836066258
User Profile : Daily
JPEG Size : 5216x3472
Firmware Version : 1.162
Base ISO : 160
Sensor Width : 5270
Sensor Height : 3516
Sensor Bit Depth : 14
Camera Temperature : 35 C
Lens Type : Summicron-M 50mm f/2 (IV, V)
Approximate F Number : 6.0
Measured LV : 5.95
External Sensor Brightness Value : 6.58
Scene Type : Directly photographed
Exposure Mode : Manual
Digital Zoom Ratio : 0
Focal Length In 35mm Format : 50 mm
Scene Capture Type : Standard
Serial Number : 3978182
Lens Model : Leica Summicron-M 50mm f/2 (IV, V)
Maker Note Safety : Safe
Country Code : CHL
Location : Dongguan
Creator Tool : Adobe Photoshop Lightroom 3.4.1
Rating : 5
Label : Winner
Lens : Leica Summicron-M 50mm f/2 (IV, V)
City : Dongguan
State : Guangdong
Country : China
Credit : Ricardson Williams
Source : http://ricardsonwilliams.com
Urgency : 1 (most urgent)
Date Created : 2010:09:10 17:41:17+08:00
Marked : True
Web Statement : http://ricardsonwilliams.com
Prefs : Tagged:0, ColorClass:1, Rating:5, FrameNum:003986
Version : 6.4.1
Process Version : 5.7
Color Temperature : 4200
Tint : +8
Exposure : +1.25
Shadows : 6
Brightness : +5
Sharpness : 54
Luminance Smoothing : 25
Color Noise Reduction : 25
Chromatic Aberration R : 0
Chromatic Aberration B : 0
Vignette Amount : 0
Shadow Tint : 0
Red Hue : 0
Red Saturation : 0
Green Hue : 0
Green Saturation : 0
Blue Hue : 0
Blue Saturation : 0
Fill Light : 0
Highlight Recovery : 0
Clarity : +60
Defringe : 0
Gray Mixer Red : +33
Gray Mixer Orange : 0
Gray Mixer Yellow : 0
Gray Mixer Green : +36
Gray Mixer Aqua : 0
Gray Mixer Blue : +31
Gray Mixer Purple : 0
Gray Mixer Magenta : 0
Split Toning Shadow Hue : 0
Split Toning Shadow Saturation : 0
Split Toning Highlight Hue : 0
Split Toning Highlight Saturation : 0
Split Toning Balance : 0
Parametric Shadows : 0
Parametric Darks : -2
Parametric Lights : 0
Parametric Highlights : 0
Parametric Shadow Split : 25
Parametric Midtone Split : 50
Parametric Highlight Split : 75
Sharpen Radius : +0.8
Sharpen Detail : 25
Sharpen Edge Masking : 0
Post Crop Vignette Amount : 0
Grain Amount : 50
Grain Size : 59
Grain Frequency : 20
Luminance Noise Reduction Detail : 50
Color Noise Reduction Detail : 50
Luminance Noise Reduction Contrast : 0
Lens Profile Enable : 0
Lens Manual Distortion Amount : 0
Perspective Vertical : 0
Perspective Horizontal : 0
Perspective Rotate : 0.0
Perspective Scale : 100
Convert To Grayscale : True
Tone Curve Name : Strong Contrast
Camera Profile : Adobe Standard
Lens Profile Setup : Custom
Lens Profile Name : Adobe (Leica APO-MACRO-SUMMARIT-S 1:2.5/120mm)
Lens Profile Filename : Leica APO-MACRO-SUMMARIT-S 2.5 120 mm.lcp
Lens Profile Distortion Scale : 100
Lens Profile Chromatic Aberration Scale : 100
Lens Profile Vignetting Scale : 100
Has Settings : True
Has Crop : False
Already Applied : True
Creator City : Dongguan
Creator Country : Dongguan
Creator Work Email : ricardsonwilliams@gmail.com
Description : M9 Digital Camera | | ƒ/8 | 1/750 | ISO160.------------------------------------------------------------------------.Street Photography
Creator : Ricardson Williams
Rights : (c) Ricardson Williams
Subject : 2011, 50mm, Asia, B&W, Black White, ISO 160, M9 Digital Camera, People, Ricardson, Ricardsonwilliams, Street Photography
Tone Curve : 0, 0, 32, 16, 64, 50, 128, 128, 192, 202, 255, 255
Image Width : 300
Image Height : 200
Bits Per Sample : 8
Color Components : 1
Aperture : 8.0
Blue Balance : 0.683607
Image Size : 300x200
Lens ID : Leica Summicron-M 50mm f/2 (IV, V)
Megapixels : 0.060
Red Balance : 0.489264
Scale Factor To 35 mm Equivalent : 1.0
Shutter Speed : 1/750
Circle Of Confusion : 0.030 mm
Field Of View : 39.6 deg
Focal Length : 50.0 mm (35 mm equivalent: 50.0 mm)
Hyperfocal Distance : 10.40 m
Light Value : 14.9