Uber Exif Photo
By-line : Patrik Nellhag
Copyright Notice : Patrik Nellhag
Copyright Flag : True
URL : www.nellhag.com
Make : Leica Camera AG
Camera Model Name : M8 Digital Camera
Software : 2.014
Modify Date : 2011:07:29 10:40:07
Artist : Patrik Nellhag
Copyright : Patrik Nellhag
Exposure Time : 1/500
F Number : 5.7
Exposure Program : Aperture-priority AE
ISO : 160
Sensitivity Type : Unknown
Date/Time Original : 2011:07:18 21:15:54
Create Date : 2011:07:18 21:15:54
Shutter Speed Value : 1/500
Aperture Value : 5.7
Exposure Compensation : 0
Max Aperture Value : 1.0
Metering Mode : Center-weighted average
Light Source : Unknown
Scene Type : Directly photographed
White Balance : Auto
Digital Zoom Ratio : 0
Scene Capture Type : Standard
Serial Number : 3329524
Date/Time Digitized : 2011:07:18 21:15:54+02:00
Exif Image Width : 1000
Exif Image Height : 673
Creator Tool : Adobe Photoshop Lightroom 3.3
Rating : 5
Marked : True
Web Statement : www.nellhag.com
Version : 6.3
Process Version : 5.7
Color Temperature : 4750
Tint : +14
Exposure : 0.00
Shadows : 10
Brightness : +70
Contrast : +22
Saturation : -100
Sharpness : 25
Luminance Smoothing : 26
Color Noise Reduction : 25
Chromatic Aberration R : 0
Chromatic Aberration B : 0
Vignette Amount : 0
Shadow Tint : 0
Red Hue : 0
Red Saturation : 0
Green Hue : 0
Green Saturation : 0
Blue Hue : 0
Blue Saturation : 0
Fill Light : 20
Vibrance : 0
Highlight Recovery : 23
Clarity : 0
Defringe : 0
Hue Adjustment Red : 0
Hue Adjustment Orange : 0
Hue Adjustment Yellow : 0
Hue Adjustment Green : 0
Hue Adjustment Aqua : 0
Hue Adjustment Blue : 0
Hue Adjustment Purple : 0
Hue Adjustment Magenta : 0
Saturation Adjustment Red : 0
Saturation Adjustment Orange : 0
Saturation Adjustment Yellow : 0
Saturation Adjustment Green : 0
Saturation Adjustment Aqua : 0
Saturation Adjustment Blue : 0
Saturation Adjustment Purple : 0
Saturation Adjustment Magenta : 0
Luminance Adjustment Red : 0
Luminance Adjustment Orange : 0
Luminance Adjustment Yellow : 0
Luminance Adjustment Green : 0
Luminance Adjustment Aqua : 0
Luminance Adjustment Blue : 0
Luminance Adjustment Purple : 0
Luminance Adjustment Magenta : 0
Split Toning Shadow Hue : 0
Split Toning Shadow Saturation : 0
Split Toning Highlight Hue : 0
Split Toning Highlight Saturation : 0
Split Toning Balance : 0
Parametric Shadows : 0
Parametric Darks : 0
Parametric Lights : 0
Parametric Highlights : 0
Parametric Shadow Split : 25
Parametric Midtone Split : 50
Parametric Highlight Split : 75
Sharpen Radius : +1.0
Sharpen Detail : 25
Sharpen Edge Masking : 0
Post Crop Vignette Amount : 0
Grain Amount : 0
Luminance Noise Reduction Detail : 50
Color Noise Reduction Detail : 50
Luminance Noise Reduction Contrast : 0
Lens Profile Enable : 0
Lens Manual Distortion Amount : 0
Perspective Vertical : 0
Perspective Horizontal : 0
Perspective Rotate : 0.0
Perspective Scale : 100
Convert To Grayscale : False
Tone Curve Name : Medium Contrast
Camera Profile : Adobe Standard
Lens Profile Setup : LensDefaults
Has Settings : True
Crop Top : 0
Crop Left : 0.025679
Crop Bottom : 1
Crop Right : 0.974321
Crop Angle : 1.4124
Crop Constrain To Warp : 0
Crop Width : 1000
Crop Height : 673
Crop Unit : pixels
Has Crop : True
Already Applied : True
Flash Fired : False
Flash Return : No return detection
Flash Mode : Auto
Flash Function : False
Flash Red Eye Mode : False
Usage Terms : Copyrighted
Creator : Patrik Nellhag
Rights : Patrik Nellhag
Creator Work Email : patrik@nellhag.com
Creator Address : www.nellhag.com
Creator Work URL : www.nellhag.com
Tone Curve : 0, 0, 32, 22, 64, 56, 128, 128, 192, 196, 255, 255
Paint Correction What : Correction
Paint Correction Amount : 1.000000
Paint Correction Active : true
Paint Correction Exposure : 0.000000
Paint Correction Saturation : 0.000000
Paint Correction Contrast : 0.000000
Paint Correction Clarity : 0.000000
Paint Correction Sharpness : 0.000000
Paint Correction Brightness : 0.533640
Paint Correction Toning Hue : 0.000000
Paint Correction Toning Saturation : 0.000000
Paint Correction Mask What : Mask/Paint
Paint Correction Mask Value : 1.000000
Paint Correction Mask Radius : 0.020489
Paint Correction Mask Flow : 0.500000
Paint Correction Mask Center Weight : 0.000000
Image Width : 300
Image Height : 202
Bits Per Sample : 8
Color Components : 1
Aperture : 5.7
Image Size : 300x202
Megapixels : 0.061
Scale Factor To 35 mm Equivalent : 5.3
Shutter Speed : 1/500
Flash : Auto, Did not fire
Circle Of Confusion : 0.006 mm
Light Value : 13.3