Uber Exif Photo
Keywords : trenthorst
Copyright Notice : dierk topp
Copyright Flag : True
Make : Leica Camera AG
Camera Model Name : M9 Digital Camera
Software : Adobe Photoshop Lightroom 3.4.1
Modify Date : 2011:07:25 15:55:15
Copyright : dierk topp
Exposure Time : 1/750
F Number : 6.7
Exposure Program : Aperture-priority AE
ISO : 160
Date/Time Original : 2011:07:21 12:35:02
Create Date : 2011:07:21 12:35:02
Shutter Speed Value : 1/750
Aperture Value : 6.7
Exposure Compensation : 0
Max Aperture Value : 1.4
Metering Mode : Center-weighted average
Light Source : Unknown
Flash : No Flash
Focal Length : 35.0 mm
Contrast : Normal
Sharpening : Normal
Saturation : Normal
White Balance : Auto
JPEG Quality : Fine
WB RGB Levels : 0.4780299936 1 0.684091858
User Profile : Mein
JPEG Size : 5216x3472
Serial Number : 3834236
Firmware Version : 1.162
Base ISO : 160
Sensor Width : 5270
Sensor Height : 3516
Sensor Bit Depth : 14
Camera Temperature : 21 C
Lens Type : Summilux-M 35mm f/1.4 ASPH.
Approximate F Number : 5.5
Measured LV : 5.81
External Sensor Brightness Value : 6.18
Color Space : Uncalibrated
Scene Type : Directly photographed
Exposure Mode : Manual
Digital Zoom Ratio : 0
Focal Length In 35mm Format : 35 mm
Scene Capture Type : Standard
Maker Note Safety : Safe
Profile Description : sRGB IEC61966-2.1
Lens : Leica Summilux-M 35mm f/1.4 ASPH.
Rights : dierk topp
Subject : trenthorst
Sharpness : Hard
Date Created : 2011:07:21 12:35:02
Property Release Status : Unknown (nil)
PLUS Version : 1.2.0
Creator Tool : Adobe Photoshop Lightroom 3.4.1
Rating : 5
Marked : True
Already Applied : True
Blue Hue : 0
Blue Saturation : 0
Brightness : +41
Camera Profile : Adobe Standard
Chromatic Aberration B : 0
Chromatic Aberration R : 0
Clarity : +32
Color Noise Reduction : 25
Convert To Grayscale : True
Crop Angle : 0
Crop Bottom : 0.906198
Crop Height : 904
Crop Left : 0
Crop Right : 1
Crop Top : 0
Crop Unit : pixels
Crop Width : 1500
Defringe : 0
Exposure : +0.75
Fill Light : 9
Gray Mixer Aqua : -3
Gray Mixer Blue : +40
Gray Mixer Green : +12
Gray Mixer Magenta : +4
Gray Mixer Orange : +13
Gray Mixer Purple : +16
Gray Mixer Red : -10
Gray Mixer Yellow : +76
Green Hue : 0
Green Saturation : 0
Has Crop : True
Has Settings : True
Highlight Recovery : 15
Luminance Smoothing : 0
Parametric Darks : 0
Parametric Highlight Split : 75
Parametric Highlights : 0
Parametric Lights : +15
Parametric Midtone Split : 50
Parametric Shadow Split : 25
Parametric Shadows : 0
Post Crop Vignette Amount : -17
Post Crop Vignette Feather : 50
Post Crop Vignette Midpoint : 50
Post Crop Vignette Roundness : 0
Red Hue : 0
Red Saturation : 0
Shadow Tint : 0
Shadows : 2
Sharpen Detail : 33
Sharpen Edge Masking : 0
Sharpen Radius : +1.0
Split Toning Balance : 0
Split Toning Highlight Hue : 32
Split Toning Highlight Saturation : 7
Split Toning Shadow Hue : 53
Split Toning Shadow Saturation : 51
Color Temperature : 5852
Tint : +10
Tone Curve : 0, 0, 32, 22, 64, 56, 128, 128, 192, 196, 255, 255
Tone Curve Name : Medium Contrast
Version : 6.4.1
Vignette Amount : 0
Image Width : 300
Image Height : 187
Bits Per Sample : 8
Color Components : 3
Aperture : 6.7
Blue Balance : 0.684092
Image Size : 300x187
Lens ID : Summilux-M 35mm f/1.4 ASPH.
Megapixels : 0.056
Red Balance : 0.47803
Scale Factor To 35 mm Equivalent : 1.0
Shutter Speed : 1/750
Circle Of Confusion : 0.030 mm
Field Of View : 54.4 deg
Focal Length : 35.0 mm (35 mm equivalent: 35.0 mm)
Hyperfocal Distance : 6.09 m
Light Value : 14.4