Uber Exif Photo
By-line : Joe Gilbert
Keywords : jon barry chelseas
Copyright Notice : Joe Gilbert
Copyright Flag : True
URL : www.artoflightgallery.com
Photometric Interpretation : RGB
Make : LEICA CAMERA AG
Camera Model Name : LEICA X1
Orientation : Horizontal (normal)
Planar Configuration : Chunky
Software : Adobe Photoshop CS4 Macintosh
Modify Date : 2011:06:16 23:01:41
Artist : Joe Gilbert
Copyright : Joe Gilbert
Exposure Time : 1/640
F Number : 2.8
Exposure Program : Aperture-priority AE
ISO : 400
Date/Time Original : 2011:06:16 13:52:54
Create Date : 2011:06:16 13:52:54
Shutter Speed Value : 1/640
Aperture Value : 2.8
Exposure Compensation : +0.3
Max Aperture Value : 2.8
Subject Distance : 0.85 m
Metering Mode : Multi-segment
Light Source : Unknown
Focal Length : 24.0 mm
Color Space : sRGB
Exif Image Width : 1203
Exif Image Height : 805
Sensing Method : One-chip color area
Custom Rendered : Custom
White Balance : Auto
Digital Zoom Ratio : 1
Focal Length In 35mm Format : 36 mm
Scene Capture Type : Landscape
Contrast : Normal
Saturation : Normal
Sharpness : Normal
Profile Description : sRGB IEC61966-2.1
Samples Per Pixel : 3
Date/Time Digitized : 2011:06:16 13:52:54-05:00
Creator Tool : Adobe Photoshop Lightroom
Marked : True
Web Statement : www.artoflightgallery.com
Format : image/jpeg
Version : 5.6
Incremental Temperature : 0
Incremental Tint : 0
Exposure : 0.00
Shadows : 5
Brightness : +50
Luminance Smoothing : 13
Color Noise Reduction : 25
Chromatic Aberration R : 0
Chromatic Aberration B : 0
Vignette Amount : 0
Shadow Tint : 0
Red Hue : 0
Red Saturation : 0
Green Hue : 0
Green Saturation : 0
Blue Hue : 0
Blue Saturation : 0
Fill Light : 0
Highlight Recovery : 0
Clarity : +50
Defringe : 0
Gray Mixer Red : -6
Gray Mixer Orange : -43
Gray Mixer Yellow : +17
Gray Mixer Green : -55
Gray Mixer Aqua : -100
Gray Mixer Blue : -26
Gray Mixer Purple : -9
Gray Mixer Magenta : -6
Split Toning Shadow Hue : 0
Split Toning Shadow Saturation : 0
Split Toning Highlight Hue : 0
Split Toning Highlight Saturation : 8
Split Toning Balance : 0
Parametric Shadows : -17
Parametric Darks : -13
Parametric Lights : -15
Parametric Highlights : -34
Parametric Shadow Split : 25
Parametric Midtone Split : 50
Parametric Highlight Split : 75
Sharpen Radius : +1.0
Sharpen Detail : 25
Sharpen Edge Masking : 0
Post Crop Vignette Amount : -17
Post Crop Vignette Midpoint : 50
Post Crop Vignette Feather : 89
Post Crop Vignette Roundness : 0
Convert To Grayscale : True
Tone Curve Name : Strong Contrast
Camera Profile : Embedded
Has Settings : True
Crop Top : 0.18471
Crop Left : 0.095755
Crop Bottom : 0.955687
Crop Right : 0.866732
Crop Angle : 0
Crop Width : 3600
Crop Height : 2407
Crop Unit : pixels
Has Crop : True
Already Applied : True
Color Mode : RGB
ICC Profile Name : sRGB IEC61966-2.1
Flash Fired : False
Flash Return : No return detection
Flash Mode : Off
Flash Function : False
Flash Red Eye Mode : False
Creator Postal Code : 70808
Creator Region : LA
Creator City : Baton Rouge
Creator Address : 8867 Highland Road, Box 272
Creator Work URL : www.artoflightgallery.com
Creator : Joe Gilbert
Rights : Joe Gilbert
Subject : jon barry chelseas
Tone Curve : 0, 0, 32, 16, 64, 50, 128, 128, 192, 202, 255, 255
Image Width : 300
Image Height : 201
Bits Per Sample : 8
Color Components : 3
Aperture : 2.8
Image Size : 300x201
Megapixels : 0.060
Scale Factor To 35 mm Equivalent : 1.5
Shutter Speed : 1/640
Flash : Off, Did not fire
Circle Of Confusion : 0.020 mm
Depth Of Field : 0.14 m (0.79 - 0.92 m)
Field Of View : 53.1 deg
Focal Length : 24.0 mm (35 mm equivalent: 36.0 mm)
Hyperfocal Distance : 10.27 m
Light Value : 10.3