Uber Exif Photo
Keywords : reinfeld
Copyright Notice : dierk topp
Copyright Flag : True
Make : Leica Camera AG
Camera Model Name : M9 Digital Camera
Software : 1.116
Modify Date : 2011:05:05 13:02:21
Copyright : dierk topp
Exposure Time : 1/30
F Number : 2.8
Exposure Program : Aperture-priority AE
ISO : 1250
Date/Time Original : 2011:05:03 11:31:40
Create Date : 2011:05:03 11:31:40
Shutter Speed Value : 1/30
Aperture Value : 2.8
Exposure Compensation : 0
Max Aperture Value : 1.0
Metering Mode : Center-weighted average
Light Source : Unknown
Contrast : Normal
Sharpening : Normal
Saturation : Normal
JPEG Quality : Fine
White Balance : Auto
WB RGB Levels : 0.5109939806 1 0.6652860681
User Profile : Jpg
JPEG Size : 5216x3472
Serial Number : 3834236
Firmware Version : 1.116
Base ISO : 160
Sensor Width : 5270
Sensor Height : 3516
Sensor Bit Depth : 14
Camera Temperature : 19 C
Lens Type : Uncoded lens
Approximate F Number : 3.0
Measured LV : 0.95
External Sensor Brightness Value : -0.37
Color Space : Uncalibrated
Scene Type : Directly photographed
Exposure Mode : Manual
Digital Zoom Ratio : 0
Scene Capture Type : Standard
Maker Note Safety : Safe
Rights : dierk topp
Subject : reinfeld
Date/Time Digitized : 2011:05:03 11:31:40+02:00
Flash Fired : False
Flash Function : False
Flash Mode : Unknown
Flash Red Eye Mode : False
Flash Return : No return detection
Exif Image Width : 676
Exif Image Height : 1000
Sharpness : Hard
Property Release Status : Unknown (nil)
PLUS Version : 1.2.0
Creator Tool : Adobe Photoshop Lightroom
Rating : 5
Marked : True
Already Applied : True
Blue Hue : 0
Blue Saturation : 0
Brightness : +59
Camera Profile : Adobe Standard
Chromatic Aberration B : 0
Chromatic Aberration R : 0
Clarity : +30
Color Noise Reduction : 25
Convert To Grayscale : True
Crop Angle : 0
Crop Bottom : 0.958532
Crop Height : 676
Crop Left : 0.056597
Crop Right : 0.96782
Crop Top : 0.03244
Crop Unit : pixels
Crop Width : 1000
Defringe : 0
Exposure : 0.00
Fill Light : 10
Gray Mixer Aqua : -18
Gray Mixer Blue : +8
Gray Mixer Green : -25
Gray Mixer Magenta : +3
Gray Mixer Orange : +12
Gray Mixer Purple : +14
Gray Mixer Red : +49
Gray Mixer Yellow : -21
Green Hue : 0
Green Saturation : 0
Has Crop : True
Has Settings : True
Highlight Recovery : 24
Luminance Smoothing : 0
Parametric Darks : +31
Parametric Highlight Split : 75
Parametric Highlights : 0
Parametric Lights : 0
Parametric Midtone Split : 50
Parametric Shadow Split : 25
Parametric Shadows : 0
Post Crop Vignette Amount : -8
Post Crop Vignette Feather : 50
Post Crop Vignette Midpoint : 50
Post Crop Vignette Roundness : 0
Red Hue : 0
Red Saturation : 0
Shadow Tint : 0
Shadows : 24
Sharpen Detail : 35
Sharpen Edge Masking : 0
Sharpen Radius : +1.0
Split Toning Balance : 0
Split Toning Highlight Hue : 0
Split Toning Highlight Saturation : 0
Split Toning Shadow Hue : 0
Split Toning Shadow Saturation : 0
Color Temperature : 3950
Tint : +4
Tone Curve : 0, 0, 32, 22, 64, 56, 128, 128, 192, 196, 255, 255
Tone Curve Name : Medium Contrast
Version : 6.1
Vignette Amount : 0
Image Width : 210
Image Height : 300
Bits Per Sample : 8
Color Components : 1
Aperture : 2.8
Blue Balance : 0.665286
Image Size : 210x300
Lens ID : Uncoded lens
Megapixels : 0.063
Red Balance : 0.510994
Scale Factor To 35 mm Equivalent : 5.2
Shutter Speed : 1/30
Flash : No Flash
Circle Of Confusion : 0.006 mm
Light Value : 4.2