Uber Exif Photo
Keywords : reinfeld
Copyright Notice : dierk topp
Copyright Flag : True
Make : Leica Camera AG
Camera Model Name : M9 Digital Camera
Software : 1.116
Modify Date : 2011:05:05 13:02:06
Copyright : dierk topp
Exposure Time : 1/45
F Number : 4.8
Exposure Program : Aperture-priority AE
ISO : 640
Date/Time Original : 2011:05:03 11:16:26
Create Date : 2011:05:03 11:16:26
Shutter Speed Value : 1/45
Aperture Value : 4.8
Exposure Compensation : 0
Max Aperture Value : 1.0
Metering Mode : Center-weighted average
Light Source : Unknown
Contrast : Normal
Sharpening : Normal
Saturation : Normal
JPEG Quality : Fine
White Balance : Auto
WB RGB Levels : 0.5293015442 1 0.6413779605
User Profile : Jpg
JPEG Size : 5216x3472
Serial Number : 3834236
Firmware Version : 1.116
Base ISO : 160
Sensor Width : 5270
Sensor Height : 3516
Sensor Bit Depth : 14
Camera Temperature : 18 C
Lens Type : Uncoded lens
Approximate F Number : 4.5
Measured LV : 1.73
External Sensor Brightness Value : 1.26
Color Space : Uncalibrated
Scene Type : Directly photographed
Exposure Mode : Manual
Digital Zoom Ratio : 0
Scene Capture Type : Standard
Maker Note Safety : Safe
Rights : dierk topp
Subject : reinfeld
Date/Time Digitized : 2011:05:03 11:16:26+02:00
Flash Fired : False
Flash Function : False
Flash Mode : Unknown
Flash Red Eye Mode : False
Flash Return : No return detection
Exif Image Width : 1476
Exif Image Height : 1000
Sharpness : Hard
Property Release Status : Unknown (nil)
PLUS Version : 1.2.0
Creator Tool : Adobe Photoshop Lightroom
Rating : 5
Marked : True
Already Applied : True
Blue Hue : 0
Blue Saturation : 0
Brightness : +29
Camera Profile : Adobe Standard
Chromatic Aberration B : 0
Chromatic Aberration R : 0
Clarity : +26
Color Noise Reduction : 25
Convert To Grayscale : True
Crop Angle : 0.904182
Crop Bottom : 1
Crop Height : 1000
Crop Left : 0.034549
Crop Right : 0.983328
Crop Top : 0.000423
Crop Unit : pixels
Crop Width : 1476
Defringe : 0
Exposure : +1.20
Fill Light : 12
Gray Mixer Aqua : +24
Gray Mixer Blue : +10
Gray Mixer Green : +9
Gray Mixer Magenta : +2
Gray Mixer Orange : -24
Gray Mixer Purple : +15
Gray Mixer Red : +22
Gray Mixer Yellow : +15
Green Hue : 0
Green Saturation : 0
Has Crop : True
Has Settings : True
Highlight Recovery : 0
Luminance Smoothing : 0
Parametric Darks : 0
Parametric Highlight Split : 75
Parametric Highlights : 0
Parametric Lights : 0
Parametric Midtone Split : 50
Parametric Shadow Split : 25
Parametric Shadows : 0
Post Crop Vignette Amount : -23
Post Crop Vignette Feather : 50
Post Crop Vignette Midpoint : 50
Post Crop Vignette Roundness : 0
Red Hue : 0
Red Saturation : 0
Shadow Tint : 0
Shadows : 33
Sharpen Detail : 39
Sharpen Edge Masking : 0
Sharpen Radius : +1.0
Split Toning Balance : 0
Split Toning Highlight Hue : 0
Split Toning Highlight Saturation : 0
Split Toning Shadow Hue : 0
Split Toning Shadow Saturation : 0
Color Temperature : 3750
Tint : +2
Tone Curve : 0, 0, 32, 22, 64, 56, 128, 128, 192, 196, 255, 255
Tone Curve Name : Medium Contrast
Version : 6.1
Vignette Amount : 0
Image Width : 300
Image Height : 208
Bits Per Sample : 8
Color Components : 1
Aperture : 4.8
Blue Balance : 0.641378
Image Size : 300x208
Lens ID : Uncoded lens
Megapixels : 0.062
Red Balance : 0.529302
Scale Factor To 35 mm Equivalent : 3.5
Shutter Speed : 1/45
Flash : No Flash
Circle Of Confusion : 0.009 mm
Light Value : 7.3