Uber Exif Photo
Keywords : reinfeld
Copyright Notice : dierk topp
Copyright Flag : True
Make : Leica Camera AG
Camera Model Name : M9 Digital Camera
Software : Adobe Photoshop Lightroom
Modify Date : 2011:05:05 13:01:56
Copyright : dierk topp
Exposure Time : 1/30
F Number : 4.8
Exposure Program : Aperture-priority AE
ISO : 250
Date/Time Original : 2011:05:03 11:14:58
Shutter Speed Value : 1/30
Aperture Value : 4.8
Exposure Compensation : 0
Max Aperture Value : 1.0
Metering Mode : Center-weighted average
Light Source : Unknown
Color Space : Uncalibrated
Scene Type : Directly photographed
Exposure Mode : Manual
White Balance : Auto
Digital Zoom Ratio : 0
Scene Capture Type : Standard
Serial Number : 3834236
Rights : dierk topp
Subject : reinfeld
Contrast : High
Flash Fired : False
Flash Function : False
Flash Mode : Unknown
Flash Red Eye Mode : False
Flash Return : No return detection
Exif Image Width : 665
Exif Image Height : 1000
Sharpness : Normal
Property Release Status : Unknown (nil)
PLUS Version : 1.2.0
Create Date : 2011:05:03 11:14:58+02:00
Creator Tool : Adobe Photoshop Lightroom
Marked : True
Already Applied : True
Blue Hue : 0
Blue Saturation : 0
Brightness : +21
Camera Profile : Embedded
Chromatic Aberration B : 0
Chromatic Aberration R : 0
Clarity : +24
Color Noise Reduction : 0
Convert To Grayscale : True
Crop Angle : -1.85247
Crop Bottom : 0.966561
Crop Height : 1000
Crop Left : 0
Crop Right : 1
Crop Top : 0.033439
Crop Unit : pixels
Crop Width : 665
Defringe : 0
Exposure : 0.00
Fill Light : 14
Gray Mixer Aqua : -18
Gray Mixer Blue : +9
Gray Mixer Green : +16
Gray Mixer Magenta : +3
Gray Mixer Orange : -15
Gray Mixer Purple : +15
Gray Mixer Red : +16
Gray Mixer Yellow : -23
Green Hue : 0
Green Saturation : 0
Has Crop : True
Has Settings : True
Highlight Recovery : 0
Incremental Temperature : 0
Incremental Tint : 0
Luminance Smoothing : 0
Parametric Darks : 0
Parametric Highlight Split : 75
Parametric Highlights : 0
Parametric Lights : +36
Parametric Midtone Split : 50
Parametric Shadow Split : 25
Parametric Shadows : 0
Post Crop Vignette Amount : -13
Post Crop Vignette Feather : 50
Post Crop Vignette Midpoint : 50
Post Crop Vignette Roundness : 0
Red Hue : 0
Red Saturation : 0
Shadow Tint : 0
Shadows : 10
Sharpen Detail : 25
Sharpen Edge Masking : 0
Sharpen Radius : +1.0
Split Toning Balance : 0
Split Toning Highlight Hue : 0
Split Toning Highlight Saturation : 0
Split Toning Shadow Hue : 0
Split Toning Shadow Saturation : 0
Tone Curve : 0, 0, 255, 255
Tone Curve Name : Linear
Version : 6.1
Vignette Amount : 0
Image Width : 207
Image Height : 300
Bits Per Sample : 8
Color Components : 1
Aperture : 4.8
Image Size : 207x300
Megapixels : 0.062
Scale Factor To 35 mm Equivalent : 5.2
Shutter Speed : 1/30
Flash : No Flash
Circle Of Confusion : 0.006 mm
Light Value : 8.1