Uber Exif Photo
Keywords : Hong Kong, Leica
By-line : Os Ishmael
Copyright Flag : True
Make : Leica Camera AG
Camera Model Name : M9 Digital Camera
Software : 1.138
Modify Date : 2011:04:30 11:19:36
Exposure Time : 1/60
Exposure Program : Aperture-priority AE
ISO : 200
Date/Time Original : 2011:04:10 09:22:01
Create Date : 2011:04:10 09:22:01
Shutter Speed Value : 1/60
Exposure Compensation : 0
Max Aperture Value : 2.0
Metering Mode : Center-weighted average
Light Source : Unknown
Focal Length : 50.0 mm
Contrast : Normal
Sharpening : Normal
Saturation : Black & White
White Balance : Auto
JPEG Quality : Fine
WB RGB Levels : 0.4643596066 1 0.762223773
User Profile : Ossie 1
JPEG Size : 5216x3472
Serial Number : 3908455
Firmware Version : 1.138
Base ISO : 160
Sensor Width : 5270
Sensor Height : 3516
Sensor Bit Depth : 14
Camera Temperature : 24 C
Lens Type : Summicron-M 50mm f/2 (IV, V)
Approximate F Number : 5.5
Measured LV : 2.80
External Sensor Brightness Value : 3.21
Scene Type : Directly photographed
Exposure Mode : Auto bracket
Digital Zoom Ratio : 0
Focal Length In 35mm Format : 50 mm
Scene Capture Type : Standard
Maker Note Safety : Safe
Date/Time Digitized : 2011:04:10 09:22:01+08:00
Exif Image Width : 1000
Exif Image Height : 667
Creator Tool : Adobe Photoshop Lightroom
Marked : True
Version : 5.2
Color Temperature : 5600
Tint : +16
Exposure : 0.00
Shadows : 7
Brightness : +77
Sharpness : 25
Luminance Smoothing : 0
Color Noise Reduction : 25
Chromatic Aberration R : 0
Chromatic Aberration B : 0
Vignette Amount : 0
Shadow Tint : 0
Red Hue : 0
Red Saturation : 0
Green Hue : 0
Green Saturation : 0
Blue Hue : 0
Blue Saturation : 0
Fill Light : 0
Highlight Recovery : 11
Clarity : 0
Defringe : 0
Gray Mixer Red : -7
Gray Mixer Orange : -17
Gray Mixer Yellow : -21
Gray Mixer Green : -26
Gray Mixer Aqua : -19
Gray Mixer Blue : +7
Gray Mixer Purple : +15
Gray Mixer Magenta : +5
Split Toning Shadow Hue : 0
Split Toning Shadow Saturation : 0
Split Toning Highlight Hue : 0
Split Toning Highlight Saturation : 0
Split Toning Balance : 0
Parametric Shadows : 0
Parametric Darks : 0
Parametric Lights : 0
Parametric Highlights : 0
Parametric Shadow Split : 25
Parametric Midtone Split : 50
Parametric Highlight Split : 75
Sharpen Radius : +1.0
Sharpen Detail : 25
Sharpen Edge Masking : 0
Post Crop Vignette Amount : 0
Convert To Grayscale : True
Tone Curve Name : Medium Contrast
Camera Profile : Embedded
Has Settings : True
Crop Top : 0
Crop Left : 0.211237
Crop Bottom : 0.790279
Crop Right : 1
Crop Angle : 0
Crop Width : 1000
Crop Height : 667
Crop Unit : pixels
Has Crop : True
Already Applied : True
Flash Fired : False
Flash Return : No return detection
Flash Mode : Unknown
Flash Function : False
Flash Red Eye Mode : False
Creator : Os Ishmael
Subject : Hong Kong, Leica
Tone Curve : 0, 0, 32, 22, 64, 56, 128, 128, 192, 196, 255, 255
Image Width : 300
Image Height : 200
Bits Per Sample : 8
Color Components : 1
Blue Balance : 0.762224
Image Size : 300x200
Lens ID : Summicron-M 50mm f/2 (IV, V)
Megapixels : 0.060
Red Balance : 0.46436
Scale Factor To 35 mm Equivalent : 1.0
Shutter Speed : 1/60
Flash : No Flash
Circle Of Confusion : 0.030 mm
Field Of View : 39.6 deg
Focal Length : 50.0 mm (35 mm equivalent: 50.0 mm)