Uber Exif Photo
Copyright Notice : dierk topp
Copyright Flag : True
Software : PTGui Pro (www.ptgui.com)
Modify Date : 2011:04:18 20:32:23
Copyright : dierk topp
Exposure Time : 1/12
ISO : 160
Date/Time Original : 2011:04:18 19:08:11
Create Date : 2011:04:18 19:08:11
Shutter Speed Value : 1/12
Focal Length : 67.3 mm
Color Space : Uncalibrated
Focal Length In 35mm Format : 67 mm
Rights : dierk topp
Contrast : High
Date/Time Digitized : 2011:04:18 19:08:11+02:00
Exif Image Width : 915
Exif Image Height : 1000
Sharpness : Normal
Property Release Status : Unknown (nil)
PLUS Version : 1.2.0
Creator Tool : Adobe Photoshop Lightroom
Rating : 5
Marked : True
Already Applied : True
Blue Hue : 0
Blue Saturation : 0
Brightness : +3
Camera Profile : Embedded
Chromatic Aberration B : 0
Chromatic Aberration R : 0
Clarity : +13
Color Noise Reduction : 0
Convert To Grayscale : True
Crop Angle : 0
Crop Bottom : 0.991014
Crop Height : 1000
Crop Left : 0.268674
Crop Right : 0.983277
Crop Top : 0.091142
Crop Unit : pixels
Crop Width : 915
Defringe : 0
Exposure : 0.00
Fill Light : 26
Gray Mixer Aqua : -18
Gray Mixer Blue : +9
Gray Mixer Green : -37
Gray Mixer Magenta : +4
Gray Mixer Orange : -19
Gray Mixer Purple : +15
Gray Mixer Red : -10
Gray Mixer Yellow : -19
Green Hue : 0
Green Saturation : 0
Has Crop : True
Has Settings : True
Highlight Recovery : 21
Incremental Temperature : 0
Incremental Tint : 0
Luminance Smoothing : 0
Parametric Darks : -8
Parametric Highlight Split : 75
Parametric Highlights : -30
Parametric Lights : -34
Parametric Midtone Split : 50
Parametric Shadow Split : 25
Parametric Shadows : 0
Post Crop Vignette Amount : -19
Post Crop Vignette Feather : 50
Post Crop Vignette Midpoint : 50
Post Crop Vignette Roundness : 0
Red Hue : 0
Red Saturation : 0
Shadow Tint : 0
Shadows : 14
Sharpen Detail : 25
Sharpen Edge Masking : 0
Sharpen Radius : +1.0
Split Toning Balance : 0
Split Toning Highlight Hue : 0
Split Toning Highlight Saturation : 0
Split Toning Shadow Hue : 0
Split Toning Shadow Saturation : 0
Tone Curve : 0, 0, 255, 255
Tone Curve Name : Linear
Version : 6.1
Vignette Amount : 0
Image Width : 276
Image Height : 300
Bits Per Sample : 8
Color Components : 1
Image Size : 276x300
Megapixels : 0.083
Scale Factor To 35 mm Equivalent : 1.0
Shutter Speed : 1/12
Circle Of Confusion : 0.030 mm
Field Of View : 30.1 deg
Focal Length : 67.3 mm (35 mm equivalent: 67.0 mm)