Uber Exif Photo
Keywords : reinfeld
Copyright Notice : dierk topp
Copyright Flag : True
Make : Leica Camera AG
Camera Model Name : M9 Digital Camera
Software : 1.116
Modify Date : 2011:04:14 21:18:51
Copyright : dierk topp
Exposure Time : 1/750
F Number : 8.0
Exposure Program : Aperture-priority AE
ISO : 160
Date/Time Original : 2011:04:14 14:37:59
Create Date : 2011:04:14 14:37:59
Shutter Speed Value : 1/750
Aperture Value : 8.0
Exposure Compensation : 0
Max Aperture Value : 3.8
Metering Mode : Center-weighted average
Light Source : Unknown
Focal Length : 18.0 mm
Contrast : Normal
Sharpening : Normal
Saturation : Normal
JPEG Quality : Fine
White Balance : Auto
WB RGB Levels : 0.4665546601 1 0.7387834243
User Profile : Jpg
JPEG Size : 5216x3472
Serial Number : 3834236
Firmware Version : 1.116
Base ISO : 160
Sensor Width : 5270
Sensor Height : 3516
Sensor Bit Depth : 14
Camera Temperature : 19 C
Lens Type : Apo-Telyt-M 18mm f/3.8 ASPH.
Approximate F Number : 6.0
Measured LV : 5.92
External Sensor Brightness Value : 6.52
Color Space : Uncalibrated
Scene Type : Directly photographed
Exposure Mode : Auto bracket
Digital Zoom Ratio : 0
Focal Length In 35mm Format : 18 mm
Scene Capture Type : Standard
Maker Note Safety : Safe
Profile Description : sRGB IEC61966-2.1
Lens : Super-Elmar-M 18mm f/3.8 ASPH.
Rights : dierk topp
Subject : reinfeld
Date/Time Digitized : 2011:04:14 14:37:59+02:00
Flash Fired : False
Flash Function : False
Flash Mode : Unknown
Flash Red Eye Mode : False
Flash Return : No return detection
Exif Image Width : 1100
Exif Image Height : 703
Sharpness : Hard
Property Release Status : Unknown (nil)
PLUS Version : 1.2.0
Creator Tool : Adobe Photoshop Lightroom
Marked : True
Already Applied : True
Blue Hue : 0
Blue Saturation : 0
Brightness : +59
Camera Profile : Adobe Standard
Chromatic Aberration B : 0
Chromatic Aberration R : 0
Clarity : +38
Color Noise Reduction : 25
Convert To Grayscale : False
Crop Angle : 1.21524
Crop Bottom : 0.978425
Crop Height : 703
Crop Left : 0.013366
Crop Right : 0.986634
Crop Top : 0
Crop Unit : pixels
Crop Width : 1100
Defringe : 0
Exposure : +0.74
Fill Light : 19
Green Hue : 0
Green Saturation : 0
Has Crop : True
Has Settings : True
Highlight Recovery : 0
Hue Adjustment Aqua : 0
Hue Adjustment Blue : 0
Hue Adjustment Green : 0
Hue Adjustment Magenta : 0
Hue Adjustment Orange : 0
Hue Adjustment Purple : 0
Hue Adjustment Red : 0
Hue Adjustment Yellow : 0
Luminance Adjustment Aqua : 0
Luminance Adjustment Blue : 0
Luminance Adjustment Green : 0
Luminance Adjustment Magenta : 0
Luminance Adjustment Orange : 0
Luminance Adjustment Purple : 0
Luminance Adjustment Red : 0
Luminance Adjustment Yellow : 0
Luminance Smoothing : 0
Parametric Darks : 0
Parametric Highlight Split : 75
Parametric Highlights : 0
Parametric Lights : 0
Parametric Midtone Split : 50
Parametric Shadow Split : 25
Parametric Shadows : 0
Post Crop Vignette Amount : 0
Red Hue : 0
Red Saturation : 0
Saturation Adjustment Aqua : 0
Saturation Adjustment Blue : 0
Saturation Adjustment Green : 0
Saturation Adjustment Magenta : 0
Saturation Adjustment Orange : 0
Saturation Adjustment Purple : 0
Saturation Adjustment Red : 0
Saturation Adjustment Yellow : 0
Shadow Tint : 0
Shadows : 10
Sharpen Detail : 25
Sharpen Edge Masking : 0
Sharpen Radius : +1.0
Split Toning Balance : 0
Split Toning Highlight Hue : 0
Split Toning Highlight Saturation : 0
Split Toning Shadow Hue : 0
Split Toning Shadow Saturation : 0
Color Temperature : 4650
Tint : +6
Tone Curve : 0, 0, 32, 22, 64, 56, 128, 128, 192, 196, 255, 255
Tone Curve Name : Medium Contrast
Version : 6.1
Vibrance : 0
Vignette Amount : 0
Image Width : 300
Image Height : 199
Bits Per Sample : 8
Color Components : 3
Aperture : 8.0
Blue Balance : 0.738783
Image Size : 300x199
Lens ID : Apo-Telyt-M 18mm f/3.8 ASPH.
Megapixels : 0.060
Red Balance : 0.466555
Scale Factor To 35 mm Equivalent : 1.0
Shutter Speed : 1/750
Flash : No Flash
Circle Of Confusion : 0.030 mm
Field Of View : 90.0 deg
Focal Length : 18.0 mm (35 mm equivalent: 18.0 mm)
Hyperfocal Distance : 1.35 m
Light Value : 14.9