Uber Exif Photo
Make : LEICA
Camera Model Name : V-LUX 2
Orientation : Horizontal (normal)
Software : Adobe Photoshop Elements 9.0 Macintosh
Modify Date : 2011:04:10 10:35:02
Exposure Time : 1/800
F Number : 4.0
Exposure Program : Program AE
ISO : 200
Sensitivity Type : Standard Output Sensitivity
Date/Time Original : 2011:04:10 10:22:33
Create Date : 2011:04:10 10:22:33
Shutter Speed Value : 1/800
Aperture Value : 4.0
Exposure Compensation : 0
Max Aperture Value : 2.8
Metering Mode : Multi-segment
Light Source : Unknown
Focal Length : 4.5 mm
Color Space : sRGB
Exif Image Width : 4320
Exif Image Height : 2880
Sensing Method : One-chip color area
Scene Type : Directly photographed
Custom Rendered : Custom
Exposure Mode : Auto
White Balance : Auto
Digital Zoom Ratio : 0
Focal Length In 35mm Format : 26 mm
Scene Capture Type : Standard
Gain Control : Low gain up
Contrast : Low
Saturation : Low
Sharpness : Soft
Profile Description : sRGB IEC61966-2.1
Date/Time Digitized : 2011:04:10 10:22:33+08:00
Creator Tool : Ver.1.0
Rating : 0
Raw File Name : L1000485.JPG
Version : 6.3
Process Version : 5.7
Incremental Temperature : 0
Incremental Tint : 0
Exposure : +0.10
Shadows : 51
Brightness : +5
Luminance Smoothing : 0
Color Noise Reduction : 0
Chromatic Aberration R : 0
Chromatic Aberration B : 0
Vignette Amount : 0
Shadow Tint : 0
Red Hue : 0
Red Saturation : 0
Green Hue : 0
Green Saturation : 0
Blue Hue : 0
Blue Saturation : 0
Fill Light : 71
Vibrance : +14
Highlight Recovery : 68
Clarity : +29
Defringe : 0
Hue Adjustment Red : 0
Hue Adjustment Orange : 0
Hue Adjustment Yellow : 0
Hue Adjustment Green : 0
Hue Adjustment Aqua : 0
Hue Adjustment Blue : 0
Hue Adjustment Purple : 0
Hue Adjustment Magenta : 0
Saturation Adjustment Red : 0
Saturation Adjustment Orange : 0
Saturation Adjustment Yellow : 0
Saturation Adjustment Green : 0
Saturation Adjustment Aqua : 0
Saturation Adjustment Blue : 0
Saturation Adjustment Purple : 0
Saturation Adjustment Magenta : 0
Luminance Adjustment Red : 0
Luminance Adjustment Orange : 0
Luminance Adjustment Yellow : 0
Luminance Adjustment Green : 0
Luminance Adjustment Aqua : 0
Luminance Adjustment Blue : 0
Luminance Adjustment Purple : 0
Luminance Adjustment Magenta : 0
Split Toning Shadow Hue : 0
Split Toning Shadow Saturation : 0
Split Toning Highlight Hue : 0
Split Toning Highlight Saturation : 0
Split Toning Balance : 0
Parametric Shadows : 0
Parametric Darks : 0
Parametric Lights : 0
Parametric Highlights : 0
Parametric Shadow Split : 25
Parametric Midtone Split : 50
Parametric Highlight Split : 75
Sharpen Radius : +1.0
Sharpen Detail : 25
Sharpen Edge Masking : 0
Post Crop Vignette Amount : 0
Grain Amount : 0
Lens Profile Enable : 0
Lens Manual Distortion Amount : 0
Perspective Vertical : 0
Perspective Horizontal : 0
Perspective Rotate : 0.0
Perspective Scale : 100
Convert To Grayscale : False
Tone Curve Name : Linear
Camera Profile : Embedded
Lens Profile Setup : LensDefaults
Has Settings : True
Has Crop : False
Already Applied : True
Format : image/jpeg
Color Mode : RGB
ICC Profile Name : sRGB IEC61966-2.1
Flash Fired : False
Flash Return : No return detection
Flash Mode : Off
Flash Function : False
Flash Red Eye Mode : False
Tone Curve : 0, 0, 255, 255
Image Width : 300
Image Height : 200
Bits Per Sample : 8
Color Components : 3
Aperture : 4.0
Image Size : 300x200
Megapixels : 0.060
Scale Factor To 35 mm Equivalent : 5.8
Shutter Speed : 1/800
Flash : Off, Did not fire
Circle Of Confusion : 0.005 mm
Field Of View : 69.4 deg
Focal Length : 4.5 mm (35 mm equivalent: 26.0 mm)
Hyperfocal Distance : 0.97 m
Light Value : 12.6