Uber Exif Photo
Keywords : Tanya & Dorise
Photometric Interpretation : RGB
Make : LEICA CAMERA AG
Camera Model Name : LEICA X1
Orientation : Horizontal (normal)
Planar Configuration : Chunky
Software : Adobe Photoshop CS4 Macintosh
Modify Date : 2011:04:03 15:06:28
Exposure Time : 1/500
F Number : 2.8
Exposure Program : Aperture-priority AE
ISO : 100
Date/Time Original : 2011:04:02 11:41:18
Create Date : 2011:04:02 11:41:18
Shutter Speed Value : 1/500
Aperture Value : 2.8
Exposure Compensation : +0.3
Max Aperture Value : 2.8
Subject Distance : 0.81 m
Metering Mode : Multi-segment
Light Source : Unknown
Focal Length : 24.0 mm
Color Space : sRGB
Exif Image Width : 1203
Exif Image Height : 805
Sensing Method : One-chip color area
Custom Rendered : Normal
White Balance : Auto
Digital Zoom Ratio : 1
Focal Length In 35mm Format : 36 mm
Scene Capture Type : Landscape
Contrast : Normal
Saturation : Normal
Sharpness : Normal
Profile Description : sRGB IEC61966-2.1
Samples Per Pixel : 3
Date/Time Digitized : 2011:04:02 11:41:18-05:00
Creator Tool : Adobe Photoshop Lightroom
Serial Number : 000003827360
Lens Info : 24mm f/2.8
Lens : 24.0 mm f/2.8
Format : image/jpeg
Version : 5.6
Color Temperature : 4800
Tint : -1
Exposure : +0.60
Shadows : 18
Brightness : +50
Luminance Smoothing : 0
Color Noise Reduction : 25
Chromatic Aberration R : 0
Chromatic Aberration B : 0
Vignette Amount : 0
Shadow Tint : 0
Red Hue : 0
Red Saturation : 0
Green Hue : 0
Green Saturation : 0
Blue Hue : 0
Blue Saturation : 0
Fill Light : 45
Vibrance : +32
Highlight Recovery : 46
Clarity : +49
Defringe : 0
Hue Adjustment Red : 0
Hue Adjustment Orange : 0
Hue Adjustment Yellow : 0
Hue Adjustment Green : 0
Hue Adjustment Aqua : 0
Hue Adjustment Blue : 0
Hue Adjustment Purple : 0
Hue Adjustment Magenta : 0
Saturation Adjustment Red : 0
Saturation Adjustment Orange : 0
Saturation Adjustment Yellow : 0
Saturation Adjustment Green : 0
Saturation Adjustment Aqua : 0
Saturation Adjustment Blue : 0
Saturation Adjustment Purple : 0
Saturation Adjustment Magenta : 0
Luminance Adjustment Red : 0
Luminance Adjustment Orange : 0
Luminance Adjustment Yellow : 0
Luminance Adjustment Green : 0
Luminance Adjustment Aqua : 0
Luminance Adjustment Blue : 0
Luminance Adjustment Purple : 0
Luminance Adjustment Magenta : 0
Split Toning Shadow Hue : 0
Split Toning Shadow Saturation : 0
Split Toning Highlight Hue : 0
Split Toning Highlight Saturation : 0
Split Toning Balance : 0
Parametric Shadows : 0
Parametric Darks : 0
Parametric Lights : 0
Parametric Highlights : 0
Parametric Shadow Split : 25
Parametric Midtone Split : 50
Parametric Highlight Split : 75
Sharpen Radius : +1.0
Sharpen Detail : 25
Sharpen Edge Masking : 0
Post Crop Vignette Amount : -30
Post Crop Vignette Midpoint : 50
Post Crop Vignette Feather : 73
Post Crop Vignette Roundness : 0
Convert To Grayscale : False
Tone Curve Name : Medium Contrast
Camera Profile : Adobe Standard
Has Settings : True
Crop Top : 0.310622
Crop Left : 0.59239
Crop Bottom : 0.853708
Crop Right : 0.835121
Crop Angle : 0
Crop Width : 2407
Crop Height : 3600
Crop Unit : pixels
Has Crop : True
Already Applied : True
Color Mode : RGB
ICC Profile Name : sRGB IEC61966-2.1
Flash Fired : False
Flash Return : No return detection
Flash Mode : Off
Flash Function : False
Flash Red Eye Mode : False
Subject : Tanya & Dorise
Tone Curve : 0, 0, 32, 22, 64, 56, 128, 128, 192, 196, 255, 255
Image Width : 300
Image Height : 201
Bits Per Sample : 8
Color Components : 3
Aperture : 2.8
Image Size : 300x201
Megapixels : 0.060
Scale Factor To 35 mm Equivalent : 1.5
Shutter Speed : 1/500
Flash : Off, Did not fire
Circle Of Confusion : 0.020 mm
Depth Of Field : 0.12 m (0.75 - 0.88 m)
Field Of View : 53.1 deg
Focal Length : 24.0 mm (35 mm equivalent: 36.0 mm)
Hyperfocal Distance : 10.27 m
Light Value : 11.9
Lens ID : 24.0mm f/2.8