Uber Exif Photo
Keywords : version 2.0 tests
Photometric Interpretation : RGB
Make : LEICA CAMERA AG
Camera Model Name : LEICA X1
Orientation : Horizontal (normal)
Planar Configuration : Chunky
Software : Adobe Photoshop CS4 Macintosh
Modify Date : 2011:03:29 22:09:15
Exposure Time : 1/500
F Number : 6.3
Exposure Program : Aperture-priority AE
ISO : 100
Date/Time Original : 2011:03:29 11:16:08
Create Date : 2011:03:29 11:16:08
Shutter Speed Value : 1/500
Aperture Value : 6.3
Exposure Compensation : 0
Max Aperture Value : 2.8
Subject Distance : 1.07 m
Metering Mode : Multi-segment
Light Source : Unknown
Focal Length : 24.0 mm
Color Space : sRGB
Exif Image Width : 867
Exif Image Height : 581
Sensing Method : One-chip color area
Custom Rendered : Normal
White Balance : Auto
Digital Zoom Ratio : 1
Focal Length In 35mm Format : 36 mm
Scene Capture Type : Landscape
Contrast : Normal
Saturation : Normal
Sharpness : Normal
Profile Description : sRGB IEC61966-2.1
Samples Per Pixel : 3
Date/Time Digitized : 2011:03:29 11:16:08-05:00
Creator Tool : Adobe Photoshop Lightroom
Serial Number : 000003827360
Lens Info : 24mm f/2.8
Lens : 24.0 mm f/2.8
Format : image/jpeg
Version : 5.6
Color Temperature : 4714
Tint : -39
Exposure : +0.58
Shadows : 17
Brightness : +19
Luminance Smoothing : 27
Color Noise Reduction : 1
Chromatic Aberration R : 0
Chromatic Aberration B : 0
Vignette Amount : +84
Vignette Midpoint : 17
Shadow Tint : -77
Red Hue : +7
Red Saturation : -55
Green Hue : -75
Green Saturation : +92
Blue Hue : -98
Blue Saturation : -5
Fill Light : 0
Vibrance : +7
Highlight Recovery : 33
Clarity : +77
Defringe : 0
Hue Adjustment Red : -12
Hue Adjustment Orange : -39
Hue Adjustment Yellow : -60
Hue Adjustment Green : 0
Hue Adjustment Aqua : -43
Hue Adjustment Blue : +25
Hue Adjustment Purple : +1
Hue Adjustment Magenta : 0
Saturation Adjustment Red : -12
Saturation Adjustment Orange : -43
Saturation Adjustment Yellow : -49
Saturation Adjustment Green : -45
Saturation Adjustment Aqua : +38
Saturation Adjustment Blue : +39
Saturation Adjustment Purple : -28
Saturation Adjustment Magenta : 0
Luminance Adjustment Red : 0
Luminance Adjustment Orange : 0
Luminance Adjustment Yellow : 0
Luminance Adjustment Green : 0
Luminance Adjustment Aqua : 0
Luminance Adjustment Blue : 0
Luminance Adjustment Purple : 0
Luminance Adjustment Magenta : 0
Split Toning Shadow Hue : 247
Split Toning Shadow Saturation : 36
Split Toning Highlight Hue : 63
Split Toning Highlight Saturation : 48
Split Toning Balance : +38
Parametric Shadows : +36
Parametric Darks : -13
Parametric Lights : 0
Parametric Highlights : -48
Parametric Shadow Split : 25
Parametric Midtone Split : 50
Parametric Highlight Split : 75
Sharpen Radius : +1.0
Sharpen Detail : 25
Sharpen Edge Masking : 0
Post Crop Vignette Amount : -9
Post Crop Vignette Midpoint : 50
Post Crop Vignette Feather : 50
Post Crop Vignette Roundness : 0
Convert To Grayscale : False
Tone Curve Name : Linear
Camera Profile : Embedded
Has Settings : True
Crop Top : 0.118168
Crop Left : 0.046398
Crop Bottom : 0.762701
Crop Right : 0.690931
Crop Angle : 0
Crop Width : 2753
Crop Height : 1841
Crop Unit : pixels
Has Crop : True
Already Applied : True
Color Mode : RGB
ICC Profile Name : sRGB IEC61966-2.1
Flash Fired : False
Flash Return : No return detection
Flash Mode : Off
Flash Function : False
Flash Red Eye Mode : False
Subject : version 2.0 tests
Tone Curve : 0, 0, 255, 255
Image Width : 300
Image Height : 201
Bits Per Sample : 8
Color Components : 3
Aperture : 6.3
Image Size : 300x201
Megapixels : 0.060
Scale Factor To 35 mm Equivalent : 1.5
Shutter Speed : 1/500
Flash : Off, Did not fire
Circle Of Confusion : 0.020 mm
Depth Of Field : 0.52 m (0.87 - 1.39 m)
Field Of View : 53.1 deg
Focal Length : 24.0 mm (35 mm equivalent: 36.0 mm)
Hyperfocal Distance : 4.56 m
Light Value : 14.3
Lens ID : 24.0mm f/2.8