Uber Exif Photo
By-line : Ross Funnell
By-line Title : Dr Ross Funnell, Chiropractor
Copyright Notice : Ross Funnell
Copyright Flag : True
URL : ross.funnell@funnellchiropractic.com
Make : Plustek
Camera Model Name : OpticFilm 7600i
Software : SilverFast 6.6.2r4
Modify Date : 2011:03:26 06:21:19
Copyright : Ross Funnell
Sensitivity Type : Unknown
Create Date : 2011:03:25 06:08:10
Profile Description : sRGB IEC61966-2.1
Date/Time Digitized : 2011:03:25 06:08:10+08:00
Exif Image Width : 3268
Exif Image Height : 2228
Creator Tool : Adobe Photoshop Lightroom 3.3
Rating : 4
Marked : True
Web Statement : ross.funnell@funnellchiropractic.com
Authors Position : Dr Ross Funnell, Chiropractor
Version : 6.3
Process Version : 5.7
White Balance : As Shot
Incremental Temperature : 0
Incremental Tint : 0
Exposure : +0.30
Shadows : 2
Brightness : +6
Contrast : +10
Saturation : +14
Sharpness : 0
Luminance Smoothing : 0
Color Noise Reduction : 0
Chromatic Aberration R : 0
Chromatic Aberration B : 0
Vignette Amount : 0
Shadow Tint : 0
Red Hue : 0
Red Saturation : 0
Green Hue : 0
Green Saturation : 0
Blue Hue : 0
Blue Saturation : 0
Fill Light : 0
Vibrance : 0
Highlight Recovery : 0
Clarity : 0
Defringe : 0
Hue Adjustment Red : 0
Hue Adjustment Orange : 0
Hue Adjustment Yellow : 0
Hue Adjustment Green : 0
Hue Adjustment Aqua : 0
Hue Adjustment Blue : 0
Hue Adjustment Purple : 0
Hue Adjustment Magenta : 0
Saturation Adjustment Red : 0
Saturation Adjustment Orange : 0
Saturation Adjustment Yellow : 0
Saturation Adjustment Green : +9
Saturation Adjustment Aqua : +77
Saturation Adjustment Blue : +81
Saturation Adjustment Purple : +17
Saturation Adjustment Magenta : 0
Luminance Adjustment Red : 0
Luminance Adjustment Orange : 0
Luminance Adjustment Yellow : 0
Luminance Adjustment Green : 0
Luminance Adjustment Aqua : -17
Luminance Adjustment Blue : -32
Luminance Adjustment Purple : -9
Luminance Adjustment Magenta : 0
Split Toning Shadow Hue : 0
Split Toning Shadow Saturation : 0
Split Toning Highlight Hue : 0
Split Toning Highlight Saturation : 0
Split Toning Balance : 0
Parametric Shadows : 0
Parametric Darks : 0
Parametric Lights : -48
Parametric Highlights : +17
Parametric Shadow Split : 25
Parametric Midtone Split : 50
Parametric Highlight Split : 75
Sharpen Radius : +1.0
Sharpen Detail : 25
Sharpen Edge Masking : 0
Post Crop Vignette Amount : 0
Grain Amount : 0
Lens Profile Enable : 0
Lens Manual Distortion Amount : 0
Perspective Vertical : 0
Perspective Horizontal : 0
Perspective Rotate : 0.0
Perspective Scale : 100
Convert To Grayscale : False
Tone Curve Name : Medium Contrast
Camera Profile : Embedded
Lens Profile Setup : LensDefaults
Has Settings : True
Has Crop : False
Already Applied : True
Creator Postal Code : 6968
Creator Work Telephone : 08 9527 6168
Creator Region : W Australia
Creator City : Rockingham
Creator Country : Australia
Creator Work Email : ross.funnell@funnellchiropractic.com
Creator Address : 23 Chalgrove Ave
Creator Work URL : funnell.com.au
Creator : Ross Funnell
Rights : Ross Funnell
Tone Curve : 0, 0, 32, 22, 64, 56, 128, 128, 192, 196, 255, 255
Gradient Based Corr What : Correction
Gradient Based Corr Amount : 1.000000
Gradient Based Corr Active : true
Gradient Based Corr Exposure : -0.037500
Gradient Based Corr Saturation : 0.149425
Gradient Based Corr Contrast : 0.149425
Gradient Based Corr Clarity : 0.346322
Gradient Based Corr Sharpness : 0.000000
Gradient Based Corr Brightness : -0.049540
Gradient Based Corr Toning Hue : 73.000000
Gradient Based Corr Toning Saturation : 0.000000
Gradient Based Corr Mask What : Mask/Gradient
Gradient Based Corr Mask Value : 1.000000
Gradient Based Corr Mask Zero X : 0.457681
Gradient Based Corr Mask Zero Y : 0.555485
Gradient Based Corr Mask Full X : 0.457150
Gradient Based Corr Mask Full Y : 0.996457
Image Width : 300
Image Height : 205
Bits Per Sample : 8
Color Components : 3
Image Size : 300x205
Megapixels : 0.061