Uber Exif Photo
Keywords : Leica X1
Make : LEICA CAMERA AG
Camera Model Name : LEICA X1
Orientation : Horizontal (normal)
Software : Adobe Photoshop CS4 Macintosh
Modify Date : 2011:03:16 23:37:48
Maker Note Safety : Safe
Exposure Time : 1/125
F Number : 3.2
Exposure Program : Aperture-priority AE
ISO : 800
Date/Time Original : 2011:01:23 15:50:30
Create Date : 2011:01:23 15:50:30
Shutter Speed Value : 1/125
Aperture Value : 3.2
Exposure Compensation : 0
Max Aperture Value : 2.8
Subject Distance : 0.65 m
Metering Mode : Multi-segment
Light Source : Unknown
Focal Length : 24.0 mm
Color Space : sRGB
Exif Image Width : 869
Exif Image Height : 583
Sensing Method : One-chip color area
Custom Rendered : Normal
White Balance : Auto
Digital Zoom Ratio : 1
Focal Length In 35mm Format : 35 mm
Scene Capture Type : Landscape
Contrast : Normal
Saturation : Normal
Sharpness : Normal
Date/Time Digitized : 2011:01:23 15:50:30-06:00
Creator Tool : Adobe Photoshop Lightroom
Serial Number : 000003827360
Lens Info : 24mm f/2.8
Lens : 24.0 mm f/2.8
Version : 5.6
Color Temperature : 4600
Tint : +12
Exposure : -0.26
Shadows : 9
Brightness : +64
Luminance Smoothing : 20
Color Noise Reduction : 25
Chromatic Aberration R : 0
Chromatic Aberration B : 0
Vignette Amount : 0
Shadow Tint : 0
Red Hue : 0
Red Saturation : 0
Green Hue : 0
Green Saturation : 0
Blue Hue : 0
Blue Saturation : 0
Fill Light : 30
Highlight Recovery : 51
Clarity : +74
Defringe : 0
Gray Mixer Red : +27
Gray Mixer Orange : 0
Gray Mixer Yellow : 0
Gray Mixer Green : +36
Gray Mixer Aqua : 0
Gray Mixer Blue : +37
Gray Mixer Purple : 0
Gray Mixer Magenta : 0
Split Toning Shadow Hue : 0
Split Toning Shadow Saturation : 0
Split Toning Highlight Hue : 0
Split Toning Highlight Saturation : 0
Split Toning Balance : 0
Parametric Shadows : +21
Parametric Darks : +21
Parametric Lights : -32
Parametric Highlights : -26
Parametric Shadow Split : 25
Parametric Midtone Split : 50
Parametric Highlight Split : 75
Sharpen Radius : +1.0
Sharpen Detail : 25
Sharpen Edge Masking : 0
Post Crop Vignette Amount : 0
Convert To Grayscale : True
Tone Curve Name : Strong Contrast
Camera Profile : Adobe Standard
Has Settings : True
Has Crop : False
Already Applied : True
Color Mode : RGB
ICC Profile Name : sRGB IEC61966-2.1
Format : image/jpeg
Flash Fired : False
Flash Return : No return detection
Flash Mode : Off
Flash Function : False
Flash Red Eye Mode : False
Tone Curve : 0, 0, 32, 16, 64, 50, 128, 128, 192, 202, 255, 255
Subject : Leica X1
Image Width : 300
Image Height : 201
Bits Per Sample : 8
Color Components : 1
Aperture : 3.2
Image Size : 300x201
Megapixels : 0.060
Scale Factor To 35 mm Equivalent : 1.5
Shutter Speed : 1/125
Flash : Off, Did not fire
Circle Of Confusion : 0.021 mm
Depth Of Field : 0.09 m (0.61 - 0.70 m)
Field Of View : 54.4 deg
Focal Length : 24.0 mm (35 mm equivalent: 35.0 mm)
Hyperfocal Distance : 8.74 m
Light Value : 7.3
Lens ID : 24.0mm f/2.8