Uber Exif Photo
Make : Leica Camera AG
Camera Model Name : M9 Digital Camera
Software : 1.138
Modify Date : 2011:02:24 23:27:43
Exposure Time : 1/350
F Number : 8.0
Exposure Program : Aperture-priority AE
ISO : 160
Date/Time Original : 2011:02:13 04:33:27
Create Date : 2011:02:13 04:33:27
Shutter Speed Value : 1/350
Aperture Value : 8.0
Exposure Compensation : 0
Max Aperture Value : 4.0
Metering Mode : Center-weighted average
Light Source : Unknown
Focal Length : 135.0 mm
Contrast : Normal
Sharpening : Normal
Saturation : Normal
White Balance : Auto
JPEG Quality : Fine
WB RGB Levels : 0.3793997777 1 0.8327742198
User Profile : Profile 1
JPEG Size : 5216x3472
Serial Number : 3973942
Firmware Version : 1.138
Base ISO : 160
Sensor Width : 5270
Sensor Height : 3516
Sensor Bit Depth : 14
Camera Temperature : 28 C
Lens Type : Tele-Elmar-M 135mm f/4 (II)
Approximate F Number : 6.0
Measured LV : 5.11
External Sensor Brightness Value : 5.79
Color Space : Uncalibrated
Scene Type : Directly photographed
Exposure Mode : Manual
Digital Zoom Ratio : 0
Focal Length In 35mm Format : 135 mm
Scene Capture Type : Standard
Maker Note Safety : Safe
Profile Description : sRGB IEC61966-2.1
Lens : Leica Macro-Elmar-M 90mm f/4
Date/Time Digitized : 2011:02:13 04:33:27+08:00
Flash Fired : False
Flash Function : False
Flash Mode : Unknown
Flash Red Eye Mode : False
Flash Return : No return detection
Exif Image Width : 5100
Exif Image Height : 3394
Sharpness : Hard
Creator Tool : Adobe Photoshop Lightroom 3.3
Already Applied : True
Blue Hue : 0
Blue Saturation : 0
Brightness : +15
Camera Profile : Adobe Standard
Chromatic Aberration B : 0
Chromatic Aberration R : 0
Clarity : +10
Color Noise Reduction : 26
Convert To Grayscale : False
Crop Angle : 0
Crop Bottom : 1
Crop Height : 3394
Crop Left : 0
Crop Right : 0.978533
Crop Top : 0.021467
Crop Unit : pixels
Crop Width : 5100
Defringe : 0
Exposure : +0.51
Fill Light : 8
Green Hue : 0
Green Saturation : 0
Has Crop : True
Has Settings : True
Highlight Recovery : 0
Hue Adjustment Aqua : 0
Hue Adjustment Blue : 0
Hue Adjustment Green : 0
Hue Adjustment Magenta : 0
Hue Adjustment Orange : 0
Hue Adjustment Purple : 0
Hue Adjustment Red : 0
Hue Adjustment Yellow : 0
Luminance Adjustment Aqua : 0
Luminance Adjustment Blue : 0
Luminance Adjustment Green : 0
Luminance Adjustment Magenta : 0
Luminance Adjustment Orange : 0
Luminance Adjustment Purple : 0
Luminance Adjustment Red : 0
Luminance Adjustment Yellow : 0
Luminance Smoothing : 7
Parametric Darks : -9
Parametric Highlight Split : 75
Parametric Highlights : +31
Parametric Lights : +45
Parametric Midtone Split : 50
Parametric Shadow Split : 25
Parametric Shadows : 0
Post Crop Vignette Amount : -26
Post Crop Vignette Feather : 50
Post Crop Vignette Midpoint : 46
Post Crop Vignette Roundness : 0
Red Hue : 0
Red Saturation : 0
Saturation Adjustment Aqua : +11
Saturation Adjustment Blue : +30
Saturation Adjustment Green : 0
Saturation Adjustment Magenta : 0
Saturation Adjustment Orange : 0
Saturation Adjustment Purple : 0
Saturation Adjustment Red : 0
Saturation Adjustment Yellow : 0
Shadow Tint : 0
Shadows : 31
Sharpen Detail : 59
Sharpen Edge Masking : 60
Sharpen Radius : +1.4
Split Toning Balance : -38
Split Toning Highlight Hue : 55
Split Toning Highlight Saturation : 6
Split Toning Shadow Hue : 25
Split Toning Shadow Saturation : 9
Color Temperature : 5793
Tint : +28
Tone Curve : 0, 0, 255, 255
Tone Curve Name : Linear
Version : 6.3
Vibrance : 0
Vignette Amount : 0
Image Width : 300
Image Height : 201
Bits Per Sample : 8
Color Components : 3
Aperture : 8.0
Blue Balance : 0.832774
Image Size : 300x201
Lens ID : Tele-Elmar-M 135mm f/4 (II)
Megapixels : 0.060
Red Balance : 0.3794
Scale Factor To 35 mm Equivalent : 1.0
Shutter Speed : 1/350
Flash : No Flash
Circle Of Confusion : 0.030 mm
Field Of View : 15.2 deg
Focal Length : 135.0 mm (35 mm equivalent: 135.0 mm)
Hyperfocal Distance : 75.82 m
Light Value : 13.8