Uber Exif Photo
Keywords : X1 horse turtle boat
Photometric Interpretation : RGB
Make : LEICA CAMERA AG
Camera Model Name : LEICA X1
Orientation : Horizontal (normal)
Planar Configuration : Chunky
Software : Adobe Photoshop CS4 Macintosh
Modify Date : 2011:03:04 20:30:38
Exposure Time : 1/400
F Number : 5.0
Exposure Program : Aperture-priority AE
ISO : 100
Date/Time Original : 2011:03:02 12:17:31
Create Date : 2011:03:02 12:17:31
Shutter Speed Value : 1/400
Aperture Value : 5.0
Exposure Compensation : +0.3
Max Aperture Value : 2.8
Subject Distance : 5 m
Metering Mode : Multi-segment
Light Source : Unknown
Focal Length : 24.0 mm
Color Space : sRGB
Exif Image Width : 584
Exif Image Height : 870
Sensing Method : One-chip color area
Custom Rendered : Normal
White Balance : Auto
Digital Zoom Ratio : 1
Focal Length In 35mm Format : 35 mm
Scene Capture Type : Landscape
Contrast : Normal
Saturation : Normal
Sharpness : Normal
Samples Per Pixel : 3
Date/Time Digitized : 2011:03:02 12:17:31-06:00
Creator Tool : Adobe Photoshop Lightroom
Serial Number : 000003827360
Lens Info : 24mm f/2.8
Lens : 24.0 mm f/2.8
Format : image/jpeg
Version : 5.6
Color Temperature : 4850
Tint : +10
Exposure : 0.00
Shadows : 9
Brightness : +50
Luminance Smoothing : 16
Color Noise Reduction : 25
Chromatic Aberration R : 0
Chromatic Aberration B : 0
Vignette Amount : 0
Shadow Tint : 0
Red Hue : 0
Red Saturation : 0
Green Hue : 0
Green Saturation : 0
Blue Hue : 0
Blue Saturation : 0
Fill Light : 23
Highlight Recovery : 9
Clarity : +53
Defringe : 0
Gray Mixer Red : +64
Gray Mixer Orange : +33
Gray Mixer Yellow : -15
Gray Mixer Green : -39
Gray Mixer Aqua : -99
Gray Mixer Blue : -97
Gray Mixer Purple : +4
Gray Mixer Magenta : -41
Split Toning Shadow Hue : 0
Split Toning Shadow Saturation : 0
Split Toning Highlight Hue : 0
Split Toning Highlight Saturation : 0
Split Toning Balance : 0
Parametric Shadows : 0
Parametric Darks : 0
Parametric Lights : 0
Parametric Highlights : 0
Parametric Shadow Split : 25
Parametric Midtone Split : 50
Parametric Highlight Split : 75
Sharpen Radius : +1.0
Sharpen Detail : 25
Sharpen Edge Masking : 0
Post Crop Vignette Amount : 0
Convert To Grayscale : True
Tone Curve Name : Medium Contrast
Camera Profile : Adobe Standard
Has Settings : True
Crop Top : 0.310505
Crop Left : 0.588214
Crop Bottom : 0.707968
Crop Right : 0.985677
Crop Angle : 0
Crop Width : 3600
Crop Height : 2407
Crop Unit : pixels
Has Crop : True
Already Applied : True
Color Mode : RGB
ICC Profile Name : sRGB IEC61966-2.1
Flash Fired : False
Flash Return : No return detection
Flash Mode : Off
Flash Function : False
Flash Red Eye Mode : False
Subject : X1 horse turtle boat
Tone Curve : 0, 0, 32, 22, 64, 56, 128, 128, 192, 196, 255, 255
Image Width : 201
Image Height : 300
Bits Per Sample : 8
Color Components : 1
Aperture : 5.0
Image Size : 201x300
Megapixels : 0.060
Scale Factor To 35 mm Equivalent : 1.5
Shutter Speed : 1/400
Flash : Off, Did not fire
Circle Of Confusion : 0.021 mm
Depth Of Field : 42.78 m (2.65 - 45.43 m)
Field Of View : 54.4 deg
Focal Length : 24.0 mm (35 mm equivalent: 35.0 mm)
Hyperfocal Distance : 5.59 m
Light Value : 13.3
Lens ID : 24.0mm f/2.8