Uber Exif Photo
Keywords : kloster
Copyright Notice : dierk topp
Copyright Flag : True
Software : Microsoft ICE v1.3.5.0
Modify Date : 2011:02:27 15:33:39
Copyright : dierk topp
Date/Time Original : 2011:02:23 11:50:13
Create Date : 2011:02:23 11:50:13
Color Space : Uncalibrated
Rights : dierk topp
Subject : kloster
Contrast : High
Date/Time Digitized : 2011:02:23 11:50:13+01:00
Exif Image Width : 863
Exif Image Height : 1000
Sharpness : Normal
Property Release Status : Unknown (nil)
PLUS Version : 1.2.0
Creator Tool : Adobe Photoshop Lightroom
Marked : True
Already Applied : True
Blue Hue : 0
Blue Saturation : 0
Brightness : 0
Camera Profile : Embedded
Chromatic Aberration B : 0
Chromatic Aberration R : 0
Clarity : 0
Color Noise Reduction : 0
Convert To Grayscale : True
Crop Angle : 0
Crop Bottom : 0.961686
Crop Height : 1000
Crop Left : 0
Crop Right : 0.883152
Crop Top : 0
Crop Unit : pixels
Crop Width : 863
Defringe : 0
Exposure : 0.00
Fill Light : 32
Gray Mixer Aqua : -37
Gray Mixer Blue : -63
Gray Mixer Green : +35
Gray Mixer Magenta : +6
Gray Mixer Orange : +10
Gray Mixer Purple : -49
Gray Mixer Red : 0
Gray Mixer Yellow : +81
Green Hue : 0
Green Saturation : 0
Has Crop : True
Has Settings : True
Highlight Recovery : 23
Incremental Temperature : 0
Incremental Tint : 0
Luminance Smoothing : 0
Parametric Darks : 0
Parametric Highlight Split : 75
Parametric Highlights : 0
Parametric Lights : 0
Parametric Midtone Split : 50
Parametric Shadow Split : 25
Parametric Shadows : 0
Post Crop Vignette Amount : -23
Post Crop Vignette Feather : 50
Post Crop Vignette Midpoint : 50
Post Crop Vignette Roundness : 0
Red Hue : 0
Red Saturation : 0
Shadow Tint : 0
Shadows : 24
Sharpen Detail : 25
Sharpen Edge Masking : 0
Sharpen Radius : +1.0
Split Toning Balance : 0
Split Toning Highlight Hue : 0
Split Toning Highlight Saturation : 0
Split Toning Shadow Hue : 0
Split Toning Shadow Saturation : 0
Tone Curve : 0, 0, 255, 255
Tone Curve Name : Linear
Version : 6.1
Vignette Amount : 0
Image Width : 262
Image Height : 300
Bits Per Sample : 8
Color Components : 1
Image Size : 262x300
Megapixels : 0.079