Uber Exif Photo
Copyright Notice : dierk topp
Copyright Flag : True
Make : Leica Camera AG
Camera Model Name : M9 Digital Camera
Software : 1.116
Modify Date : 2011:02:23 22:35:12
Copyright : dierk topp
Exposure Time : 1/90
F Number : 4.8
Exposure Program : Aperture-priority AE
ISO : 640
Date/Time Original : 2011:02:23 10:35:33
Create Date : 2011:02:23 10:35:33
Shutter Speed Value : 1/90
Aperture Value : 4.8
Exposure Compensation : +0.664
Max Aperture Value : 2.0
Metering Mode : Center-weighted average
Light Source : Unknown
Focal Length : 75.0 mm
Contrast : Normal
Sharpening : Normal
Saturation : Normal
JPEG Quality : Basic
White Balance : Auto
WB RGB Levels : 0.5002442599 1 0.6977556322
User Profile : Jpg
JPEG Size : 1280x864
Serial Number : 3834236
Firmware Version : 1.116
Base ISO : 160
Sensor Width : 5270
Sensor Height : 3516
Sensor Bit Depth : 14
Camera Temperature : 25 C
Lens Type : Apo-Summicron-M 75mm f/2 ASPH.
Approximate F Number : 4.5
Measured LV : 3.07
External Sensor Brightness Value : 2.54
Color Space : Uncalibrated
Scene Type : Directly photographed
Exposure Mode : Manual
Digital Zoom Ratio : 0
Focal Length In 35mm Format : 75 mm
Scene Capture Type : Standard
Maker Note Safety : Safe
Profile Description : sRGB IEC61966-2.1
Lens : Leica Apo-Summicron-M 75mm f/2 ASPH.
Rights : dierk topp
Date/Time Digitized : 2011:02:23 10:35:33+01:00
Flash Fired : False
Flash Function : False
Flash Mode : Unknown
Flash Red Eye Mode : False
Flash Return : No return detection
Exif Image Width : 1202
Exif Image Height : 1000
Sharpness : Hard
Property Release Status : Unknown (nil)
PLUS Version : 1.2.0
Creator Tool : Adobe Photoshop Lightroom
Rating : 5
Marked : True
Already Applied : True
Blue Hue : 0
Blue Saturation : 0
Brightness : +23
Camera Profile : Adobe Standard
Chromatic Aberration B : 0
Chromatic Aberration R : 0
Clarity : -26
Color Noise Reduction : 25
Convert To Grayscale : True
Crop Angle : 0
Crop Bottom : 1
Crop Height : 1000
Crop Left : 0.0376
Crop Right : 0.804563
Crop Top : 0.041249
Crop Unit : pixels
Crop Width : 1202
Defringe : 0
Exposure : 0.00
Fill Light : 10
Gray Mixer Aqua : -20
Gray Mixer Blue : +6
Gray Mixer Green : -4
Gray Mixer Magenta : +7
Gray Mixer Orange : +3
Gray Mixer Purple : +14
Gray Mixer Red : +21
Gray Mixer Yellow : -9
Green Hue : 0
Green Saturation : 0
Has Crop : True
Has Settings : True
Highlight Recovery : 5
Luminance Smoothing : 0
Parametric Darks : -16
Parametric Highlight Split : 75
Parametric Highlights : +19
Parametric Lights : +20
Parametric Midtone Split : 50
Parametric Shadow Split : 25
Parametric Shadows : -3
Post Crop Vignette Amount : -44
Post Crop Vignette Feather : 74
Post Crop Vignette Midpoint : 50
Post Crop Vignette Roundness : 0
Red Hue : 0
Red Saturation : 0
Shadow Tint : 0
Shadows : 6
Sharpen Detail : 35
Sharpen Edge Masking : 0
Sharpen Radius : +1.0
Split Toning Balance : 0
Split Toning Highlight Hue : 53
Split Toning Highlight Saturation : 30
Split Toning Shadow Hue : 43
Split Toning Shadow Saturation : 21
Color Temperature : 4150
Tint : 0
Tone Curve : 0, 0, 32, 22, 64, 56, 128, 128, 192, 196, 255, 255
Tone Curve Name : Medium Contrast
Version : 6.1
Vignette Amount : 0
Image Width : 300
Image Height : 253
Bits Per Sample : 8
Color Components : 3
Aperture : 4.8
Blue Balance : 0.697756
Image Size : 300x253
Lens ID : Apo-Summicron-M 75mm f/2 ASPH.
Megapixels : 0.076
Red Balance : 0.500244
Scale Factor To 35 mm Equivalent : 1.0
Shutter Speed : 1/90
Flash : No Flash
Circle Of Confusion : 0.030 mm
Field Of View : 27.0 deg
Focal Length : 75.0 mm (35 mm equivalent: 75.0 mm)
Hyperfocal Distance : 39.00 m
Light Value : 8.3