Uber Exif Photo
Make : LEICA
Camera Model Name : D-LUX 5
Orientation : Horizontal (normal)
Software : Adobe Photoshop CS5 Macintosh
Modify Date : 2011:02:23 14:42:34
Exposure Time : 1/6
F Number : 5.0
Exposure Program : Aperture-priority AE
ISO : 200
Sensitivity Type : Unknown
Date/Time Original : 2011:02:15 11:34:24
Create Date : 2011:02:15 11:34:24
Shutter Speed Value : 1/6
Aperture Value : 5.0
Exposure Compensation : 0
Max Aperture Value : 2.0
Metering Mode : Center-weighted average
Flash : Off, Did not fire
Focal Length : 5.1 mm
Color Space : Uncalibrated
Exif Image Width : 1290
Exif Image Height : 2100
Focal Length In 35mm Format : 24 mm
Profile Description : Adobe RGB (1998)
Rating : 0
Creator Tool : Adobe Photoshop CS5 Macintosh
Raw File Name : L1000288.RWL
Version : 6.3
Process Version : 5.7
White Balance : Auto
Color Temperature : 6200
Tint : +22
Exposure : +0.10
Shadows : 12
Brightness : +50
Contrast : +33
Saturation : 0
Sharpness : 25
Luminance Smoothing : 0
Color Noise Reduction : 25
Chromatic Aberration R : 0
Chromatic Aberration B : 0
Vignette Amount : 0
Shadow Tint : 0
Red Hue : 0
Red Saturation : 0
Green Hue : 0
Green Saturation : 0
Blue Hue : 0
Blue Saturation : 0
Fill Light : 66
Vibrance : 0
Highlight Recovery : 0
Clarity : +48
Defringe : 0
Hue Adjustment Red : 0
Hue Adjustment Orange : 0
Hue Adjustment Yellow : 0
Hue Adjustment Green : 0
Hue Adjustment Aqua : 0
Hue Adjustment Blue : 0
Hue Adjustment Purple : 0
Hue Adjustment Magenta : 0
Saturation Adjustment Red : 0
Saturation Adjustment Orange : 0
Saturation Adjustment Yellow : 0
Saturation Adjustment Green : 0
Saturation Adjustment Aqua : 0
Saturation Adjustment Blue : 0
Saturation Adjustment Purple : 0
Saturation Adjustment Magenta : 0
Luminance Adjustment Red : 0
Luminance Adjustment Orange : +39
Luminance Adjustment Yellow : -39
Luminance Adjustment Green : -26
Luminance Adjustment Aqua : 0
Luminance Adjustment Blue : -18
Luminance Adjustment Purple : 0
Luminance Adjustment Magenta : 0
Split Toning Shadow Hue : 0
Split Toning Shadow Saturation : 0
Split Toning Highlight Hue : 0
Split Toning Highlight Saturation : 0
Split Toning Balance : 0
Parametric Shadows : 0
Parametric Darks : 0
Parametric Lights : 0
Parametric Highlights : 0
Parametric Shadow Split : 25
Parametric Midtone Split : 50
Parametric Highlight Split : 75
Sharpen Radius : +1.0
Sharpen Detail : 25
Sharpen Edge Masking : 0
Post Crop Vignette Amount : 0
Grain Amount : 0
Color Noise Reduction Detail : 50
Lens Profile Enable : 0
Lens Manual Distortion Amount : 0
Perspective Vertical : 0
Perspective Horizontal : 0
Perspective Rotate : 0.0
Perspective Scale : 100
Convert To Grayscale : False
Tone Curve Name : Medium Contrast
Camera Profile : Adobe Standard
Lens Profile Setup : LensDefaults
Has Settings : True
Has Crop : False
Already Applied : True
Format : image/jpeg
Color Mode : RGB
ICC Profile Name : Adobe RGB (1998)
Date Created : 2011:02:15 11:34:24
Tone Curve : 0, 0, 32, 22, 64, 56, 128, 128, 192, 196, 255, 255
Image Width : 184
Image Height : 300
Bits Per Sample : 8
Color Components : 3
Aperture : 5.0
Image Size : 184x300
Megapixels : 0.055
Scale Factor To 35 mm Equivalent : 4.7
Shutter Speed : 1/6
Circle Of Confusion : 0.006 mm
Field Of View : 73.7 deg
Focal Length : 5.1 mm (35 mm equivalent: 24.0 mm)
Hyperfocal Distance : 0.81 m
Light Value : 6.2