Uber Exif Photo
Keywords : Class BRCC Feb2011 Tori Bday party
Photometric Interpretation : RGB
Make : LEICA CAMERA AG
Camera Model Name : LEICA X1
Orientation : Horizontal (normal)
Planar Configuration : Chunky
Software : Adobe Photoshop CS4 Macintosh
Modify Date : 2011:02:20 21:20:09
Exposure Time : 1/800
F Number : 4.5
Exposure Program : Aperture-priority AE
ISO : 100
Date/Time Original : 2011:02:19 13:32:52
Create Date : 2011:02:19 13:32:52
Shutter Speed Value : 1/800
Aperture Value : 4.5
Exposure Compensation : +0.3
Max Aperture Value : 2.8
Subject Distance : 2 m
Metering Mode : Multi-segment
Light Source : Unknown
Focal Length : 24.0 mm
Color Space : sRGB
Exif Image Width : 807
Exif Image Height : 1205
Sensing Method : One-chip color area
Custom Rendered : Normal
White Balance : Auto
Digital Zoom Ratio : 1
Focal Length In 35mm Format : 35 mm
Scene Capture Type : Landscape
Contrast : Normal
Saturation : Normal
Sharpness : Normal
Profile Description : sRGB IEC61966-2.1
Samples Per Pixel : 3
Date/Time Digitized : 2011:02:19 13:32:52-06:00
Creator Tool : Adobe Photoshop Lightroom
Serial Number : 000003827360
Lens Info : 24mm f/2.8
Lens : 24.0 mm f/2.8
Format : image/jpeg
Version : 5.6
Color Temperature : 4750
Tint : +11
Exposure : +0.60
Shadows : 19
Brightness : +50
Luminance Smoothing : 0
Color Noise Reduction : 25
Chromatic Aberration R : 0
Chromatic Aberration B : 0
Vignette Amount : 0
Shadow Tint : 0
Red Hue : 0
Red Saturation : 0
Green Hue : 0
Green Saturation : 0
Blue Hue : 0
Blue Saturation : 0
Fill Light : 34
Highlight Recovery : 37
Clarity : +85
Defringe : 0
Gray Mixer Red : -7
Gray Mixer Orange : -28
Gray Mixer Yellow : -20
Gray Mixer Green : -60
Gray Mixer Aqua : -60
Gray Mixer Blue : -28
Gray Mixer Purple : +15
Gray Mixer Magenta : +5
Split Toning Shadow Hue : 40
Split Toning Shadow Saturation : 8
Split Toning Highlight Hue : 38
Split Toning Highlight Saturation : 3
Split Toning Balance : 0
Parametric Shadows : 0
Parametric Darks : 0
Parametric Lights : -40
Parametric Highlights : 0
Parametric Shadow Split : 25
Parametric Midtone Split : 50
Parametric Highlight Split : 75
Sharpen Radius : +1.0
Sharpen Detail : 25
Sharpen Edge Masking : 0
Post Crop Vignette Amount : -23
Post Crop Vignette Midpoint : 50
Post Crop Vignette Feather : 71
Post Crop Vignette Roundness : 0
Convert To Grayscale : True
Tone Curve Name : Strong Contrast
Camera Profile : Adobe Standard
Has Settings : True
Crop Top : 0.067005
Crop Left : 0.205089
Crop Bottom : 0.699439
Crop Right : 0.850349
Crop Angle : -0.529414
Crop Width : 3600
Crop Height : 2407
Crop Unit : pixels
Has Crop : True
Already Applied : True
Color Mode : RGB
ICC Profile Name : sRGB IEC61966-2.1
Flash Fired : False
Flash Return : No return detection
Flash Mode : Off
Flash Function : False
Flash Red Eye Mode : False
Subject : Class BRCC Feb2011 Tori Bday party
Tone Curve : 0, 0, 32, 16, 64, 50, 128, 128, 192, 202, 255, 255
Image Width : 201
Image Height : 300
Bits Per Sample : 8
Color Components : 3
Aperture : 4.5
Image Size : 201x300
Megapixels : 0.060
Scale Factor To 35 mm Equivalent : 1.5
Shutter Speed : 1/800
Flash : Off, Did not fire
Circle Of Confusion : 0.021 mm
Depth Of Field : 1.42 m (1.52 - 2.93 m)
Field Of View : 54.4 deg
Focal Length : 24.0 mm (35 mm equivalent: 35.0 mm)
Hyperfocal Distance : 6.21 m
Light Value : 14.0
Lens ID : 24.0mm f/2.8