Uber Exif Photo
Keywords : 2010, aida, carme95, desnudo, estudio, modelos, retratos, summicron 50
Copyright Flag : True
Make : Leica Camera AG
Camera Model Name : M9 Digital Camera
Software : 1.138
Modify Date : 2011:02:13 14:36:00
Exposure Time : 1/25
F Number : 2.4
Exposure Program : Manual
ISO : 320
Sensitivity Type : Unknown
Date/Time Original : 2010:12:23 12:46:07
Create Date : 2010:12:23 12:46:07
Shutter Speed Value : 1/25
Aperture Value : 2.4
Exposure Compensation : 0
Max Aperture Value : 1.0
Metering Mode : Center-weighted average
Light Source : Unknown
Contrast : Normal
Sharpening : Normal
Saturation : Black & White
White Balance : Auto
JPEG Quality : Fine
WB RGB Levels : 0.6606451613 1 0.5083147183
User Profile : BW 01
JPEG Size : 5216x3472
Firmware Version : 1.138
Base ISO : 160
Sensor Width : 5270
Sensor Height : 3516
Sensor Bit Depth : 14
Camera Temperature : 18 C
Lens Type : Uncoded lens
Approximate F Number : 2.5
Measured LV : 2.20
External Sensor Brightness Value : 0.55
Scene Type : Directly photographed
Exposure Mode : Manual
Digital Zoom Ratio : 0
Scene Capture Type : Standard
Serial Number : 3974917
Maker Note Safety : Safe
Profile Description : Adobe RGB (1998)
Date/Time Digitized : 2010:12:23 12:46:07+01:00
Exif Image Width : 1200
Exif Image Height : 1803
Creator Tool : Adobe Photoshop Lightroom
Marked : True
Version : 6.2
Process Version : 5.7
Color Temperature : 12500
Tint : +35
Exposure : +0.75
Shadows : 11
Brightness : +57
Sharpness : 25
Luminance Smoothing : 0
Color Noise Reduction : 25
Chromatic Aberration R : 0
Chromatic Aberration B : 0
Vignette Amount : 0
Shadow Tint : +8
Red Hue : +96
Red Saturation : +3
Green Hue : +11
Green Saturation : +25
Blue Hue : +11
Blue Saturation : -70
Fill Light : 0
Vibrance : 0
Highlight Recovery : 0
Clarity : 0
Defringe : 0
Hue Adjustment Red : 0
Hue Adjustment Orange : 0
Hue Adjustment Yellow : 0
Hue Adjustment Green : 0
Hue Adjustment Aqua : 0
Hue Adjustment Blue : 0
Hue Adjustment Purple : 0
Hue Adjustment Magenta : 0
Saturation Adjustment Red : 0
Saturation Adjustment Orange : 0
Saturation Adjustment Yellow : 0
Saturation Adjustment Green : 0
Saturation Adjustment Aqua : 0
Saturation Adjustment Blue : 0
Saturation Adjustment Purple : 0
Saturation Adjustment Magenta : 0
Luminance Adjustment Red : 0
Luminance Adjustment Orange : 0
Luminance Adjustment Yellow : 0
Luminance Adjustment Green : 0
Luminance Adjustment Aqua : 0
Luminance Adjustment Blue : 0
Luminance Adjustment Purple : 0
Luminance Adjustment Magenta : 0
Split Toning Shadow Hue : 0
Split Toning Shadow Saturation : 0
Split Toning Highlight Hue : 51
Split Toning Highlight Saturation : 25
Split Toning Balance : 0
Parametric Shadows : -14
Parametric Darks : -3
Parametric Lights : 0
Parametric Highlights : 0
Parametric Shadow Split : 25
Parametric Midtone Split : 50
Parametric Highlight Split : 75
Sharpen Radius : +1.0
Sharpen Detail : 25
Sharpen Edge Masking : 0
Post Crop Vignette Amount : -35
Post Crop Vignette Midpoint : 50
Post Crop Vignette Feather : 50
Post Crop Vignette Roundness : 0
Post Crop Vignette Style : Highlight Priority
Post Crop Vignette Highlight Contrast : 0
Grain Amount : 0
Color Noise Reduction Detail : 50
Lens Profile Enable : 0
Lens Manual Distortion Amount : 0
Perspective Vertical : 0
Perspective Horizontal : 0
Perspective Rotate : 0.0
Perspective Scale : 100
Convert To Grayscale : False
Tone Curve Name : Linear
Camera Profile : Adobe Standard
Lens Profile Setup : LensDefaults
Has Settings : True
Has Crop : False
Already Applied : True
Flash Fired : False
Flash Return : No return detection
Flash Mode : Unknown
Flash Function : False
Flash Red Eye Mode : False
Subject : 2010, aida, carme95, desnudo, estudio, modelos, retratos, summicron 50
Tone Curve : 0, 0, 255, 255
Image Width : 200
Image Height : 300
Bits Per Sample : 8
Color Components : 3
Aperture : 2.4
Blue Balance : 0.508315
Image Size : 200x300
Lens ID : Uncoded lens
Megapixels : 0.060
Red Balance : 0.660645
Scale Factor To 35 mm Equivalent : 2.9
Shutter Speed : 1/25
Flash : No Flash
Circle Of Confusion : 0.010 mm
Light Value : 5.5