Uber Exif Photo
Make : LEICA
Camera Model Name : D-LUX 5
Orientation : Horizontal (normal)
Software : Adobe Photoshop CS5 Macintosh
Modify Date : 2011:01:31 13:32:36
Exposure Time : 1/2000
F Number : 2.1
Exposure Program : Aperture-priority AE
ISO : 100
Sensitivity Type : Unknown
Date/Time Original : 2011:01:27 12:29:15
Create Date : 2011:01:27 12:29:15
Shutter Speed Value : 1/2000
Aperture Value : 2.1
Exposure Compensation : 0
Max Aperture Value : 2.0
Metering Mode : Center-weighted average
Flash : Off, Did not fire
Focal Length : 6.0 mm
Color Space : Uncalibrated
Exif Image Width : 1800
Exif Image Height : 1558
Focal Length In 35mm Format : 28 mm
Profile Description : Adobe RGB (1998)
Rating : 0
Creator Tool : Adobe Photoshop CS5 Macintosh
Raw File Name : L1000195.RWL
Version : 6.3
Process Version : 5.7
White Balance : As Shot
Color Temperature : 5500
Tint : +6
Exposure : +0.15
Shadows : 5
Brightness : +50
Contrast : +34
Saturation : 0
Sharpness : 25
Luminance Smoothing : 0
Color Noise Reduction : 25
Chromatic Aberration R : 0
Chromatic Aberration B : 0
Vignette Amount : 0
Shadow Tint : 0
Red Hue : 0
Red Saturation : 0
Green Hue : 0
Green Saturation : 0
Blue Hue : 0
Blue Saturation : 0
Fill Light : 26
Vibrance : +14
Highlight Recovery : 0
Clarity : +24
Defringe : 0
Hue Adjustment Red : 0
Hue Adjustment Orange : 0
Hue Adjustment Yellow : 0
Hue Adjustment Green : 0
Hue Adjustment Aqua : 0
Hue Adjustment Blue : 0
Hue Adjustment Purple : 0
Hue Adjustment Magenta : 0
Saturation Adjustment Red : 0
Saturation Adjustment Orange : 0
Saturation Adjustment Yellow : 0
Saturation Adjustment Green : 0
Saturation Adjustment Aqua : 0
Saturation Adjustment Blue : 0
Saturation Adjustment Purple : 0
Saturation Adjustment Magenta : 0
Luminance Adjustment Red : -26
Luminance Adjustment Orange : 0
Luminance Adjustment Yellow : 0
Luminance Adjustment Green : 0
Luminance Adjustment Aqua : 0
Luminance Adjustment Blue : -14
Luminance Adjustment Purple : -20
Luminance Adjustment Magenta : -21
Split Toning Shadow Hue : 0
Split Toning Shadow Saturation : 0
Split Toning Highlight Hue : 0
Split Toning Highlight Saturation : 6
Split Toning Balance : 0
Parametric Shadows : 0
Parametric Darks : 0
Parametric Lights : 0
Parametric Highlights : 0
Parametric Shadow Split : 25
Parametric Midtone Split : 50
Parametric Highlight Split : 75
Sharpen Radius : +1.0
Sharpen Detail : 25
Sharpen Edge Masking : 0
Post Crop Vignette Amount : 0
Grain Amount : 0
Color Noise Reduction Detail : 50
Lens Profile Enable : 0
Lens Manual Distortion Amount : +9
Perspective Vertical : +2
Perspective Horizontal : -9
Perspective Rotate : 0.0
Perspective Scale : 100
Convert To Grayscale : False
Tone Curve Name : Medium Contrast
Camera Profile : Adobe Standard
Lens Profile Setup : LensDefaults
Has Settings : True
Crop Top : 0.148867
Crop Left : 0.069114
Crop Bottom : 0.878641
Crop Right : 0.883369
Crop Angle : 0
Crop Constrain To Warp : 1
Has Crop : True
Already Applied : True
Format : image/jpeg
Color Mode : RGB
ICC Profile Name : Adobe RGB (1998)
Date Created : 2011:01:27 12:29:15
Tone Curve : 0, 0, 32, 22, 64, 56, 128, 128, 192, 196, 255, 255
Image Width : 300
Image Height : 260
Bits Per Sample : 8
Color Components : 3
Aperture : 2.1
Image Size : 300x260
Megapixels : 0.078
Scale Factor To 35 mm Equivalent : 4.7
Shutter Speed : 1/2000
Circle Of Confusion : 0.006 mm
Field Of View : 65.5 deg
Focal Length : 6.0 mm (35 mm equivalent: 28.0 mm)
Hyperfocal Distance : 2.66 m
Light Value : 13.1