Uber Exif Photo
Copyright Flag : False
Make : LEICA
Camera Model Name : V-LUX 1
Orientation : Horizontal (normal)
Software : Adobe Photoshop CS5 Macintosh
Modify Date : 2011:01:17 11:12:36
Exposure Time : 1/80
F Number : 2.8
Exposure Program : Program AE
ISO : 100
Date/Time Original : 2008:10:29 15:10:27
Create Date : 2008:10:29 15:10:27
Shutter Speed Value : 1/80
Aperture Value : 2.8
Exposure Compensation : -0.33
Max Aperture Value : 2.8
Metering Mode : Multi-segment
Light Source : Unknown
Flash : Off, Did not fire
Focal Length : 7.4 mm
Color Space : Uncalibrated
Exif Image Width : 1718
Exif Image Height : 1403
Sensing Method : One-chip color area
Scene Type : Directly photographed
Custom Rendered : Custom
Exposure Mode : Auto
White Balance : Auto
Digital Zoom Ratio : 0
Focal Length In 35mm Format : 35 mm
Scene Capture Type : Standard
Gain Control : None
Contrast : Normal
Saturation : Normal
Sharpness : Normal
Profile Description : Adobe RGB (1998)
Creator Tool : Adobe Photoshop CS5 Macintosh
Raw File Name : L1030243.JPG
Version : 4.6
Incremental Temperature : 0
Incremental Tint : 0
Exposure : +0.35
Shadows : 4
Brightness : 0
Luminance Smoothing : 0
Color Noise Reduction : 0
Chromatic Aberration R : 0
Chromatic Aberration B : 0
Vignette Amount : 0
Shadow Tint : 0
Red Hue : 0
Red Saturation : 0
Green Hue : 0
Green Saturation : 0
Blue Hue : 0
Blue Saturation : 0
Fill Light : 6
Vibrance : +26
Highlight Recovery : 0
Clarity : +73
Defringe : 0
Hue Adjustment Red : 0
Hue Adjustment Orange : 0
Hue Adjustment Yellow : 0
Hue Adjustment Green : 0
Hue Adjustment Aqua : 0
Hue Adjustment Blue : 0
Hue Adjustment Purple : 0
Hue Adjustment Magenta : 0
Saturation Adjustment Red : 0
Saturation Adjustment Orange : 0
Saturation Adjustment Yellow : +15
Saturation Adjustment Green : 0
Saturation Adjustment Aqua : 0
Saturation Adjustment Blue : 0
Saturation Adjustment Purple : +21
Saturation Adjustment Magenta : +23
Luminance Adjustment Red : -19
Luminance Adjustment Orange : -20
Luminance Adjustment Yellow : 0
Luminance Adjustment Green : -20
Luminance Adjustment Aqua : 0
Luminance Adjustment Blue : -23
Luminance Adjustment Purple : 0
Luminance Adjustment Magenta : -23
Split Toning Shadow Hue : 0
Split Toning Shadow Saturation : 0
Split Toning Highlight Hue : 0
Split Toning Highlight Saturation : 0
Split Toning Balance : 0
Parametric Shadows : 0
Parametric Darks : 0
Parametric Lights : 0
Parametric Highlights : 0
Parametric Shadow Split : 25
Parametric Midtone Split : 50
Parametric Highlight Split : 75
Sharpen Radius : +1.0
Sharpen Detail : 25
Sharpen Edge Masking : 0
Post Crop Vignette Amount : 0
Convert To Grayscale : False
Tone Curve Name : Linear
Camera Profile : Embedded
Has Settings : True
Crop Top : 0.325
Crop Left : 0.257913
Crop Bottom : 1
Crop Right : 0.939039
Crop Angle : 0
Has Crop : True
Already Applied : True
Format : image/jpeg
ICC Profile Name : Adobe RGB (1998)
Color Mode : RGB
Date Created : 2008:10:29 15:10:27
Marked : False
Tone Curve : 0, 0, 255, 255
Image Width : 300
Image Height : 245
Bits Per Sample : 8
Color Components : 3
Aperture : 2.8
Image Size : 300x245
Megapixels : 0.073
Scale Factor To 35 mm Equivalent : 4.7
Shutter Speed : 1/80
Circle Of Confusion : 0.006 mm
Field Of View : 54.4 deg
Focal Length : 7.4 mm (35 mm equivalent: 35.0 mm)
Hyperfocal Distance : 3.08 m
Light Value : 9.3