Uber Exif Photo
Copyright Flag : False
Make : LEICA
Camera Model Name : V-LUX 1
Orientation : Horizontal (normal)
Software : Adobe Photoshop CS5 Macintosh
Modify Date : 2010:12:31 16:33:26
Exposure Time : 1/400
F Number : 6.3
Exposure Program : Program AE
ISO : 100
Date/Time Original : 2010:05:03 10:12:19
Create Date : 2010:05:03 10:12:19
Shutter Speed Value : 1/400
Aperture Value : 6.3
Exposure Compensation : -0.33
Max Aperture Value : 2.8
Metering Mode : Center-weighted average
Flash : Off, Did not fire
Focal Length : 17.1 mm
Color Space : Uncalibrated
Exif Image Width : 1539
Exif Image Height : 1800
Profile Description : Adobe RGB (1998)
Creator Tool : Adobe Photoshop CS5 Macintosh
Raw File Name : L1050610.RAW
Version : 4.6
White Balance : Custom
Color Temperature : 4750
Tint : +11
Exposure : +0.40
Shadows : 20
Brightness : +50
Contrast : +29
Saturation : +16
Sharpness : 0
Luminance Smoothing : 0
Color Noise Reduction : 25
Chromatic Aberration R : 0
Chromatic Aberration B : 0
Vignette Amount : 0
Shadow Tint : 0
Red Hue : 0
Red Saturation : 0
Green Hue : 0
Green Saturation : 0
Blue Hue : 0
Blue Saturation : 0
Fill Light : 0
Vibrance : +28
Highlight Recovery : 4
Clarity : +49
Defringe : 0
Hue Adjustment Red : 0
Hue Adjustment Orange : 0
Hue Adjustment Yellow : 0
Hue Adjustment Green : 0
Hue Adjustment Aqua : 0
Hue Adjustment Blue : 0
Hue Adjustment Purple : 0
Hue Adjustment Magenta : 0
Saturation Adjustment Red : 0
Saturation Adjustment Orange : 0
Saturation Adjustment Yellow : 0
Saturation Adjustment Green : 0
Saturation Adjustment Aqua : 0
Saturation Adjustment Blue : 0
Saturation Adjustment Purple : 0
Saturation Adjustment Magenta : 0
Luminance Adjustment Red : 0
Luminance Adjustment Orange : +29
Luminance Adjustment Yellow : +51
Luminance Adjustment Green : +19
Luminance Adjustment Aqua : 0
Luminance Adjustment Blue : -18
Luminance Adjustment Purple : -21
Luminance Adjustment Magenta : 0
Split Toning Shadow Hue : 0
Split Toning Shadow Saturation : 0
Split Toning Highlight Hue : 0
Split Toning Highlight Saturation : 0
Split Toning Balance : 0
Parametric Shadows : 0
Parametric Darks : 0
Parametric Lights : 0
Parametric Highlights : 0
Parametric Shadow Split : 25
Parametric Midtone Split : 50
Parametric Highlight Split : 75
Sharpen Radius : +1.0
Sharpen Detail : 25
Sharpen Edge Masking : 0
Post Crop Vignette Amount : 0
Convert To Grayscale : False
Tone Curve Name : Medium Contrast
Camera Profile : ACR 4.4
Has Settings : True
Has Crop : False
Already Applied : True
Format : image/jpeg
Color Mode : RGB
ICC Profile Name : Adobe RGB (1998)
Date Created : 2010:05:03 10:12:19
Marked : False
Tone Curve : 0, 0, 32, 22, 64, 56, 128, 128, 192, 196, 255, 255
Image Width : 257
Image Height : 300
Bits Per Sample : 8
Color Components : 3
Aperture : 6.3
Image Size : 257x300
Megapixels : 0.077
Shutter Speed : 1/400
Light Value : 14.0