Uber Exif Photo
Make : Leica Camera AG
Camera Model Name : M9 Digital Camera
Software : 1.138
Modify Date : 2011:01:02 14:38:43
Exposure Time : 1/125
F Number : 9.5
Exposure Program : Aperture-priority AE
ISO : 160
Sensitivity Type : Unknown
Date/Time Original : 2011:01:02 12:43:58
Create Date : 2011:01:02 12:43:58
Shutter Speed Value : 1/125
Aperture Value : 9.5
Exposure Compensation : 0
Max Aperture Value : 2.8
Metering Mode : Center-weighted average
Light Source : Unknown
Focal Length : 24.0 mm
Contrast : Normal
Sharpening : Normal
Saturation : Normal
White Balance : Auto
JPEG Quality : Fine
WB RGB Levels : 0.4375016689 1 0.8235234984
User Profile : Profile 1
JPEG Size : 5216x3472
Firmware Version : 1.138
Base ISO : 160
Sensor Width : 5270
Sensor Height : 3516
Sensor Bit Depth : 14
Camera Temperature : 8 C
Lens Type : Elmarit-M 24mm f/2.8 ASPH.
Approximate F Number : 6.5
Measured LV : 4.14
External Sensor Brightness Value : 5.10
Scene Type : Directly photographed
Exposure Mode : Manual
Digital Zoom Ratio : 0
Focal Length In 35mm Format : 24 mm
Scene Capture Type : Standard
Serial Number : 3971291
Lens Model : Leica Elmarit-M 24mm f/2.8 ASPH.
Maker Note Safety : Safe
Profile Description : sRGB IEC61966-2.1
Date/Time Digitized : 2011:01:02 12:43:58+01:00
Exif Image Width : 3324
Exif Image Height : 2212
Creator Tool : Adobe Photoshop Lightroom 3.3
Lens : Leica Elmarit-M 24mm f/2.8 ASPH.
Version : 6.3
Process Version : 5.7
Color Temperature : 6063
Tint : -16
Exposure : -0.08
Shadows : 74
Brightness : +66
Sharpness : 16
Luminance Smoothing : 36
Color Noise Reduction : 0
Chromatic Aberration R : 0
Chromatic Aberration B : 0
Vignette Amount : -73
Vignette Midpoint : 0
Shadow Tint : 0
Red Hue : 0
Red Saturation : 0
Green Hue : 0
Green Saturation : 0
Blue Hue : 0
Blue Saturation : +38
Fill Light : 48
Vibrance : -15
Highlight Recovery : 33
Clarity : +51
Defringe : 0
Hue Adjustment Red : +4
Hue Adjustment Orange : -13
Hue Adjustment Yellow : -25
Hue Adjustment Green : +25
Hue Adjustment Aqua : +2
Hue Adjustment Blue : 0
Hue Adjustment Purple : 0
Hue Adjustment Magenta : 0
Saturation Adjustment Red : +13
Saturation Adjustment Orange : +27
Saturation Adjustment Yellow : 0
Saturation Adjustment Green : -13
Saturation Adjustment Aqua : +100
Saturation Adjustment Blue : 0
Saturation Adjustment Purple : 0
Saturation Adjustment Magenta : 0
Luminance Adjustment Red : 0
Luminance Adjustment Orange : 0
Luminance Adjustment Yellow : 0
Luminance Adjustment Green : +54
Luminance Adjustment Aqua : +100
Luminance Adjustment Blue : 0
Luminance Adjustment Purple : 0
Luminance Adjustment Magenta : 0
Split Toning Shadow Hue : 0
Split Toning Shadow Saturation : 0
Split Toning Highlight Hue : 0
Split Toning Highlight Saturation : 0
Split Toning Balance : 0
Parametric Shadows : +13
Parametric Darks : +27
Parametric Lights : +11
Parametric Highlights : +58
Parametric Shadow Split : 25
Parametric Midtone Split : 50
Parametric Highlight Split : 75
Sharpen Radius : +1.0
Sharpen Detail : 25
Sharpen Edge Masking : 0
Post Crop Vignette Amount : -48
Post Crop Vignette Midpoint : 50
Post Crop Vignette Feather : 50
Post Crop Vignette Roundness : 0
Post Crop Vignette Style : Highlight Priority
Post Crop Vignette Highlight Contrast : 0
Grain Amount : 0
Luminance Noise Reduction Detail : 50
Luminance Noise Reduction Contrast : 0
Lens Profile Enable : 0
Lens Manual Distortion Amount : 0
Perspective Vertical : 0
Perspective Horizontal : 0
Perspective Rotate : 0.0
Perspective Scale : 100
Convert To Grayscale : False
Tone Curve Name : Linear
Camera Profile : ACR 3.3
Lens Profile Setup : LensDefaults
Has Settings : True
Crop Top : 0.136202
Crop Left : 0.008028
Crop Bottom : 0.752569
Crop Right : 0.654984
Crop Angle : -1.26761
Crop Constrain To Warp : 0
Crop Width : 3324
Crop Height : 2212
Crop Unit : pixels
Has Crop : True
Already Applied : True
Flash Fired : False
Flash Return : No return detection
Flash Mode : Unknown
Flash Function : False
Flash Red Eye Mode : False
Tone Curve : 0, 0, 255, 255
Image Width : 300
Image Height : 200
Bits Per Sample : 8
Color Components : 3
Aperture : 9.5
Blue Balance : 0.823523
Image Size : 300x200
Lens ID : Leica Elmarit-M 24mm f/2.8 ASPH.
Megapixels : 0.060
Red Balance : 0.437502
Scale Factor To 35 mm Equivalent : 1.0
Shutter Speed : 1/125
Flash : No Flash
Circle Of Confusion : 0.030 mm
Field Of View : 73.7 deg
Focal Length : 24.0 mm (35 mm equivalent: 24.0 mm)
Hyperfocal Distance : 2.02 m
Light Value : 12.8