Uber Exif Photo
Make : Leica Camera AG
Camera Model Name : M8 Digital Camera
Software : QuickTime 7.6.6
Modify Date : 2010:06:06 08:13:54
Exposure Time : 1/15
Exposure Program : Aperture-priority AE
ISO : 1250
Create Date : 2010:06:06 07:50:38
Shutter Speed Value : 1/15
Exposure Compensation : 0
Max Aperture Value : 1.0
Metering Mode : Center-weighted average
Light Source : Unknown
Profile Description : sRGB IEC61966-2.1
Date/Time Digitized : 2010:06:06 07:50:38+02:00
Exif Image Width : 2931
Exif Image Height : 1969
Creator Tool : Adobe Photoshop Lightroom
Version : 5.7
White Balance : As Shot
Incremental Temperature : 0
Incremental Tint : 0
Exposure : 0.00
Shadows : 4
Brightness : 0
Contrast : +20
Sharpness : 0
Luminance Smoothing : 0
Color Noise Reduction : 0
Chromatic Aberration R : 0
Chromatic Aberration B : 0
Vignette Amount : -83
Vignette Midpoint : 21
Shadow Tint : 0
Red Hue : 0
Red Saturation : 0
Green Hue : 0
Green Saturation : 0
Blue Hue : 0
Blue Saturation : 0
Fill Light : 23
Highlight Recovery : 0
Clarity : -40
Defringe : 0
Gray Mixer Red : -4
Gray Mixer Orange : -13
Gray Mixer Yellow : -16
Gray Mixer Green : -23
Gray Mixer Aqua : -19
Gray Mixer Blue : +10
Gray Mixer Purple : +16
Gray Mixer Magenta : +7
Split Toning Shadow Hue : 37
Split Toning Shadow Saturation : 22
Split Toning Highlight Hue : 216
Split Toning Highlight Saturation : 21
Split Toning Balance : 0
Parametric Shadows : -60
Parametric Darks : -17
Parametric Lights : +33
Parametric Highlights : 0
Parametric Shadow Split : 25
Parametric Midtone Split : 50
Parametric Highlight Split : 75
Sharpen Radius : +1.0
Sharpen Detail : 25
Sharpen Edge Masking : 0
Post Crop Vignette Amount : 0
Convert To Grayscale : True
Tone Curve Name : Linear
Camera Profile : Embedded
Has Settings : True
Has Crop : False
Already Applied : True
Flash Fired : False
Flash Return : No return detection
Flash Mode : Auto
Flash Function : False
Flash Red Eye Mode : False
Tone Curve : 0, 0, 255, 255
Gradient Based Corr What : Correction
Gradient Based Corr Amount : 1.000000
Gradient Based Corr Active : true
Gradient Based Corr Exposure : -0.150000
Gradient Based Corr Saturation : 0.000000
Gradient Based Corr Contrast : 0.200000
Gradient Based Corr Clarity : -0.325000
Gradient Based Corr Sharpness : 0.000000
Gradient Based Corr Brightness : 0.000000
Gradient Based Corr Toning Hue : 40.000000
Gradient Based Corr Toning Saturation : 0.010000
Gradient Based Corr Mask What : Mask/Gradient
Gradient Based Corr Mask Value : 1.000000
Gradient Based Corr Mask Zero X : 0.518428
Gradient Based Corr Mask Zero Y : 0.801105
Gradient Based Corr Mask Full X : 0.515971
Gradient Based Corr Mask Full Y : 1.001840
Image Width : 300
Image Height : 202
Bits Per Sample : 8
Color Components : 3
Image Size : 300x202
Megapixels : 0.061
Shutter Speed : 1/15
Flash : Auto, Did not fire