Uber Exif Photo
Copyright Notice : Patrik Nellhag
Copyright Flag : True
Make : LEICA CAMERA AG
Camera Model Name : LEICA X1
Software : 1.0
Modify Date : 2010:12:10 19:26:20
Copyright : Patrik Nellhag
Exposure Time : 1/125
F Number : 11.0
Exposure Program : Shutter speed priority AE
ISO : 100
Sensitivity Type : Unknown
Date/Time Original : 2010:10:03 08:11:25
Create Date : 2010:10:03 08:11:25
Shutter Speed Value : 1/125
Aperture Value : 11.0
Exposure Compensation : 0
Max Aperture Value : 2.8
Subject Distance : 5.5 m
Metering Mode : Multi-segment
Light Source : Unknown
Focal Length : 24.0 mm
Original File Name : L1010686.DNG
Original Directory : 101LEICA
Focus Distance : 5.5 m
Exposure Mode : Shutter speed priority AE
File Index : 686
Film Mode : Standard
WB RGB Levels : 0.4942084942 1 0.7619047619
Internal Serial Number : 000000000000
Sensing Method : One-chip color area
Custom Rendered : Normal
White Balance : Auto
Digital Zoom Ratio : 1
Focal Length In 35mm Format : 35 mm
Scene Capture Type : Landscape
Contrast : Normal
Saturation : Normal
Sharpness : Normal
Serial Number : 000003817117
Lens Info : 24mm f/2.8
Lens Model : 24.0 mm f/2.8
Maker Note Safety : Safe
Profile Description : Adobe RGB (1998)
Date/Time Digitized : 2010:10:03 08:11:25+02:00
Exif Image Width : 669
Exif Image Height : 1000
Creator Tool : Adobe Photoshop Lightroom
Rating : 5
Lens : 24.0 mm f/2.8
Approximate Focus Distance : 5.5
Marked : True
Version : 6.2
Process Version : 5.7
Color Temperature : 4900
Tint : +37
Exposure : +0.20
Shadows : 6
Brightness : +55
Luminance Smoothing : 0
Color Noise Reduction : 0
Chromatic Aberration R : -100
Chromatic Aberration B : 0
Vignette Amount : -100
Vignette Midpoint : 0
Shadow Tint : 0
Red Hue : 0
Red Saturation : 0
Green Hue : 0
Green Saturation : 0
Blue Hue : 0
Blue Saturation : 0
Fill Light : 32
Vibrance : -45
Highlight Recovery : 52
Clarity : +69
Defringe : 0
Hue Adjustment Red : 0
Hue Adjustment Orange : 0
Hue Adjustment Yellow : 0
Hue Adjustment Green : 0
Hue Adjustment Aqua : 0
Hue Adjustment Blue : 0
Hue Adjustment Purple : 0
Hue Adjustment Magenta : 0
Saturation Adjustment Red : -33
Saturation Adjustment Orange : 0
Saturation Adjustment Yellow : 0
Saturation Adjustment Green : 0
Saturation Adjustment Aqua : 0
Saturation Adjustment Blue : 0
Saturation Adjustment Purple : 0
Saturation Adjustment Magenta : 0
Luminance Adjustment Red : 0
Luminance Adjustment Orange : 0
Luminance Adjustment Yellow : 0
Luminance Adjustment Green : 0
Luminance Adjustment Aqua : 0
Luminance Adjustment Blue : 0
Luminance Adjustment Purple : 0
Luminance Adjustment Magenta : 0
Split Toning Shadow Hue : 0
Split Toning Shadow Saturation : 0
Split Toning Highlight Hue : 60
Split Toning Highlight Saturation : 28
Split Toning Balance : 0
Parametric Shadows : 0
Parametric Darks : 0
Parametric Lights : 0
Parametric Highlights : 0
Parametric Shadow Split : 25
Parametric Midtone Split : 50
Parametric Highlight Split : 75
Sharpen Radius : +1.0
Sharpen Detail : 25
Sharpen Edge Masking : 0
Post Crop Vignette Amount : 0
Grain Amount : 0
Lens Profile Enable : 0
Lens Manual Distortion Amount : 0
Perspective Vertical : 0
Perspective Horizontal : 0
Perspective Rotate : 0.0
Perspective Scale : 100
Convert To Grayscale : False
Tone Curve Name : Strong Contrast
Camera Profile : Embedded
Lens Profile Setup : LensDefaults
Has Settings : True
Has Crop : False
Already Applied : True
Flash Fired : False
Flash Return : No return detection
Flash Mode : Off
Flash Function : False
Flash Red Eye Mode : False
Rights : Patrik Nellhag
Tone Curve : 0, 0, 32, 16, 64, 50, 128, 128, 192, 202, 255, 255
Paint Correction What : Correction
Paint Correction Amount : 1.000000
Paint Correction Active : true
Paint Correction Exposure : 0.000000
Paint Correction Saturation : 0.747126
Paint Correction Contrast : 0.000000
Paint Correction Clarity : 0.000000
Paint Correction Sharpness : 0.000000
Paint Correction Brightness : 0.000000
Paint Correction Toning Hue : 230.000000
Paint Correction Toning Saturation : 0.000000
Paint Correction Mask What : Mask/Paint
Paint Correction Mask Value : 1.000000
Paint Correction Mask Radius : 0.192123
Paint Correction Mask Flow : 0.500000
Paint Correction Mask Center Weight : 0.000000
Image Width : 201
Image Height : 300
Bits Per Sample : 8
Color Components : 3
Aperture : 11.0
Blue Balance : 0.761905
Image Size : 201x300
Megapixels : 0.060
Red Balance : 0.494208
Scale Factor To 35 mm Equivalent : 1.5
Shutter Speed : 1/125
Flash : Off, Did not fire
Circle Of Confusion : 0.021 mm
Depth Of Field : inf (1.74 m - inf)
Field Of View : 54.2 deg (5.63 m)
Focal Length : 24.0 mm (35 mm equivalent: 35.0 mm)
Hyperfocal Distance : 2.54 m
Light Value : 13.9
Lens ID : 24.0mm f/2.8