Uber Exif Photo
Copyright Notice : Patrik Nellhag
Copyright Flag : True
Make : LEICA CAMERA AG
Camera Model Name : LEICA X1
Software : 1.0
Modify Date : 2010:10:15 12:23:42
Copyright : Patrik Nellhag
Exposure Time : 1/250
F Number : 4.5
Exposure Program : Program AE
ISO : 100
Sensitivity Type : Unknown
Date/Time Original : 2010:10:01 14:53:46
Create Date : 2010:10:01 14:53:46
Shutter Speed Value : 1/250
Aperture Value : 4.5
Exposure Compensation : 0
Max Aperture Value : 2.8
Subject Distance : 3.67 m
Metering Mode : Multi-segment
Light Source : Unknown
Focal Length : 24.0 mm
Original File Name : L1010305.DNG
Original Directory : 101LEICA
Focus Distance : 3.667 m
Exposure Mode : Unknown (0 1 0 0)
File Index : 305
Film Mode : Standard
WB RGB Levels : 0.5541125541 1 0.6719160105
Internal Serial Number : 000000000000
Sensing Method : One-chip color area
Custom Rendered : Normal
White Balance : Auto
Digital Zoom Ratio : 1
Focal Length In 35mm Format : 35 mm
Scene Capture Type : Landscape
Contrast : Normal
Saturation : Normal
Sharpness : Normal
Serial Number : 000003817117
Lens Info : 24mm f/2.8
Lens Model : 24.0 mm f/2.8
Maker Note Safety : Safe
Profile Description : Adobe RGB (1998)
Date/Time Digitized : 2010:10:01 14:53:46+02:00
Exif Image Width : 1000
Exif Image Height : 669
Creator Tool : Adobe Photoshop Lightroom
Rating : 5
Lens : 24.0 mm f/2.8
Approximate Focus Distance : 3.67
Marked : True
Version : 6.2
Process Version : 5.7
Color Temperature : 4250
Tint : +32
Exposure : -0.10
Shadows : 23
Brightness : +50
Luminance Smoothing : 34
Color Noise Reduction : 39
Chromatic Aberration R : 0
Chromatic Aberration B : 0
Vignette Amount : -100
Vignette Midpoint : 74
Shadow Tint : 0
Red Hue : 0
Red Saturation : 0
Green Hue : 0
Green Saturation : 0
Blue Hue : 0
Blue Saturation : 0
Fill Light : 0
Vibrance : 0
Highlight Recovery : 29
Clarity : 0
Defringe : 0
Hue Adjustment Red : 0
Hue Adjustment Orange : 0
Hue Adjustment Yellow : 0
Hue Adjustment Green : 0
Hue Adjustment Aqua : 0
Hue Adjustment Blue : 0
Hue Adjustment Purple : 0
Hue Adjustment Magenta : 0
Saturation Adjustment Red : 0
Saturation Adjustment Orange : 0
Saturation Adjustment Yellow : 0
Saturation Adjustment Green : 0
Saturation Adjustment Aqua : 0
Saturation Adjustment Blue : 0
Saturation Adjustment Purple : 0
Saturation Adjustment Magenta : 0
Luminance Adjustment Red : 0
Luminance Adjustment Orange : 0
Luminance Adjustment Yellow : 0
Luminance Adjustment Green : 0
Luminance Adjustment Aqua : 0
Luminance Adjustment Blue : 0
Luminance Adjustment Purple : 0
Luminance Adjustment Magenta : 0
Split Toning Shadow Hue : 0
Split Toning Shadow Saturation : 0
Split Toning Highlight Hue : 60
Split Toning Highlight Saturation : 22
Split Toning Balance : 0
Parametric Shadows : 0
Parametric Darks : 0
Parametric Lights : 0
Parametric Highlights : 0
Parametric Shadow Split : 25
Parametric Midtone Split : 50
Parametric Highlight Split : 75
Sharpen Radius : +1.0
Sharpen Detail : 25
Sharpen Edge Masking : 0
Post Crop Vignette Amount : -52
Post Crop Vignette Midpoint : 50
Post Crop Vignette Feather : 50
Post Crop Vignette Roundness : 0
Post Crop Vignette Style : Highlight Priority
Post Crop Vignette Highlight Contrast : 0
Grain Amount : 0
Luminance Noise Reduction Detail : 50
Color Noise Reduction Detail : 50
Luminance Noise Reduction Contrast : 0
Lens Profile Enable : 0
Lens Manual Distortion Amount : 0
Perspective Vertical : 0
Perspective Horizontal : 0
Perspective Rotate : 0.0
Perspective Scale : 100
Convert To Grayscale : False
Tone Curve Name : Medium Contrast
Camera Profile : Embedded
Lens Profile Setup : LensDefaults
Has Settings : True
Crop Top : 0.03814
Crop Left : 0.158768
Crop Bottom : 0.710884
Crop Right : 0.812448
Crop Angle : 0.765
Crop Constrain To Warp : 0
Crop Width : 1000
Crop Height : 669
Crop Unit : pixels
Has Crop : True
Already Applied : True
Flash Fired : False
Flash Return : No return detection
Flash Mode : Off
Flash Function : False
Flash Red Eye Mode : False
Rights : Patrik Nellhag
Tone Curve : 0, 0, 32, 22, 64, 56, 128, 128, 192, 196, 255, 255
Paint Correction What : Correction
Paint Correction Amount : 1.000000
Paint Correction Active : true
Paint Correction Exposure : -0.294118
Paint Correction Saturation : 0.000000
Paint Correction Contrast : 0.000000
Paint Correction Clarity : 0.000000
Paint Correction Sharpness : 0.000000
Paint Correction Brightness : 0.000000
Paint Correction Toning Hue : 240.000000
Paint Correction Toning Saturation : 0.000000
Paint Correction Mask What : Mask/Paint
Paint Correction Mask Value : 1.000000
Paint Correction Mask Radius : 0.048121
Paint Correction Mask Flow : 0.500000
Paint Correction Mask Center Weight : 0.000000
Image Width : 300
Image Height : 201
Bits Per Sample : 8
Color Components : 3
Aperture : 4.5
Blue Balance : 0.671916
Image Size : 300x201
Megapixels : 0.060
Red Balance : 0.554113
Scale Factor To 35 mm Equivalent : 1.5
Shutter Speed : 1/250
Flash : Off, Did not fire
Circle Of Confusion : 0.021 mm
Depth Of Field : 6.55 m (2.31 - 8.87 m)
Field Of View : 54.1 deg (3.75 m)
Focal Length : 24.0 mm (35 mm equivalent: 35.0 mm)
Hyperfocal Distance : 6.21 m
Light Value : 12.3
Lens ID : 24.0mm f/2.8