Uber Exif Photo
Copyright Flag : False
Make : Noritsu
Camera Model Name : S2 Film Scanner
Orientation : Horizontal (normal)
Software : Adobe Photoshop CS3 Windows
Modify Date : 2008:11:07 11:52:16
Date/Time Original : 2008:11:04 17:50:34
Create Date : 2008:11:04 17:50:34
Color Space : Uncalibrated
Exif Image Width : 1286
Exif Image Height : 857
Date/Time Digitized : 2008:11:04 17:50:34-06:00
Creator Tool : Adobe Photoshop CS3 Windows
Rating : 0
Raw File Name : 022_19A.JPG
Version : 4.5
White Balance : Custom
Incremental Temperature : +100
Incremental Tint : +100
Exposure : 0.00
Shadows : 0
Brightness : -76
Contrast : -17
Sharpness : 0
Luminance Smoothing : 0
Color Noise Reduction : 0
Chromatic Aberration R : 0
Chromatic Aberration B : 0
Vignette Amount : 0
Shadow Tint : 0
Red Hue : 0
Red Saturation : 0
Green Hue : 0
Green Saturation : 0
Blue Hue : 0
Blue Saturation : 0
Fill Light : 26
Highlight Recovery : 100
Clarity : 0
Defringe : 0
Gray Mixer Red : +100
Gray Mixer Orange : +29
Gray Mixer Yellow : -16
Gray Mixer Green : -12
Gray Mixer Aqua : -20
Gray Mixer Blue : +5
Gray Mixer Purple : -7
Gray Mixer Magenta : -8
Split Toning Shadow Hue : 0
Split Toning Shadow Saturation : 0
Split Toning Highlight Hue : 0
Split Toning Highlight Saturation : 0
Split Toning Balance : 0
Parametric Shadows : 0
Parametric Darks : 0
Parametric Lights : 0
Parametric Highlights : 0
Parametric Shadow Split : 25
Parametric Midtone Split : 50
Parametric Highlight Split : 75
Sharpen Radius : +1.0
Sharpen Detail : 25
Sharpen Edge Masking : 0
Post Crop Vignette Amount : 0
Convert To Grayscale : True
Tone Curve Name : Linear
Camera Profile : Embedded
Has Settings : True
Crop Top : 0.04381
Crop Left : 0.171007
Crop Bottom : 0.87069
Crop Right : 0.992867
Crop Angle : 0
Crop Width : 2
Crop Height : 3
Crop Unit : Unknown (3)
Has Crop : True
Already Applied : True
Format : image/jpeg
Color Mode : Grayscale
ICC Profile Name : Gray Gamma 2.2
Tone Curve : 0, 0, 255, 255
Derived From :
Image Width : 300
Image Height : 200
Bits Per Sample : 8
Color Components : 1
Image Size : 300x200
Megapixels : 0.060
Scale Factor To 35 mm Equivalent : 2.4
Circle Of Confusion : 0.013 mm