Uber Exif Photo
Province-State : Siberia
Country-Primary Location Name : Russian Federation
Country-Primary Location Code : RUS
Keywords : Carl Zeiss, Leica, Leica M8, Leica M8.2, Novosibirsk, Planar, Planar 50/2 ZM, Planar T* 2.0/50 ZM, RUS, Russia, Siberia, Street life, Street photo, Titievsky, Valery, Valery Titievsky, Zeiss Planar 50mm f2.0, Zeiss ZM Planar, b&w, black & white, black and white, bw, frost, people, rangefinder, rf, snow, winter
By-line : Valery Titievsky
Caption-Abstract : 18.12.2010 Russia. Novosibirsk. ..(C) Photo Credit by: Valery Titievsky
Special Instructions : NO COPY!!! .All Images Copyright © Valery Titievsky. All Rights Reserved. Any usage without written permission is prohibited.
Copyright Notice : (C) Worldwide Rights/ Valery Titievsky
Make : Leica Camera AG
Camera Model Name : M8 Digital Camera
Orientation : Horizontal (normal)
Software : Adobe Photoshop CS5 Macintosh
Modify Date : 2010:12:18 20:03:45
Exposure Time : 1/30
F Number : 2.0
Exposure Program : Aperture-priority AE
ISO : 320
Sensitivity Type : Unknown
Date/Time Original : 2010:12:18 17:20:46
Create Date : 2010:12:18 17:20:46
Shutter Speed Value : 1/30
Aperture Value : 2.0
Exposure Compensation : -0.664
Max Aperture Value : 1.0
Metering Mode : Center-weighted average
Light Source : Unknown
Flash : Auto, Did not fire
Color Space : Uncalibrated
Exif Image Width : 804
Exif Image Height : 537
Scene Type : Directly photographed
White Balance : Auto
Digital Zoom Ratio : 0
Scene Capture Type : Standard
Serial Number : 3555745
Color Mode : Grayscale
ICC Profile Name : Dot Gain 20%
City : Novosibirsk
State : Siberia
Country : Russian Federation
Credit : Valery Titievsky
Headline : Street life
Instructions : NO COPY!!! .All Images Copyright © Valery Titievsky. All Rights Reserved. Any usage without written permission is prohibited.
Urgency : 5 (normal urgency)
Date Created : 2010:12:18 17:20:46+06:00
Creator Tool : 2.005
Rating : 0
Raw File Name : L1045651.dng
Version : 6.3
Process Version : 5.7
Color Temperature : 2550
Tint : +25
Exposure : +0.25
Shadows : 5
Brightness : +66
Contrast : +25
Saturation : 0
Sharpness : 25
Luminance Smoothing : 0
Color Noise Reduction : 25
Chromatic Aberration R : 0
Chromatic Aberration B : 0
Vignette Amount : 0
Shadow Tint : 0
Red Hue : 0
Red Saturation : 0
Green Hue : 0
Green Saturation : 0
Blue Hue : 0
Blue Saturation : 0
Fill Light : 0
Vibrance : 0
Highlight Recovery : 56
Clarity : 0
Defringe : 0
Hue Adjustment Red : 0
Hue Adjustment Orange : 0
Hue Adjustment Yellow : 0
Hue Adjustment Green : 0
Hue Adjustment Aqua : 0
Hue Adjustment Blue : 0
Hue Adjustment Purple : 0
Hue Adjustment Magenta : 0
Saturation Adjustment Red : 0
Saturation Adjustment Orange : 0
Saturation Adjustment Yellow : 0
Saturation Adjustment Green : 0
Saturation Adjustment Aqua : 0
Saturation Adjustment Blue : 0
Saturation Adjustment Purple : 0
Saturation Adjustment Magenta : 0
Luminance Adjustment Red : 0
Luminance Adjustment Orange : 0
Luminance Adjustment Yellow : 0
Luminance Adjustment Green : 0
Luminance Adjustment Aqua : 0
Luminance Adjustment Blue : 0
Luminance Adjustment Purple : 0
Luminance Adjustment Magenta : 0
Split Toning Shadow Hue : 0
Split Toning Shadow Saturation : 0
Split Toning Highlight Hue : 0
Split Toning Highlight Saturation : 0
Split Toning Balance : 0
Parametric Shadows : 0
Parametric Darks : 0
Parametric Lights : 0
Parametric Highlights : 0
Parametric Shadow Split : 25
Parametric Midtone Split : 50
Parametric Highlight Split : 75
Sharpen Radius : +1.0
Sharpen Detail : 25
Sharpen Edge Masking : 0
Post Crop Vignette Amount : 0
Grain Amount : 0
Color Noise Reduction Detail : 50
Lens Profile Enable : 0
Lens Manual Distortion Amount : 0
Perspective Vertical : 0
Perspective Horizontal : 0
Perspective Rotate : 0.0
Perspective Scale : 100
Convert To Grayscale : False
Tone Curve Name : Medium Contrast
Camera Profile : Adobe Standard
Lens Profile Setup : LensDefaults
Has Settings : True
Has Crop : False
Already Applied : True
Tone Curve : 0, 0, 32, 22, 64, 56, 128, 128, 192, 196, 255, 255
Format : image/jpeg
Subject : Carl Zeiss, Leica, Leica M8, Leica M8.2, Novosibirsk, Planar, Planar 50/2 ZM, Planar T* 2.0/50 ZM, RUS, Russia, Siberia, Street life, Street photo, Titievsky, Valery, Valery Titievsky, Zeiss Planar 50mm f2.0, Zeiss ZM Planar, b&w, black & white, black and white, bw, frost, people, rangefinder, rf, snow, winter
Description : 18.12.2010 Russia. Novosibirsk. ..(C) Photo Credit by: Valery Titievsky
Creator : Valery Titievsky
Rights : (C) Worldwide Rights/ Valery Titievsky
Marked : True
Prefs : Tagged:0, ColorClass:0, Rating:0, FrameNum:005651
Country Code : RUS
Creator Address : P.O. Box 32
Creator City : Novosibirsk
Creator Postal Code : 630106
Creator Country : Russia
Creator Work Telephone : +79139198264.+79231899064
Creator Work Email : dotfoto@gmail.com.dotfoto@ngs.ru
Creator Work URL : http://www.titievsky.com
Image Width : 300
Image Height : 200
Bits Per Sample : 8
Color Components : 1
Aperture : 2.0
Image Size : 300x200
Megapixels : 0.060
Scale Factor To 35 mm Equivalent : 6.6
Shutter Speed : 1/30
Circle Of Confusion : 0.005 mm
Light Value : 5.2