Uber Exif Photo
Make : Leica Camera AG
Camera Model Name : M9 Digital Camera
Software : 1.138
Modify Date : 2010:12:03 16:04:33
Exposure Time : 1/500
F Number : 4.0
Exposure Program : Manual
ISO : 160
Sensitivity Type : Unknown
Date/Time Original : 2010:10:02 13:06:43
Create Date : 2010:10:02 13:06:43
Shutter Speed Value : 1/500
Aperture Value : 4.0
Exposure Compensation : +0.332
Max Aperture Value : 1.0
Metering Mode : Center-weighted average
Light Source : Other
Contrast : Normal
Sharpening : Normal
Saturation : Normal
White Balance : Manual
JPEG Quality : Fine
WB RGB Levels : 0.439862543 1 0.7620819573
User Profile : PHAROLDO
JPEG Size : 5216x3472
Firmware Version : 1.138
Base ISO : 160
Sensor Width : 5270
Sensor Height : 3516
Sensor Bit Depth : 14
Camera Temperature : 23 C
Lens Type : Uncoded lens
Approximate F Number : 4.0
Measured LV : 4.96
External Sensor Brightness Value : 4.40
Scene Type : Directly photographed
Exposure Mode : Manual
Digital Zoom Ratio : 0
Scene Capture Type : Standard
Serial Number : 3904902
Maker Note Safety : Safe
Profile Description : sRGB IEC61966-2.1
Date/Time Digitized : 2010:10:02 13:06:43+02:00
Exif Image Width : 532
Exif Image Height : 800
Creator Tool : Adobe Photoshop Lightroom
Version : 6.2
Process Version : 5.7
Color Temperature : 6000
Tint : +13
Exposure : -0.60
Shadows : 0
Brightness : +77
Sharpness : 25
Luminance Smoothing : 0
Color Noise Reduction : 25
Chromatic Aberration R : 0
Chromatic Aberration B : 0
Vignette Amount : 0
Shadow Tint : 0
Red Hue : 0
Red Saturation : 0
Green Hue : 0
Green Saturation : 0
Blue Hue : 0
Blue Saturation : 0
Fill Light : 0
Vibrance : +72
Highlight Recovery : 43
Clarity : +100
Defringe : 0
Hue Adjustment Red : 0
Hue Adjustment Orange : +32
Hue Adjustment Yellow : -6
Hue Adjustment Green : 0
Hue Adjustment Aqua : 0
Hue Adjustment Blue : -4
Hue Adjustment Purple : 0
Hue Adjustment Magenta : 0
Saturation Adjustment Red : -27
Saturation Adjustment Orange : -20
Saturation Adjustment Yellow : -11
Saturation Adjustment Green : +39
Saturation Adjustment Aqua : 0
Saturation Adjustment Blue : 0
Saturation Adjustment Purple : -46
Saturation Adjustment Magenta : -18
Luminance Adjustment Red : -15
Luminance Adjustment Orange : +17
Luminance Adjustment Yellow : +48
Luminance Adjustment Green : +34
Luminance Adjustment Aqua : -39
Luminance Adjustment Blue : -60
Luminance Adjustment Purple : -27
Luminance Adjustment Magenta : -22
Split Toning Shadow Hue : 0
Split Toning Shadow Saturation : 8
Split Toning Highlight Hue : 225
Split Toning Highlight Saturation : 34
Split Toning Balance : -62
Parametric Shadows : -20
Parametric Darks : 0
Parametric Lights : +63
Parametric Highlights : +36
Parametric Shadow Split : 25
Parametric Midtone Split : 50
Parametric Highlight Split : 75
Sharpen Radius : +1.0
Sharpen Detail : 25
Sharpen Edge Masking : 0
Post Crop Vignette Amount : 0
Grain Amount : 0
Color Noise Reduction Detail : 50
Lens Profile Enable : 0
Lens Manual Distortion Amount : 0
Perspective Vertical : 0
Perspective Horizontal : 0
Perspective Rotate : 0.0
Perspective Scale : 100
Convert To Grayscale : False
Tone Curve Name : Medium Contrast
Camera Profile : Adobe Standard
Lens Profile Setup : LensDefaults
Has Settings : True
Has Crop : False
Already Applied : True
Flash Fired : False
Flash Return : No return detection
Flash Mode : Unknown
Flash Function : False
Flash Red Eye Mode : False
Tone Curve : 0, 0, 32, 22, 64, 56, 128, 128, 192, 196, 255, 255
Image Width : 200
Image Height : 300
Bits Per Sample : 8
Color Components : 3
Aperture : 4.0
Blue Balance : 0.762082
Image Size : 200x300
Lens ID : Uncoded lens
Megapixels : 0.060
Red Balance : 0.439863
Scale Factor To 35 mm Equivalent : 6.5
Shutter Speed : 1/500
Flash : No Flash
Circle Of Confusion : 0.005 mm
Light Value : 12.3