Uber Exif Photo
Keywords : hagen
Copyright Notice : dierk topp
Copyright Flag : True
Make : Leica Camera AG
Camera Model Name : M9 Digital Camera
Software : 1.116
Modify Date : 2010:12:13 21:47:29
Copyright : dierk topp
Exposure Time : 1/90
F Number : 4.8
Exposure Program : Aperture-priority AE
ISO : 1000
Date/Time Original : 2010:12:13 14:41:51
Create Date : 2010:12:13 14:41:51
Shutter Speed Value : 1/90
Aperture Value : 4.8
Exposure Compensation : 0
Max Aperture Value : 2.0
Metering Mode : Center-weighted average
Light Source : Unknown
Focal Length : 75.0 mm
Contrast : Normal
Sharpening : Normal
Saturation : Normal
JPEG Quality : Fine
White Balance : Auto
WB RGB Levels : 0.5417631109 1 0.6311248074
User Profile : Auto
JPEG Size : 5216x3472
Serial Number : 3834236
Firmware Version : 1.116
Base ISO : 160
Sensor Width : 5270
Sensor Height : 3516
Sensor Bit Depth : 14
Camera Temperature : 20 C
Lens Type : Apo-Summicron-M 75mm f/2 ASPH.
Approximate F Number : 4.5
Measured LV : 2.20
External Sensor Brightness Value : 1.70
Color Space : Uncalibrated
Scene Type : Directly photographed
Exposure Mode : Manual
Digital Zoom Ratio : 0
Focal Length In 35mm Format : 75 mm
Scene Capture Type : Standard
Maker Note Safety : Safe
Lens : Leica Apo-Summicron-M 75mm f/2 ASPH.
Rights : dierk topp
Subject : hagen
Date/Time Digitized : 2010:12:13 14:41:51Z
Flash Fired : False
Flash Function : False
Flash Mode : Unknown
Flash Red Eye Mode : False
Flash Return : No return detection
Exif Image Width : 741
Exif Image Height : 1000
Sharpness : Hard
Property Release Status : Unknown (nil)
PLUS Version : 1.2.0
Creator Tool : Adobe Photoshop Lightroom
Marked : True
Already Applied : True
Blue Hue : 0
Blue Saturation : 0
Brightness : +63
Camera Profile : Adobe Standard
Chromatic Aberration B : 0
Chromatic Aberration R : 0
Clarity : +4
Color Noise Reduction : 25
Convert To Grayscale : True
Crop Angle : 0
Crop Bottom : 1
Crop Height : 741
Crop Left : 0.075351
Crop Right : 0.973179
Crop Top : 0
Crop Unit : pixels
Crop Width : 1000
Defringe : 0
Exposure : +0.20
Fill Light : 10
Gray Mixer Aqua : -19
Gray Mixer Blue : +7
Gray Mixer Green : -25
Gray Mixer Magenta : +5
Gray Mixer Orange : -15
Gray Mixer Purple : +14
Gray Mixer Red : +7
Gray Mixer Yellow : -40
Green Hue : 0
Green Saturation : 0
Has Crop : True
Has Settings : True
Highlight Recovery : 53
Luminance Smoothing : 0
Parametric Darks : -6
Parametric Highlight Split : 75
Parametric Highlights : 0
Parametric Lights : -38
Parametric Midtone Split : 50
Parametric Shadow Split : 25
Parametric Shadows : +15
Post Crop Vignette Amount : -50
Post Crop Vignette Feather : 50
Post Crop Vignette Midpoint : 50
Post Crop Vignette Roundness : 0
Red Hue : 0
Red Saturation : 0
Shadow Tint : 0
Shadows : 30
Sharpen Detail : 36
Sharpen Edge Masking : 19
Sharpen Radius : +1.0
Split Toning Balance : 0
Split Toning Highlight Hue : 0
Split Toning Highlight Saturation : 0
Split Toning Shadow Hue : 0
Split Toning Shadow Saturation : 0
Color Temperature : 3600
Tint : 0
Tone Curve : 0, 0, 32, 22, 64, 56, 128, 128, 192, 196, 255, 255
Tone Curve Name : Medium Contrast
Version : 6.1
Vignette Amount : 0
Image Width : 228
Image Height : 300
Bits Per Sample : 8
Color Components : 1
Aperture : 4.8
Blue Balance : 0.631125
Image Size : 228x300
Lens ID : Apo-Summicron-M 75mm f/2 ASPH.
Megapixels : 0.068
Red Balance : 0.541763
Scale Factor To 35 mm Equivalent : 1.0
Shutter Speed : 1/90
Flash : No Flash
Circle Of Confusion : 0.030 mm
Field Of View : 27.0 deg
Focal Length : 75.0 mm (35 mm equivalent: 75.0 mm)
Hyperfocal Distance : 39.00 m
Light Value : 7.7