Uber Exif Photo
Copyright Flag : False
Make : LEICA
Camera Model Name : V-LUX 1
Orientation : Horizontal (normal)
Software : Adobe Photoshop CS5 Macintosh
Modify Date : 2010:12:12 12:43:06
Exposure Time : 1/250
F Number : 4.0
Exposure Program : Program AE
ISO : 100
Date/Time Original : 2009:05:24 06:14:38
Create Date : 2009:05:24 06:14:38
Shutter Speed Value : 1/250
Aperture Value : 4.0
Exposure Compensation : -0.33
Max Aperture Value : 2.8
Metering Mode : Multi-segment
Light Source : Unknown
Flash : Off, Did not fire
Focal Length : 15.2 mm
Color Space : Uncalibrated
Exif Image Width : 1641
Exif Image Height : 1715
Sensing Method : One-chip color area
Scene Type : Directly photographed
Custom Rendered : Custom
Exposure Mode : Auto
White Balance : Auto
Digital Zoom Ratio : 0
Focal Length In 35mm Format : 103 mm
Scene Capture Type : Standard
Gain Control : None
Contrast : Normal
Saturation : Normal
Sharpness : Soft
Profile Description : Adobe RGB (1998)
Creator Tool : Adobe Photoshop CS5 Macintosh
Rating : 1
Already Applied : True
Has Crop : False
Has Settings : True
Camera Profile : Embedded
Tone Curve Name : Linear
Convert To Grayscale : False
Post Crop Vignette Amount : 0
Sharpen Edge Masking : 0
Sharpen Detail : 25
Sharpen Radius : +1.0
Parametric Highlight Split : 75
Parametric Midtone Split : 50
Parametric Shadow Split : 25
Parametric Highlights : 0
Parametric Lights : 0
Parametric Darks : 0
Parametric Shadows : 0
Split Toning Balance : 0
Split Toning Highlight Saturation : 0
Split Toning Highlight Hue : 0
Split Toning Shadow Saturation : 0
Split Toning Shadow Hue : 0
Luminance Adjustment Magenta : 0
Luminance Adjustment Purple : 0
Luminance Adjustment Blue : 0
Luminance Adjustment Aqua : 0
Luminance Adjustment Green : 0
Luminance Adjustment Yellow : 0
Luminance Adjustment Orange : 0
Luminance Adjustment Red : 0
Saturation Adjustment Magenta : 0
Saturation Adjustment Purple : 0
Saturation Adjustment Blue : 0
Saturation Adjustment Aqua : 0
Saturation Adjustment Green : 0
Saturation Adjustment Yellow : 0
Saturation Adjustment Orange : 0
Saturation Adjustment Red : 0
Hue Adjustment Magenta : 0
Hue Adjustment Purple : 0
Hue Adjustment Blue : 0
Hue Adjustment Aqua : 0
Hue Adjustment Green : 0
Hue Adjustment Yellow : 0
Hue Adjustment Orange : 0
Hue Adjustment Red : 0
Defringe : 0
Clarity : +54
Highlight Recovery : 0
Vibrance : 0
Fill Light : 16
Blue Saturation : 0
Blue Hue : 0
Green Saturation : 0
Green Hue : 0
Red Saturation : 0
Red Hue : 0
Shadow Tint : 0
Vignette Amount : 0
Chromatic Aberration B : 0
Chromatic Aberration R : 0
Color Noise Reduction : 0
Luminance Smoothing : 0
Brightness : 0
Shadows : 0
Exposure : +0.30
Incremental Tint : +21
Incremental Temperature : +5
Version : 4.6
Raw File Name : L1040088.JPG
Format : image/jpeg
ICC Profile Name : Adobe RGB (1998)
Color Mode : RGB
Date Created : 2009:05:24 06:14:38
Marked : False
Tone Curve : 0, 0, 255, 255
Image Width : 287
Image Height : 300
Bits Per Sample : 8
Color Components : 3
Aperture : 4.0
Image Size : 287x300
Megapixels : 0.086
Scale Factor To 35 mm Equivalent : 6.8
Shutter Speed : 1/250
Circle Of Confusion : 0.004 mm
Field Of View : 19.8 deg
Focal Length : 15.2 mm (35 mm equivalent: 103.0 mm)
Hyperfocal Distance : 13.03 m
Light Value : 12.0