Uber Exif Photo
Make : Leica Camera AG
Camera Model Name : M9 Digital Camera
Software : 1.138
Modify Date : 2010:12:11 11:04:19
Exposure Time : 1/45
F Number : 2.8
Exposure Program : Aperture-priority AE
ISO : 800
Sensitivity Type : Unknown
Date/Time Original : 2010:12:11 09:49:37
Create Date : 2010:12:11 09:49:37
Shutter Speed Value : 1/45
Aperture Value : 2.8
Exposure Compensation : 0
Max Aperture Value : 2.0
Metering Mode : Center-weighted average
Light Source : Unknown
Focal Length : 50.0 mm
Contrast : Normal
Sharpening : Normal
Saturation : Black & White
White Balance : Auto
JPEG Quality : Fine
WB RGB Levels : 0.4858405243 1 0.7092333665
User Profile : Profile 1
JPEG Size : 5216x3472
Firmware Version : 1.138
Base ISO : 160
Sensor Width : 5270
Sensor Height : 3516
Sensor Bit Depth : 14
Camera Temperature : 17 C
Lens Type : Summicron-M 50mm f/2 (IV, V)
Approximate F Number : 3.0
Measured LV : 1.78
External Sensor Brightness Value : 0.44
Scene Type : Directly photographed
Exposure Mode : Manual
Digital Zoom Ratio : 0
Focal Length In 35mm Format : 50 mm
Scene Capture Type : Standard
Serial Number : 3971291
Lens Model : Leica Summicron-M 50mm f/2 (IV, V)
Maker Note Safety : Safe
Profile Description : sRGB IEC61966-2.1
Date/Time Digitized : 2010:12:11 09:49:37+01:00
Exif Image Width : 2066
Exif Image Height : 3105
Creator Tool : Adobe Photoshop Lightroom 3.3
Lens : Leica Summicron-M 50mm f/2 (IV, V)
Version : 6.3
Process Version : 5.7
Color Temperature : 4300
Tint : +4
Exposure : 0.00
Shadows : 4
Brightness : +14
Sharpness : 0
Luminance Smoothing : 0
Color Noise Reduction : 25
Chromatic Aberration R : 0
Chromatic Aberration B : 0
Vignette Amount : -71
Vignette Midpoint : 32
Shadow Tint : 0
Red Hue : 0
Red Saturation : 0
Green Hue : 0
Green Saturation : 0
Blue Hue : 0
Blue Saturation : 0
Fill Light : 52
Highlight Recovery : 0
Clarity : -60
Defringe : 0
Gray Mixer Red : -7
Gray Mixer Orange : -15
Gray Mixer Yellow : -18
Gray Mixer Green : -23
Gray Mixer Aqua : -19
Gray Mixer Blue : +6
Gray Mixer Purple : +12
Gray Mixer Magenta : +4
Split Toning Shadow Hue : 215
Split Toning Shadow Saturation : 12
Split Toning Highlight Hue : 57
Split Toning Highlight Saturation : 20
Split Toning Balance : 0
Parametric Shadows : -69
Parametric Darks : +21
Parametric Lights : +48
Parametric Highlights : 0
Parametric Shadow Split : 25
Parametric Midtone Split : 50
Parametric Highlight Split : 75
Sharpen Radius : +1.0
Sharpen Detail : 25
Sharpen Edge Masking : 0
Post Crop Vignette Amount : 0
Grain Amount : 0
Color Noise Reduction Detail : 50
Lens Profile Enable : 0
Lens Manual Distortion Amount : 0
Perspective Vertical : 0
Perspective Horizontal : 0
Perspective Rotate : 0.0
Perspective Scale : 100
Convert To Grayscale : True
Tone Curve Name : Linear
Camera Profile : Adobe Standard
Lens Profile Setup : LensDefaults
Has Settings : True
Crop Top : 0.091623
Crop Left : 0.417726
Crop Bottom : 0.986911
Crop Right : 0.814106
Crop Angle : 0
Crop Constrain To Warp : 0
Crop Width : 2066
Crop Height : 3105
Crop Unit : pixels
Has Crop : True
Already Applied : True
Flash Fired : False
Flash Return : No return detection
Flash Mode : Unknown
Flash Function : False
Flash Red Eye Mode : False
Tone Curve : 0, 0, 255, 255
Gradient Based Corr What : Correction
Gradient Based Corr Amount : 1.000000
Gradient Based Corr Active : true
Gradient Based Corr Exposure : 0.000000
Gradient Based Corr Saturation : 0.000000
Gradient Based Corr Contrast : 0.000000
Gradient Based Corr Clarity : 0.000000
Gradient Based Corr Sharpness : 0.000000
Gradient Based Corr Brightness : 0.000000
Gradient Based Corr Toning Hue : 201.000000
Gradient Based Corr Toning Saturation : 0.035000
Gradient Based Corr Mask What : Mask/Gradient
Gradient Based Corr Mask Value : 1.000000
Gradient Based Corr Mask Zero X : -0.577320
Gradient Based Corr Mask Zero Y : 0.534070
Gradient Based Corr Mask Full X : 1.005160
Gradient Based Corr Mask Full Y : 0.176796
Image Width : 200
Image Height : 300
Bits Per Sample : 8
Color Components : 3
Aperture : 2.8
Blue Balance : 0.709233
Image Size : 200x300
Lens ID : Leica Summicron-M 50mm f/2 (IV, V)
Megapixels : 0.060
Red Balance : 0.485841
Scale Factor To 35 mm Equivalent : 1.0
Shutter Speed : 1/45
Flash : No Flash
Circle Of Confusion : 0.030 mm
Field Of View : 39.6 deg
Focal Length : 50.0 mm (35 mm equivalent: 50.0 mm)
Hyperfocal Distance : 29.72 m
Light Value : 5.5