Uber Exif Photo
Make : LEICA CAMERA AG
Camera Model Name : LEICA X1
Software : 1.0
Modify Date : 2010:12:11 09:27:00
Exposure Time : 1/100
F Number : 4.0
Exposure Program : Program AE
ISO : 200
Sensitivity Type : Unknown
Date/Time Original : 2010:12:10 17:47:21
Create Date : 2010:12:10 17:47:21
Shutter Speed Value : 1/100
Aperture Value : 4.0
Exposure Compensation : 0
Max Aperture Value : 2.8
Subject Distance : 1.8 m
Metering Mode : Multi-segment
Light Source : Unknown
Focal Length : 24.0 mm
Sensing Method : One-chip color area
Custom Rendered : Custom
White Balance : Auto
Digital Zoom Ratio : 1
Focal Length In 35mm Format : 35 mm
Scene Capture Type : Landscape
Contrast : High
Saturation : Normal
Sharpness : Hard
Date/Time Digitized : 2010:12:10 17:47:21+08:00
Exif Image Width : 4272
Exif Image Height : 2856
Creator Tool : Adobe Photoshop Lightroom 3.3
Approximate Focus Distance : 1.8
Version : 6.3
Process Version : 5.7
Incremental Temperature : 0
Incremental Tint : 0
Exposure : 0.00
Shadows : 0
Brightness : 0
Luminance Smoothing : 0
Color Noise Reduction : 0
Chromatic Aberration R : 0
Chromatic Aberration B : 0
Vignette Amount : 0
Shadow Tint : 0
Red Hue : 0
Red Saturation : 0
Green Hue : 0
Green Saturation : 0
Blue Hue : 0
Blue Saturation : 0
Fill Light : 0
Highlight Recovery : 0
Clarity : 0
Defringe : 0
Gray Mixer Red : -9
Gray Mixer Orange : -19
Gray Mixer Yellow : -23
Gray Mixer Green : -27
Gray Mixer Aqua : -19
Gray Mixer Blue : +9
Gray Mixer Purple : +15
Gray Mixer Magenta : +4
Split Toning Shadow Hue : 0
Split Toning Shadow Saturation : 0
Split Toning Highlight Hue : 0
Split Toning Highlight Saturation : 0
Split Toning Balance : 0
Parametric Shadows : 0
Parametric Darks : -20
Parametric Lights : -13
Parametric Highlights : 0
Parametric Shadow Split : 25
Parametric Midtone Split : 50
Parametric Highlight Split : 75
Sharpen Radius : +1.0
Sharpen Detail : 25
Sharpen Edge Masking : 0
Post Crop Vignette Amount : -36
Post Crop Vignette Midpoint : 50
Post Crop Vignette Feather : 39
Post Crop Vignette Roundness : 0
Post Crop Vignette Style : Highlight Priority
Post Crop Vignette Highlight Contrast : 0
Grain Amount : 11
Grain Size : 31
Grain Frequency : 50
Lens Profile Enable : 0
Lens Manual Distortion Amount : 0
Perspective Vertical : 0
Perspective Horizontal : 0
Perspective Rotate : 0.0
Perspective Scale : 100
Convert To Grayscale : True
Tone Curve Name : Linear
Camera Profile : Embedded
Lens Profile Setup : LensDefaults
Has Settings : True
Has Crop : False
Already Applied : True
Flash Fired : False
Flash Return : No return detection
Flash Mode : Off
Flash Function : False
Flash Red Eye Mode : False
Tone Curve : 0, 0, 255, 255
Image Width : 300
Image Height : 201
Bits Per Sample : 8
Color Components : 1
Aperture : 4.0
Image Size : 300x201
Megapixels : 0.060
Scale Factor To 35 mm Equivalent : 1.5
Shutter Speed : 1/100
Flash : Off, Did not fire
Circle Of Confusion : 0.021 mm
Depth Of Field : 0.98 m (1.44 - 2.41 m)
Field Of View : 54.4 deg
Focal Length : 24.0 mm (35 mm equivalent: 35.0 mm)
Hyperfocal Distance : 6.99 m
Light Value : 9.6